BEGIN:VCALENDAR
VERSION:2.0
PRODID:-//Netzwerk Tolerantes Sachsen - ECPv6.15.18//NONSGML v1.0//EN
CALSCALE:GREGORIAN
METHOD:PUBLISH
X-WR-CALNAME:Netzwerk Tolerantes Sachsen
X-ORIGINAL-URL:https://www.tolerantes-sachsen.de
X-WR-CALDESC:Veranstaltungen für Netzwerk Tolerantes Sachsen
REFRESH-INTERVAL;VALUE=DURATION:PT1H
X-Robots-Tag:noindex
X-PUBLISHED-TTL:PT1H
BEGIN:VTIMEZONE
TZID:Europe/Berlin
BEGIN:DAYLIGHT
TZOFFSETFROM:+0100
TZOFFSETTO:+0200
TZNAME:CEST
DTSTART:20230326T010000
END:DAYLIGHT
BEGIN:STANDARD
TZOFFSETFROM:+0200
TZOFFSETTO:+0100
TZNAME:CET
DTSTART:20231029T010000
END:STANDARD
BEGIN:DAYLIGHT
TZOFFSETFROM:+0100
TZOFFSETTO:+0200
TZNAME:CEST
DTSTART:20240331T010000
END:DAYLIGHT
BEGIN:STANDARD
TZOFFSETFROM:+0200
TZOFFSETTO:+0100
TZNAME:CET
DTSTART:20241027T010000
END:STANDARD
BEGIN:DAYLIGHT
TZOFFSETFROM:+0100
TZOFFSETTO:+0200
TZNAME:CEST
DTSTART:20250330T010000
END:DAYLIGHT
BEGIN:STANDARD
TZOFFSETFROM:+0200
TZOFFSETTO:+0100
TZNAME:CET
DTSTART:20251026T010000
END:STANDARD
END:VTIMEZONE
BEGIN:VEVENT
DTSTART;VALUE=DATE:20240822
DTEND;VALUE=DATE:20240825
DTSTAMP:20260424T100352
CREATED:20240611T103415Z
LAST-MODIFIED:20240611T103415Z
UID:25700-1724284800-1724543999@www.tolerantes-sachsen.de
SUMMARY:Bildungsreise: Facetten der NS-Geschichte | Berlin und Ravensbrück
DESCRIPTION:Berlin und Ravensbrück – Facetten der NS-Geschichte\nLager\, Widerstand\, Exil – wir wollen auf dieser Reise verschiedene Facetten der NS-Geschichte in den Blick nehmen. Neben der Auseinandersetzung mit diesen drei Aspekten interessiert uns dabei auch die Frage\, wie heute daran erinnert und darüber gelernt wird. Ravensbrück als das größte Konzentrationslager für Frauen auf deutschem Gebiet setzt dabei den inhaltlichen Ton: Ein besonderes Augenmerk soll auf der Rolle von Frauen liegen\, ob als Opfer\, Täterinnen oder aktiv im Widerstand. \n\nVorläufiges Programm \nTag 1: Berlin – Widerstand der stillen Helden \n\n7:00 Uhr Start im Herbert-Wehner-Haus: Begrüßung\, Kennenlernen und Erwartungsabfrage\nAnreise\nBegleiteter Stadtrundgang „Erinnerung im Stadtraum“ Berlin\nBesuch der Dauerausstellung in der Gedenkstätte Stille Helden – Widerstand gegen die Judenverfolgung in Europa 1933 bis 1945\n\nTag 2: Gedenkstätte Ravensbrück – Widerstand von Frauen \n\nTransfer nach Ravensbrück\nBesuch der Mahn- und Gedenkstätte Ravensbrück – Überblicksführung in der zentralen Ausstellung\nBegleiteter Rundgang über das Gelände\nVorstellung und Diskussion ausgewählter Biografien der zentralen Ausstellung „Frauen-Konzentrationslager Ravensbrück“ mit einer Vertiefung zum Thema „Die Rolle von Frauen als Opfer\, Täterinnen oder aktiv im Widerstand“\nAuswertung und Reflexion der Erkenntnisse in der Gruppe\n\nTag 3: Berlin: (neue) Stadt- und Lernräume der Erinnerung \n\nBegleiteter Spaziergang zum S-Bahnhof Grunewald – Mahnmal Gleis 17\nGesprächsrunde zum Thema „Verändernde Formate des Erinnerns und Erkundung von Erinnerungsorten“\nRückreise nach Dresden\nAnkunft ca. 16:30 Uhr\n\nWeitere Informationen und Anmeldung
URL:https://www.tolerantes-sachsen.de/veranstaltung/bildungsreise-facetten-der-ns-geschichte-berlin-und-ravensbrueck/
CATEGORIES:Bildungsreise | Bildungstag
END:VEVENT
END:VCALENDAR