BEGIN:VCALENDAR
VERSION:2.0
PRODID:-//Netzwerk Tolerantes Sachsen - ECPv6.15.18//NONSGML v1.0//EN
CALSCALE:GREGORIAN
METHOD:PUBLISH
X-WR-CALNAME:Netzwerk Tolerantes Sachsen
X-ORIGINAL-URL:https://www.tolerantes-sachsen.de
X-WR-CALDESC:Veranstaltungen für Netzwerk Tolerantes Sachsen
REFRESH-INTERVAL;VALUE=DURATION:PT1H
X-Robots-Tag:noindex
X-PUBLISHED-TTL:PT1H
BEGIN:VTIMEZONE
TZID:Europe/Berlin
BEGIN:DAYLIGHT
TZOFFSETFROM:+0100
TZOFFSETTO:+0200
TZNAME:CEST
DTSTART:20250330T010000
END:DAYLIGHT
BEGIN:STANDARD
TZOFFSETFROM:+0200
TZOFFSETTO:+0100
TZNAME:CET
DTSTART:20251026T010000
END:STANDARD
BEGIN:DAYLIGHT
TZOFFSETFROM:+0100
TZOFFSETTO:+0200
TZNAME:CEST
DTSTART:20260329T010000
END:DAYLIGHT
BEGIN:STANDARD
TZOFFSETFROM:+0200
TZOFFSETTO:+0100
TZNAME:CET
DTSTART:20261025T010000
END:STANDARD
BEGIN:DAYLIGHT
TZOFFSETFROM:+0100
TZOFFSETTO:+0200
TZNAME:CEST
DTSTART:20270328T010000
END:DAYLIGHT
BEGIN:STANDARD
TZOFFSETFROM:+0200
TZOFFSETTO:+0100
TZNAME:CET
DTSTART:20271031T010000
END:STANDARD
END:VTIMEZONE
BEGIN:VEVENT
DTSTART;VALUE=DATE:20260505
DTEND;VALUE=DATE:20260509
DTSTAMP:20260420T104718
CREATED:20260108T160019Z
LAST-MODIFIED:20260108T160019Z
UID:32772-1777939200-1778284799@www.tolerantes-sachsen.de
SUMMARY:BREMEN – Zwischen Hafen\, Vielfalt & Visionen | Dresden & Bremen
DESCRIPTION:Bremen als bunte Großstadt am und im Fluss − immer im Spannungsfeld zwischen sozialer Gerechtigkeit\, Migration\, politischer Vielfalt und nachhaltigen Zukunftsvisionen. Im Austausch mit Engagierten vor Ort\, bei inspirierenden Workshops und spannenden Stadtspaziergängen bekommt ihr Einblicke in Fragen der Integration\, der nachhaltigen Mobilität und des Schutzes vor steigenden Meeresspiegeln. Die Themen Medienarbeit und interkultureller Dialog runden diese Erkenntnisreise ab. \n\nVorläufiges Programm \nTag 1: Das soziale Bremen \n\nAnreise\npolitisch-historischer Stadtrundgang – Stadtwege der sozialen Gerechtigkeit? Tour durch das Bremer Bahnhofsviertel\n\nTag 2: Migrationsgesellschaft \n\nWorkshop im Virtuellen Museum für Migration: Thema »Arbeitsmigration nach Deutschland«\nAustausch mit einem Mitglied des »Bremer Rates für Teilhabe und Diversität in der Migrationsgesellschaft«\npolitischer Stadtrundgang: Extreme Parteien\n\nTag 3: Bremen und das Klima \n\nGespräch mit dem ADFC über Bremen als Fahrradstadt\nBesuch der Ausstellung »Living at the Urban Seafront«\nStadtrundgang zu nachhaltigen Verkehrskonzepten\n\nTag 4: Bremen interkulturell \n\nBesuch beim RadioCOSMO\nRückreise nach Dresden\n\nOrt/Treffpunkt\n\nStart im Herbert-Wehner-Bildungswerk\nDevrientstr. 7\nDresden 01067 \n\nPreis\n\n325\,- €\n300\,- € für Mitglieder im Freundeskreis Herbert-Wehner-Bildungswerk\nEinzelzimmerzuschlag ca. 163\,80 €  \n\n\nUnterkunft:\nPentahotel Bremen\, August-Bebel-Allee 4\, 28329 Bremen \n\nDie Reise startet und endet in Dresden\, Zustiege entlang der Fahrtroute sind auf Anfrage möglich. Auch die eigene Anreise ist möglich. \n\nTeilnahmebedingungen | Infos zum barrierefreien Zugang \n\nAnmeldeformular öffnen \nWeitere Informationen
URL:https://www.tolerantes-sachsen.de/veranstaltung/bremen-zwischen-hafen-vielfalt-visionen-dresden-bremen/
LOCATION:Stadt Dresden
CATEGORIES:Bildungsreise | Bildungstag
END:VEVENT
BEGIN:VEVENT
DTSTART;TZID=Europe/Berlin:20260507T163000
DTEND;TZID=Europe/Berlin:20260507T180000
DTSTAMP:20260420T104718
CREATED:20260410T072544Z
LAST-MODIFIED:20260410T072544Z
UID:33873-1778171400-1778176800@www.tolerantes-sachsen.de
SUMMARY:Infoabend für einjährige Weiterbildung: Zusammenwachsen – BnE in Krisenzeiten | Leipzig & digital
DESCRIPTION:Das Konzeptwerk Neue Ökonomie e. V. organisiert von September 2026 bis September 2027 die (berufsbegleitende) Weiterbildung „Zusammenwachsen – Bildung für Nachhaltige Entwicklung in Krisenzeiten“. \nSie richtet sich primär an Personen\, die bereits Erfahrungen in der Bildungsarbeit mit Jugendlichen oder Erwachsenen haben und diese vertiefen und erweitern möchten. Für Neueinsteiger*innen ist die Weiterbildung auch möglich. \nWas Dich erwarten würde: \n\nacht intensive Wochenend-Module zwischen September 2026 und September 2027\nniedrigschwellige Zugänge und kritische Reflexionsräume für komplexe Zusammenhänge\nRaum für Emotionen\, Selbsterfahrung und Unsicherheiten\npositive Zukunftsvorstellungen\, Utopien und Selbstwirksamkeit stärken lernen\nIntervisionsgruppen\nbegleitete Planung\, Durchführung und Reflexion eines eigenen Bildungsangebots\neigenständige Lektüre und Reflexionsaufgaben zwischen den Modulen\nindividuelle Beratungsmöglichkeiten zwischen den Modulen\n\nAm Infoabend gibt es die Gelegenheit\, mehr über unsere Arbeitsweise\, zu den Referent*innen\, den einzelnen Modulen und den gestaffelten Preisen zu erfahren sowie offene Fragen zu klären. \nDie Veranstaltung findet hybrid in den Büroräumen des Konzeptwerks und online statt.  \nDer Infoabend ist ein optionales Angebot und keine Voraussetzung für die Teilnahme an der Weiterbildung. \nDie Veranstaltung findet hybrid statt. \nAdresse:\nKlingenstr. 22\nHinterhofgebäude (siehe Infotafel an der Straße)\nim Büro des Konzeptwerks\, 1. Stock\n04249 Leipzig\nDeutschland \nLink zum Online Call wird nach der Anmeldung zugesendet. \nWeitere Informationen & Anmeldung
URL:https://www.tolerantes-sachsen.de/veranstaltung/infoabend-fuer-einjaehrige-weiterbildung-zusammenwachsen-bne-in-krisenzeiten-leipzig-digital/
LOCATION:Stadt Leipzig
CATEGORIES:Vortrag
END:VEVENT
BEGIN:VEVENT
DTSTART;TZID=Europe/Berlin:20260507T170000
DTEND;TZID=Europe/Berlin:20260507T183000
DTSTAMP:20260420T104718
CREATED:20260417T091503Z
LAST-MODIFIED:20260417T091503Z
UID:33911-1778173200-1778178600@www.tolerantes-sachsen.de
SUMMARY:Grundlagen des Versammlungsrecht – Handlungssicherheit für Aktive | digital
DESCRIPTION:Versammlungen und Kundgebungen im öffentlichen Raum sind ein zentraler Bestandteil demokratischer Kultur und politischer Willensbildung. In Zeiten aufgeheizter Debatten und öffentlicher Polarisierung sind sie häufig mit besonderen Herausforderungen verbunden – sowohl im Umgang mit behördlichen Auflagen als auch mit rechten Störmanövern. Im Webinar gibt Jasper Prigge\, Rechtsanwalt aus Düsseldorf\, eine kompakte Einführung in die Grundlagen des Versammlungsrechts. Er zeigt\, welche Handlungsspielräume und Rechte Versammlungsleiter*innen haben und wie sie diese souverän nutzen können. Er stellt aktuelle Entwicklungen und rechtliche Rahmenbedingungen vor und gibt Hinweise aus seiner juristischen Praxis. Im Kontext der anstehenden Wahlen in Mecklenburg-Vorpommern und Sachsen-Anhalt liegt ein besonderer Fokus auf den Polizeigesetzen und der Praxis in diesen Bundesländern. Im Anschluss besteht die Möglichkeit für Fragen und Diskussion. \n\nVeranstaltet von: Allianz für Rechtssicherheit und Zusammen für Demokratie.\n\nVeranstaltung am 07.05.2026 von 17.00-18.30\, online. Der Link wird kurz vor der Veranstaltung verschickt.\nWeitere Informationen & Anmeldung
URL:https://www.tolerantes-sachsen.de/veranstaltung/grundlagen-des-versammlungsrecht-handlungssicherheit-fuer-aktive-digital/
LOCATION:digital
CATEGORIES:Seminar | Workshop
END:VEVENT
BEGIN:VEVENT
DTSTART;TZID=Europe/Berlin:20260512T173000
DTEND;TZID=Europe/Berlin:20260512T193000
DTSTAMP:20260420T104718
CREATED:20251205T085336Z
LAST-MODIFIED:20251205T085336Z
UID:32488-1778607000-1778614200@www.tolerantes-sachsen.de
SUMMARY:Kommunaldiplom: Gestaltungsräume in der Kommunalpolitik: Städtebau (MODUL 5) | digital
DESCRIPTION:In diesem Modul unseres Kommunaldiploms widmen wir uns dem Thema Städtebau. Anhand des Bauplanungs- und Baurechts lernen wir kommunale Gestaltungsmöglichkeiten in der Ratsarbeit kennen. Außerdem bekommen wir einen Einblick in die praktische Ausschussarbeit und lernen\, Bebauungspläne zu lesen und zu verstehen. \nReferent: Stefan Engel\, Stadtrat in Dresden \n\nIn dieser Workshopreihe lernen die Teilnehmenden den Willensbildungsprozess in kommunalen Gremien kennen. Rechte und Pflichten der Ratsmitglieder werden ebenso thematisiert wie die wichtigsten Themenfelder sozialdemokratischer Kommunalpolitik. Ziel ist es\, individuelle Perspektiven zu eröffnen und damit Interessierten eine Art Starthilfe für den Weg zu einem Mandat zu geben.\nDie Leidenschaft für die kommunale Politik bringt ihr mit. Das Wissen und Können erhaltet ihr in den Seminaren des Wehnerwerks. \n\nAnmeldeformular öffnen \nWeitere Informationen
URL:https://www.tolerantes-sachsen.de/veranstaltung/kommunaldiplom-gestaltungsraeume-in-der-kommunalpolitik-staedtebau-modul-5-digital/
LOCATION:digital
CATEGORIES:Seminar | Workshop
END:VEVENT
BEGIN:VEVENT
DTSTART;TZID=Europe/Berlin:20260512T180000
DTEND;TZID=Europe/Berlin:20260512T210000
DTSTAMP:20260420T104718
CREATED:20260305T084022Z
LAST-MODIFIED:20260305T084022Z
UID:33384-1778608800-1778619600@www.tolerantes-sachsen.de
SUMMARY:Stark im Gegenwind: Mit Selbstbewusstsein in der Kommunalpolitik aktiv sein | digital
DESCRIPTION:Du erlebst in deiner kommunalpolitischen Arbeit immer wieder Anfeindungen\, verbale Angriffe oder subtile Ausgrenzungen? In diesem Workshop erhältst du praxisnahe Impulse\, wie du deine emotionale Widerstandsfähigkeit stärken und belastende Situationen konstruktiv verarbeiten kannst. \nIn dieser Veranstaltung \n\nreflektierst du typische Situationen von Ablehnung\, Angriffen oder subtilen Grenzverletzungen in kommunalen Gremien\nlernst du Strategien kennen\, um deinen Selbstwert aktiv zu stärken\narbeitest du mit Übungen zur emotionalen Resilienz und zum Umgang mit Stressmomenten in deinem Ehrenamt\nerhältst du Raum für offenen Austausch\, kollegiale Unterstützung und neue Perspektiven\n\nDiese Veranstaltung ist für dich\, wenn du… \n\nkommunalpolitisch engagiert bist und dich manchmal durch Anfeindungen oder Druck überfordert fühlst\nlernen möchtest\, schwierige Situationen ohne Rückzug oder Zynismus zu bewältigen\nInteresse daran hast\, deine Handlungsfähigkeit und Resilienz im kommunalpolitischen Alltag zu stärken\n\nDas nimmst du mit\nAm Ende weißt du\, wie du dich innerlich stabilisierst\, wenn Diskussionen kippen oder dir jemand verbal zu nahetritt. Du entwickelst eine klarere Haltung\, gewinnst Sicherheit in herausfordernden Situationen und gehst mit neuer Energie in dein Engagement. \n\nOrganisatorisches\nWir freuen uns\, dass wir alle unsere Veranstaltungen kostenfrei anbieten können. Für unsere Arbeit sind wir jedoch auf eure Unterstützung angewiesen. Jeder Beitrag\, egal wie klein\, hilft uns\, unsere Veranstaltungen zu realisieren. Weitere Informationen dazu\, wie ihr uns unterstützen könnt und was eure Spende bewirkt\, findet ihr hier.\n\n\nWeitere Informationen & Anmeldung
URL:https://www.tolerantes-sachsen.de/veranstaltung/stark-im-gegenwind-mit-selbstbewusstsein-in-der-kommunalpolitik-aktiv-sein-digital/
LOCATION:digital
CATEGORIES:Seminar | Workshop
END:VEVENT
BEGIN:VEVENT
DTSTART;TZID=Europe/Berlin:20260514T160000
DTEND;TZID=Europe/Berlin:20260514T180000
DTSTAMP:20260420T104718
CREATED:20260409T084131Z
LAST-MODIFIED:20260409T084131Z
UID:33852-1778774400-1778781600@www.tolerantes-sachsen.de
SUMMARY:Workshop: Werde Filmvorführer*in! | digital
DESCRIPTION:Vereine und Privatpersonen\, die Menschen für gemeinsame Filmerlebnisse in der Region zusammenbringen wollen\, aber denen das nötige Know-how fehlt\, können sich in unseren kostenfreien Workshops zum/zur Filmvorführer*in weiterbilden. \nDer Workshop steht allen Interessierten frei zur Verfügung. \n▶️ Anmeldung: Anmeldung bitte per Mail an m.ditscherlein@filmverband-sachsen.de. \n▶️ Zugangslink: https://teams.microsoft.com/meet/37951274647437?p=sbgqbpe5lSyLOBZYeY \nDer circa vierstündige Workshop befasst sich umfassend mit allem\, was für die erfolgreiche Organisation und Durchführung einer eigenen öffentlichen Filmveranstaltung notwendig ist: \n▶️ Vorführrechte (kommerzielle und nichtkommerzielle Verleihe\, Eintrittsgelder\, GEMA) \n▶️ Programmauswahl \n▶️ Veranstaltungsorganisation (Anmeldung und gesetzlicher Rahmen) \n▶️ Projektionstechnik (auf die Veranstaltung angepasst und kosteneffizient) \n▶️ Marketing / Pressearbeit \nNeben der Wissensvermittlung\, begleitet durch veranschaulichendes Bildmaterial\, gibt es nach dem Workshop für Teilnehmer:innen die Möglichkeit\, individuelle Fragen zu stellen und Kontakte für eine spätere Beratung und Vernetzung aufzubauen. \nWeitere Informationen\n 
URL:https://www.tolerantes-sachsen.de/veranstaltung/workshop-werde-filmvorfuehrerin-digital/
LOCATION:digital
CATEGORIES:Seminar | Workshop
END:VEVENT
BEGIN:VEVENT
DTSTART;TZID=Europe/Berlin:20260519T190000
DTEND;TZID=Europe/Berlin:20260519T211500
DTSTAMP:20260420T104718
CREATED:20260312T124504Z
LAST-MODIFIED:20260312T124552Z
UID:33549-1779217200-1779225300@www.tolerantes-sachsen.de
SUMMARY:Kontrovers vor Ort: Der öffentliche Dienst im Fadenkreuz. Wie Demokratiefeinde Justiz\, Polizei\, Schule und Verwaltung unterwandern |
DESCRIPTION:Vortrag und Diskussion mit Prof. Dr. Tom Thieme oder Prof. Dr. Tom Mannewitz\n\n\nDer Vortrag beleuchtet die Strategien von Extremisten\, wie sie staatliche Institutionen kapern und ihrer Handlungsfähigkeit berauben. Sie tun dies\, indem sie Amtsträger manipulieren und zum Widerstand aufrufen; indem sie den Staat sabotieren und ihn lahmlegen wollen; indem sie Institutionen mit Gefolgsleuten unterwandern und indem sie Waffen\, Knowhow und Informationen entwenden. Das alles geschieht nicht zufällig\, sondern folgt detaillierten Plänen\, Staat und Demokratie von innen anzugreifen. Die Referenten geben einen Einblick\, warum und wie die Machtzentren unserer politischen Ordnung ins Fadenkreuz von Rechtsextremisten\, aber auch von anderen Demokratiefeinden geraten sind. Sie zeigen Beispiele\, wie diese Infiltration vonstattengeht\, und diskutieren\, mit welchen Mitteln Staat und Gesellschaft der rechtsextremen Unterwanderung entgegentreten können. \nTom Thieme ist Politikwissenschaftler seit 2017 Professor für Gesellschaftspolitische Bildung an der Hochschule der Sächsischen Polizei (FH). Er arbeitet seit fast zwei Jahrzehnten zu den Themen Rechtsextremismus\, Linksextremismus und Islamismus in Deutschland und Europa. \nTom Mannewitz ist Politikwissenschaftler und seit 2021 Professor für die Lehrgebiete Politischer Extremismus und politische Ideengeschichte an der Hochschule des Bundes in Berlin. In seiner Forschung beschäftigt er sich mit Fragen des politischen Links- und Rechtsextremismus in Deutschland. \nEine Veranstaltung in Kooperation mit der Sächsischen Landeszentrale für politische Bildung. \n\n\nOrt\nGeschäftsstelle Zittau\nNeustadt 47\n02763 Zittau\nRaum 5.15\nWeitere Informationen & Anmeldung
URL:https://www.tolerantes-sachsen.de/veranstaltung/kontrovers-vor-ort-der-oeffentliche-dienst-im-fadenkreuz-wie-demokratiefeinde-justiz-polizei-schule-und-verwaltung-unterwandern/
LOCATION:Landkreis Görlitz
CATEGORIES:Vortrag
END:VEVENT
BEGIN:VEVENT
DTSTART;TZID=Europe/Berlin:20260523T100000
DTEND;TZID=Europe/Berlin:20260523T120000
DTSTAMP:20260420T104718
CREATED:20260323T093533Z
LAST-MODIFIED:20260323T093533Z
UID:33672-1779530400-1779537600@www.tolerantes-sachsen.de
SUMMARY:demoSlam - mal anders streiten! | Leipzig
DESCRIPTION:Rund um den Ehrentag führen wir in mehreren Städten bundesweit kostenfreie demoSlam-Workshops durch. demoSlam bringt Menschen zu kontroversen Themen zusammen\, statt sie in Lager zu spalten. Ganz nach dem Motto “Verstehen\, ohne Einverstanden zu sein” vermitteln wir das Handwerkszeug für gelungene Dialoge. demoSlam weist den Weg aus dem immer gleichen Argumente-Ping-Pong und der Polarisierungsfalle. Kommt vorbei und erlebt die deeskalierende Wirkung selbst: “demoSlam ist demokratische Miteinander ohne eskalativen Schreimodus und ohne Tabuisieren.” (Zuschauerin) \n\nOrt\nIKOME Seminarzentrum\nHohe Str. 11\n04107 Leipzig\nWeitere Informationen & Anmeldung
URL:https://www.tolerantes-sachsen.de/veranstaltung/demoslam-mal-anders-streiten-leipzig/
LOCATION:Stadt Leipzig
CATEGORIES:Seminar | Workshop
END:VEVENT
END:VCALENDAR