BEGIN:VCALENDAR
VERSION:2.0
PRODID:-//Netzwerk Tolerantes Sachsen - ECPv6.15.18//NONSGML v1.0//EN
CALSCALE:GREGORIAN
METHOD:PUBLISH
X-WR-CALNAME:Netzwerk Tolerantes Sachsen
X-ORIGINAL-URL:https://www.tolerantes-sachsen.de
X-WR-CALDESC:Veranstaltungen für Netzwerk Tolerantes Sachsen
REFRESH-INTERVAL;VALUE=DURATION:PT1H
X-Robots-Tag:noindex
X-PUBLISHED-TTL:PT1H
BEGIN:VTIMEZONE
TZID:Europe/Berlin
BEGIN:DAYLIGHT
TZOFFSETFROM:+0100
TZOFFSETTO:+0200
TZNAME:CEST
DTSTART:20250330T010000
END:DAYLIGHT
BEGIN:STANDARD
TZOFFSETFROM:+0200
TZOFFSETTO:+0100
TZNAME:CET
DTSTART:20251026T010000
END:STANDARD
BEGIN:DAYLIGHT
TZOFFSETFROM:+0100
TZOFFSETTO:+0200
TZNAME:CEST
DTSTART:20260329T010000
END:DAYLIGHT
BEGIN:STANDARD
TZOFFSETFROM:+0200
TZOFFSETTO:+0100
TZNAME:CET
DTSTART:20261025T010000
END:STANDARD
BEGIN:DAYLIGHT
TZOFFSETFROM:+0100
TZOFFSETTO:+0200
TZNAME:CEST
DTSTART:20270328T010000
END:DAYLIGHT
BEGIN:STANDARD
TZOFFSETFROM:+0200
TZOFFSETTO:+0100
TZNAME:CET
DTSTART:20271031T010000
END:STANDARD
END:VTIMEZONE
BEGIN:VEVENT
DTSTART;TZID=Europe/Berlin:20260820T190000
DTEND;TZID=Europe/Berlin:20260820T220000
DTSTAMP:20260420T144340
CREATED:20260122T085630Z
LAST-MODIFIED:20260122T085630Z
UID:32927-1787252400-1787263200@www.tolerantes-sachsen.de
SUMMARY:Kommunalrecht kompakt: Neutralitätsgebot und Gemeinnützigkeit kommunalpolitisch engagierter Vereine | digital
DESCRIPTION:Du engagierst dich ehrenamtlich in einem Verein und willst wissen\, wie ihr in eurer Kommune politisch aktiv sein könnt\, ohne die Gemeinnützigkeit zu gefährden? In dieser Veranstaltung erhältst du praxisnahe Orientierung zu Neutralitätsgebot und rechtlichen Grenzen kommunalpolitischer Arbeit. \nIn dieser Veranstaltung lernst du: \n\nwas das Neutralitätsgebot für gemeinnützige Vereine bedeutet und wo das Neutralitätsgebot rechtliche Grenzen setzt\npraxisnahe Handlungsspielräume für Vorstände und Engagierte kennen\nwie Gemeinnützigkeit trotz politischer Haltung erhalten bleibt\n\nDiese Veranstaltung ist für dich\, wenn: \n\ndu dich ehrenamtlich in einem Verein engagierst\ndu Interesse an kommunalpolitischer Mitgestaltung hast\ndu Verantwortung im Vorstand oder in der Organisation trägst\ndu kommunalpolitisch wirksam sein willst\, ohne rechtliche Risiken einzugehen\n\nDas nimmst du mit \nAm Ende kennst du die rechtlichen Rahmenbedingungen für kommunalpolitisches Engagement in Vereinen und kannst fundiert entscheiden\, wie ihr euch wirksam und rechtssicher einbringen könnt. \n\nOrganisatorisches\nWir freuen uns\, dass wir alle unsere Veranstaltungen kostenfrei anbieten können.\nFür unsere Arbeit sind wir jedoch auf eure Unterstützung angewiesen. Jeder Beitrag\, egal wie klein\, hilft uns\, unsere Veranstaltungen zu realisieren. Weitere Informationen dazu\, wie ihr uns unterstützen könnt und was eure Spende bewirkt\, findet ihr hier.\n\n\n\n\n\n\nWeitere Informationen & Anmeldung
URL:https://www.tolerantes-sachsen.de/veranstaltung/kommunalrecht-kompakt-neutralitaetsgebot-und-gemeinnuetzigkeit-kommunalpolitisch-engagierter-vereine-digital/
LOCATION:digital
CATEGORIES:Seminar | Workshop
END:VEVENT
END:VCALENDAR