BEGIN:VCALENDAR
VERSION:2.0
PRODID:-//Netzwerk Tolerantes Sachsen - ECPv6.15.18//NONSGML v1.0//EN
CALSCALE:GREGORIAN
METHOD:PUBLISH
X-ORIGINAL-URL:https://www.tolerantes-sachsen.de
X-WR-CALDESC:Veranstaltungen für Netzwerk Tolerantes Sachsen
REFRESH-INTERVAL;VALUE=DURATION:PT1H
X-Robots-Tag:noindex
X-PUBLISHED-TTL:PT1H
BEGIN:VTIMEZONE
TZID:Europe/Berlin
BEGIN:DAYLIGHT
TZOFFSETFROM:+0100
TZOFFSETTO:+0200
TZNAME:CEST
DTSTART:20250330T010000
END:DAYLIGHT
BEGIN:STANDARD
TZOFFSETFROM:+0200
TZOFFSETTO:+0100
TZNAME:CET
DTSTART:20251026T010000
END:STANDARD
BEGIN:DAYLIGHT
TZOFFSETFROM:+0100
TZOFFSETTO:+0200
TZNAME:CEST
DTSTART:20260329T010000
END:DAYLIGHT
BEGIN:STANDARD
TZOFFSETFROM:+0200
TZOFFSETTO:+0100
TZNAME:CET
DTSTART:20261025T010000
END:STANDARD
BEGIN:DAYLIGHT
TZOFFSETFROM:+0100
TZOFFSETTO:+0200
TZNAME:CEST
DTSTART:20270328T010000
END:DAYLIGHT
BEGIN:STANDARD
TZOFFSETFROM:+0200
TZOFFSETTO:+0100
TZNAME:CET
DTSTART:20271031T010000
END:STANDARD
END:VTIMEZONE
BEGIN:VEVENT
DTSTART;TZID=Europe/Berlin:20260420T173000
DTEND;TZID=Europe/Berlin:20260420T193000
DTSTAMP:20260420T074631
CREATED:20260417T090208Z
LAST-MODIFIED:20260417T090208Z
UID:33904-1776706200-1776713400@www.tolerantes-sachsen.de
SUMMARY:„Erzähl mir von früher“ – mit Elke Koch | Freiberg
DESCRIPTION:Buntes Haus und Freiberger Agenda 21 e.V. organisieren im 1. Halbjahr einige Vorträge von Freibergerinnen und Freibergern\, die sich schon lange in der Bergstadt engagieren.  \nDieses mal wird Elke Koch aus ihrem Leben erzählen. Vielen ist sie als ehemaligen Fraktionschefin der Grünen im Stadtrat bekannt\, aber Sie war auch schon zuvor gesellschaftlich engagiert. U.a. war Elke Koch 2000 die 1. Mitarbeiterin des neu gegründeten Freiberger Agenda 21 e.V. \nZeit & Ort \n\n\n20. Apr. 2026\, 17:30\nMGH „Buntes Haus“\, Tschaikowskistraße 57B\, 09599 Freiberg\, Deutschland \n\n\nWeitere Informationen & Anmeldung
URL:https://www.tolerantes-sachsen.de/veranstaltung/erzaehl-mir-von-frueher-mit-elke-koch-freiberg/
LOCATION:Landkreis Mittelsachsen
CATEGORIES:Podium | Gespräch
END:VEVENT
END:VCALENDAR