BEGIN:VCALENDAR
VERSION:2.0
PRODID:-//Netzwerk Tolerantes Sachsen - ECPv6.15.18//NONSGML v1.0//EN
CALSCALE:GREGORIAN
METHOD:PUBLISH
X-WR-CALNAME:Netzwerk Tolerantes Sachsen
X-ORIGINAL-URL:https://www.tolerantes-sachsen.de
X-WR-CALDESC:Veranstaltungen für Netzwerk Tolerantes Sachsen
REFRESH-INTERVAL;VALUE=DURATION:PT1H
X-Robots-Tag:noindex
X-PUBLISHED-TTL:PT1H
BEGIN:VTIMEZONE
TZID:Europe/Berlin
BEGIN:DAYLIGHT
TZOFFSETFROM:+0100
TZOFFSETTO:+0200
TZNAME:CEST
DTSTART:20250330T010000
END:DAYLIGHT
BEGIN:STANDARD
TZOFFSETFROM:+0200
TZOFFSETTO:+0100
TZNAME:CET
DTSTART:20251026T010000
END:STANDARD
BEGIN:DAYLIGHT
TZOFFSETFROM:+0100
TZOFFSETTO:+0200
TZNAME:CEST
DTSTART:20260329T010000
END:DAYLIGHT
BEGIN:STANDARD
TZOFFSETFROM:+0200
TZOFFSETTO:+0100
TZNAME:CET
DTSTART:20261025T010000
END:STANDARD
BEGIN:DAYLIGHT
TZOFFSETFROM:+0100
TZOFFSETTO:+0200
TZNAME:CEST
DTSTART:20270328T010000
END:DAYLIGHT
BEGIN:STANDARD
TZOFFSETFROM:+0200
TZOFFSETTO:+0100
TZNAME:CET
DTSTART:20271031T010000
END:STANDARD
END:VTIMEZONE
BEGIN:VEVENT
DTSTART;TZID=Europe/Berlin:20260706T190000
DTEND;TZID=Europe/Berlin:20260706T203000
DTSTAMP:20260420T091357
CREATED:20260305T090215Z
LAST-MODIFIED:20260305T090215Z
UID:33400-1783364400-1783369800@www.tolerantes-sachsen.de
SUMMARY:Vielfalt der Jugendbeteiligung – Jugendliche gestalten Demokratie! | digital
DESCRIPTION:Wie lässt sich Jugendbeteiligung lebendig\, vielfältig und inklusiv gestalten? Vorgestellt werden erfolgreiche Modelle – von Jugendräten über Projektausschüsse bis zu selbstorganisierten Gruppen. Diese Sichtbarmachung der Beteiligungsvielfalt gibt Anstöße für eine weitere Vernetzung von Akteur:innen und der Förderung neuer Initiativen. \nTeilnehmende können eigene Projektideen einreichen und vorstellen: Wie kann Beteiligung gelingen\, wo braucht es Unterstützung\, und wie lassen sich Strukturen nachhaltig verankern? \nInputs: \n\nLudwig Gasteiger/Daniel Wagner (KJR Dachau\, Erasmus+ Projekt „Vielfalt der Beteiligung)\nPia Bittner (BJR – Servicestelle für Kinder- und Jugendbeteiligung)\n\nWeitere Informationen & Anmeldung
URL:https://www.tolerantes-sachsen.de/veranstaltung/vielfalt-der-jugendbeteiligung-jugendliche-gestalten-demokratie-digital/
LOCATION:digital
CATEGORIES:Seminar | Workshop
END:VEVENT
BEGIN:VEVENT
DTSTART;TZID=Europe/Berlin:20260820T190000
DTEND;TZID=Europe/Berlin:20260820T220000
DTSTAMP:20260420T091357
CREATED:20260122T085630Z
LAST-MODIFIED:20260122T085630Z
UID:32927-1787252400-1787263200@www.tolerantes-sachsen.de
SUMMARY:Kommunalrecht kompakt: Neutralitätsgebot und Gemeinnützigkeit kommunalpolitisch engagierter Vereine | digital
DESCRIPTION:Du engagierst dich ehrenamtlich in einem Verein und willst wissen\, wie ihr in eurer Kommune politisch aktiv sein könnt\, ohne die Gemeinnützigkeit zu gefährden? In dieser Veranstaltung erhältst du praxisnahe Orientierung zu Neutralitätsgebot und rechtlichen Grenzen kommunalpolitischer Arbeit. \nIn dieser Veranstaltung lernst du: \n\nwas das Neutralitätsgebot für gemeinnützige Vereine bedeutet und wo das Neutralitätsgebot rechtliche Grenzen setzt\npraxisnahe Handlungsspielräume für Vorstände und Engagierte kennen\nwie Gemeinnützigkeit trotz politischer Haltung erhalten bleibt\n\nDiese Veranstaltung ist für dich\, wenn: \n\ndu dich ehrenamtlich in einem Verein engagierst\ndu Interesse an kommunalpolitischer Mitgestaltung hast\ndu Verantwortung im Vorstand oder in der Organisation trägst\ndu kommunalpolitisch wirksam sein willst\, ohne rechtliche Risiken einzugehen\n\nDas nimmst du mit \nAm Ende kennst du die rechtlichen Rahmenbedingungen für kommunalpolitisches Engagement in Vereinen und kannst fundiert entscheiden\, wie ihr euch wirksam und rechtssicher einbringen könnt. \n\nOrganisatorisches\nWir freuen uns\, dass wir alle unsere Veranstaltungen kostenfrei anbieten können.\nFür unsere Arbeit sind wir jedoch auf eure Unterstützung angewiesen. Jeder Beitrag\, egal wie klein\, hilft uns\, unsere Veranstaltungen zu realisieren. Weitere Informationen dazu\, wie ihr uns unterstützen könnt und was eure Spende bewirkt\, findet ihr hier.\n\n\n\n\n\n\nWeitere Informationen & Anmeldung
URL:https://www.tolerantes-sachsen.de/veranstaltung/kommunalrecht-kompakt-neutralitaetsgebot-und-gemeinnuetzigkeit-kommunalpolitisch-engagierter-vereine-digital/
LOCATION:digital
CATEGORIES:Seminar | Workshop
END:VEVENT
BEGIN:VEVENT
DTSTART;VALUE=DATE:20260906
DTEND;VALUE=DATE:20260911
DTSTAMP:20260420T091357
CREATED:20260108T160709Z
LAST-MODIFIED:20260108T160709Z
UID:32778-1788652800-1789084799@www.tolerantes-sachsen.de
SUMMARY:FREIBURG & STRASSBURG – Wo Europa lebendig ist | Dresden\, Freiburg & Strassburg
DESCRIPTION:Freiburg und Straßburg sind beides Grenzstädte und Mitglied in der Trinationalen Metropolregion Oberrhein\, die als Modellregion für europäische Integration gilt. Straßburg steht mit seinen drei großen Europa-Institutionen wie kaum eine andere Stadt für Versöhnung und europäische Zusammenarbeit. Die »Green City« Freiburg ist eine der umweltfreundlichsten Städte Deutschlands mit hoher Lebensqualität und gerade als Standort einer der ältesten deutschen Universitäten jung\, bunt und innovativ.\nAuf zu einer Reise mitten ins Herz Europas! \n\nVorläufiges Programm \nTag 1: Freiburg & seine Geschichte \n\nAnreise\npolitisch-historischer Stadtrundgang zu Demokratie\, Bürgersinn und politischen Bewegungen im 19./20. Jahrhundert\n\nTag 2: Nachhaltige Ideen für die Region Freiburg \n\nBesuch des Bioenergiedorfs St. Peter\n»Mobilität mit Zukunft«: Gespräch mit Freiburger Kommunalpolitiker:innen\n\nTag 3: Straßburg & die Europa-Politik \n\nFührung im Europaparlament und Gespräch mit einem Europa-Abgeordneten\npolitische Stadtführung zu europäischen Institutionen und symbolischen Orten der Demokratie\n\nTag 4: Freiburg als Grenzstadt \n\nKennenlernen grenzüberschreitender Projekte\nStadtrundgang »Grenzidentität heute«\nBesuch im Rathaus\n\nTag 5: Start-Up Freiburg \n\nGespräch mit »startinsland – Gründungsinitiative Region Freiburg«\nRückreise nach Dresden\n\nOrt/Treffpunkt\n\nStart im Herbert-Wehner-Bildungswerk\nDevrientstr. 7\nDresden 01067 \n\nPreis\n\n420\,- €\n395\,- € für Mitglieder im Freundeskreis Herbert-Wehner-Bildungswerk\nEinzelzimmerzuschlag ca. 116\,- €  \n\n\nUnterkunft:\nHotel Hofmann zur Mühle\,Bad Krozingen\, Litschgistraße 6\, 79189 Bad Krozingen \n\nDie Reise startet und endet in Dresden\, Zustiege entlang der Fahrtroute sind auf Anfrage möglich. Auch die eigene Anreise ist möglich. \n\nTeilnahmebedingungen | Infos zum barrierefreien Zugang \n\nAnmeldeformular öffnen \nWeitere Informationen
URL:https://www.tolerantes-sachsen.de/veranstaltung/freiburg-strassburg-wo-europa-lebendig-ist-dresden-freiburg-strassburg/
LOCATION:Stadt Dresden
CATEGORIES:Bildungsreise | Bildungstag
END:VEVENT
BEGIN:VEVENT
DTSTART;VALUE=DATE:20260920
DTEND;VALUE=DATE:20260923
DTSTAMP:20260420T091357
CREATED:20260108T160940Z
LAST-MODIFIED:20260108T160940Z
UID:32781-1789862400-1790121599@www.tolerantes-sachsen.de
SUMMARY:MAGDEBURG\, WOLFSBURG & HANNOVER – Zwischen Arbeit und Aufarbeitung | Dresden\, Magdeburg\, Wolfsburg & Hannover
DESCRIPTION:Der Traum\, Magdeburg als deutsches Zentrum für die Halbleiterindustrie zu etablieren\, ist durch die Intel-Absage geplatzt. Die erhofften Investitionen\, Subventionen und Arbeitsplätze bleiben aus. Wie geht die Stadt damit um? Während dessen widmet sich Hannover der Fortschreibung des »Wohnkonzepts 2025« mit den Wohnprojektmentoren als einem Baustein. Außerdem fragen wir nach der Bedeutung von VW für die Region und nach der historischen Verantwortung des Unternehmens. \n\nVorläufiges Programm \nTag 1: Magdeburg & Wolfsburg \n\nAnreise via Magdeburg\nGespräch mit Magdeburger Kommunalpolitiker:innen: Wie reagiert die Politik auf die Intel-Absage?\nTransfer nach Wolfsburg\npolitisch-historischer Stadtrundgang: Entwicklung von Wolfsburg zur modernen Großstadt\n\nTag 2: Hannover & der soziale Wohnungsbau \n\nTransfer nach Hannover\nBesuch im Niedersächsischen Landtag & Gespräch mit Abgeordneten zur Bedeutung der Automobilindustrie\nStadtteilführung zum sozialen Wohnungsbau\nGespräch mit den Wohnprojektmentoren • Transfer nach Wolfsburg\n\nTag 3: Wolfsburg & Volkswagen \n\nBesuch der Erinnerungsstätte an die NS-Zwangsarbeit im Volkswagenwerk\nGespräch: VW und die Arbeitsmigration seit den 1960er Jahren\nRückreise nach Dresden\n\nOrt/Treffpunkt\n\nStart im Herbert-Wehner-Bildungswerk\nDevrientstr. 7\nDresden 01067 \n\nPreis\n\n250\,- €\n225\,- € für Mitglieder im Freundeskreis Herbert-Wehner-Bildungswerk\nEinzelzimmerzuschlag ca. 69\,- €  \n\n\nUnterkunft:\nHotel Strijewski\, Wolfsburg\, Rostocker Str. 2\, 38444 Wolfsburg \n\nDie Reise startet und endet in Dresden\, Zustiege entlang der Fahrtroute sind auf Anfrage möglich. Auch die eigene Anreise ist möglich. \n\nTeilnahmebedingungen | Infos zum barrierefreien Zugang \n\nAnmeldeformular öffnen \nWeitere Informationen
URL:https://www.tolerantes-sachsen.de/veranstaltung/magdeburg-wolfsburg-hannover-zwischen-arbeit-und-aufarbeitung-dresden-magdeburg-wolfsburg-hannover/
LOCATION:Stadt Dresden
CATEGORIES:Bildungsreise | Bildungstag
END:VEVENT
BEGIN:VEVENT
DTSTART;VALUE=DATE:20260925
DTEND;VALUE=DATE:20260927
DTSTAMP:20260420T091357
CREATED:20260108T161120Z
LAST-MODIFIED:20260108T161120Z
UID:32783-1790294400-1790467199@www.tolerantes-sachsen.de
SUMMARY:POTSDAM – Grüne Ideen für ein nachhaltiges Brandenburg | Dresden & Potsdam
DESCRIPTION:Jenseits des UNESCO-Weltkulturerbes Schloss Sanssouci und der Filmstadt Babelsberg spielt Potsdam eine führende Rolle in der Klimaforschung und nachhaltigen Stadtentwicklung. Die Stadt an der Havel mit ihren Seen und Grünflächen ist ein Biotop für Lebewesen aller Art und für die Entwicklung innovativer Ideen durch zivilgesellschaftliche Akteure. Die widmen sich Themen wie: Biodiversität\, Foodsharing\, gemeinschaftlichem Gärtnern\, solidarischer Landwirtschaft oder alternativem Wohnen. Die Stadt investiert zudem in Klimaschutzmaßnahmen\, E-Mobilität\, den Ausbau von Radwegen etc. Eine Inspirationsreise mit ganz vielen Anstößen für Veränderungen in der eigenen Kommune. \n\nVorläufiges Programm \nTag 1: Vom Acker bis zum Einkaufsbeutel \n\nAnreise\nVortrag & Gespräch im Instituts für Klimafolgenforschung\nBesuch der SolaWi BAUERei e.V.\nFührung im Brandenburgischen Landtag und Gespräch mit einem MdL zum Thema: Land- & Ernährungswirtschaft\, Umwelt und Verbraucherschutz\n\nTag 2: Nachhaltige Kommune & Biodiversität \n\n»Green Meetings« Gespräch mit der Potsdam Marketing und Service GmbH zu Potsdam als nachhaltiger Veranstaltungsdestination\nBesuch der DAUCUM – Werkstatt für Biodiversität zur Beratung von Kommunen und Unternehmen\nKennenlernen von kommunalen Projekten der Klima-Initiative Schwielowsee\nRückreise nach Dresden\n\nOrt/Treffpunkt\n\nStart im Herbert-Wehner-Bildungswerk\nDevrientstr. 7\nDresden 01067 \n\nPreis\n\n140\,- €\n115\,- € für Mitglieder im Freundeskreis Herbert-Wehner-Bildungswerk\nEinzelzimmerzuschlag ca. 45\,00 €  \n\n\nUnterkunft:\nFilmhotel „Lili Marleen“\, Potsdam\, Großbeerenstraße 75\, 14482 Potsdam \n\nDie Reise startet und endet in Dresden\, Zustiege entlang der Fahrtroute sind auf Anfrage möglich. Auch die eigene Anreise ist möglich. \n\nTeilnahmebedingungen | Infos zum barrierefreien Zugang \n\nAnmeldeformular öffnen \nWeitere Informationen
URL:https://www.tolerantes-sachsen.de/veranstaltung/potsdam-gruene-ideen-fuer-ein-nachhaltiges-brandenburg-dresden-potsdam/
LOCATION:Stadt Dresden
CATEGORIES:Bildungsreise | Bildungstag
END:VEVENT
BEGIN:VEVENT
DTSTART;VALUE=DATE:20261004
DTEND;VALUE=DATE:20261008
DTSTAMP:20260420T091357
CREATED:20260108T161311Z
LAST-MODIFIED:20260108T161311Z
UID:32785-1791072000-1791417599@www.tolerantes-sachsen.de
SUMMARY:DÜSSELDORF & BONN – Parlamentsgeschichte(n) von lokal bis global | Dresden\, Düsseldorf & Bonn
DESCRIPTION:Wir laden euch ein auf eine Erkenntnisreise an jenen Schauplatz\, wo während eines Spaziergangs im Garten erste Schritte in Richtung Wiedervereinigung unternommen wurden. Außerdem begeben wir uns an den Ort\, wo die globalen Themen unserer Zeit koordiniert und Staaten vernetzt werden. Wir besuchen das Herzstück der politischen Bildung in Deutschland\, stellen uns einer oft unbequemen sozialen Realität\, schauen hinter die Kulissen des WDR Funkhauses und blicken tief in die Parlamentsgeschichte. \n\nVorläufiges Programm \nTag 1: Soziale Realitäten in Düsseldorf \n\nAnreise\npolitischer Stadtrundgang und Führung: Soziale Realität von Obdachlosen\nTransfer zur Unterkunft\n\nTag 2: Das alte und neue politische Bonn \n\nBesuch des Kanzler-Bungalows in Bonn\nFührung und Gespräch in der Bundeszentrale für politische Bildung\nFührung auf dem UN-Campus Bonn\nTransfer nach Düsseldorf\n\nTag 3: Düsseldorf: Landespolitik & Geschichte \n\nBesuch des NRW-Landtags und Gespräch mit MdL\nBesuch der Ausstellung »Haus der Parlamentsgeschichte«\nStadtrundgang: Politik und Architektur in Düsseldorf\n\nTag 4: Öffentliche Medien \n\nBesuch einer Medieninstitution zum Thema öffentliche Meinungsbildung\nRückreise nach Dresden\n\nOrt/Treffpunkt\n\nStart im Herbert-Wehner-Bildungswerk\nDevrientstr. 7\nDresden 01067 \n\nPreis\n\n325\,- €\n300\,- € für Mitglieder im Freundeskreis Herbert-Wehner-Bildungswerk\nEinzelzimmerzuschlag ca. 78\,00 €  \n\n\nUnterkunft:\nB&B HOTEL\, Düsseldorf-Airport\, Theodorstraße 285\, 40472 Düsseldorf \n\nDie Reise startet und endet in Dresden\, Zustiege entlang der Fahrtroute sind auf Anfrage möglich. Auch die eigene Anreise ist möglich. \n\nTeilnahmebedingungen | Infos zum barrierefreien Zugang \n\nAnmeldeformular öffnen \nWeitere Informationen
URL:https://www.tolerantes-sachsen.de/veranstaltung/duesseldorf-bonn-parlamentsgeschichten-von-lokal-bis-global-dresden-duesseldorf-bonn/
LOCATION:Stadt Dresden
CATEGORIES:Bildungsreise | Bildungstag
END:VEVENT
BEGIN:VEVENT
DTSTART;VALUE=DATE:20261004
DTEND;VALUE=DATE:20261010
DTSTAMP:20260420T091357
CREATED:20260401T074256Z
LAST-MODIFIED:20260401T074256Z
UID:33755-1791072000-1791590399@www.tolerantes-sachsen.de
SUMMARY:Partizipative Prozesse im ländlichen Raum: ein Weg zur Wiederbelebung der Demokratie | Frankreich
DESCRIPTION:Wie laufen Beteiligungsprozesse in Sachsen und seiner französischen Partnerregion Occitanie ab“ \nWas können wir voneinander lernen“ \nUnd was bedeuten diese Betetiligungsprozesse für die Demokratie“ \nVom 04.10. bis 09.10.2026 treffen sich in Mas Bazan (Occitanie\, Frankreich) 10 deutsche und 10 französische Fachkräfte und Engagierte aus der Gemeinwesen- und Demokratiearbeit und gehen gemeinsam diesen und anderen Fragen nach. Da es um Beteiligung geht\, ist auch das Programm auf Beteiligung ausgerichtet. Die Teilnehmenden bringen ihr eigenes Wissen ein und werden von einem erfahrenen Team begleitet. Das Projekt findet auf Deutsch und Französisch statt und wird übersetzt. \nZiele \n\nDie Herausforderungen von partizipativen Prozessen und Demokratiearbeit in Okzitanien und Sachsen hinterfragen und diskutieren.\nGemeinsame Probleme und Fragestellungen bei deren praktischer Umsetzung reflektieren.\nTools und Methoden entdecken und testen\, die im Zusammenhang mit partizipativen Prozessen und Demokratiearbeit in beiden Ländern entwickelt wurden.\nVerbindungen zwischen den zwei Regionen schaffen und ein Netzwerk von Akteuren der Partizipation und der Demokratie im ländlichen Raum initiieren.\n\nEinblick ins Programm \n\nGemeinsame Unterkunft\, um einen intensiven Austausch zu gewährleisten\nInterkultureller Gruppenprozess moderiert und übersetzt von einem deutsch-französischen Team\nBesichtigung und Begegnung mit okzitanischen Initiativen\nErfahrungsaustausch und gemeinsames Lernen innerhalb der deutsch-französischen Gruppe\n\nInfos und Anmeldung \n\nSarah Neis – Europa Direkt Institut sn@europa-direkt.com\nFelix Sell – Kompetenzzentrum für Gemeinwesenarbeit und Engagement e.V. f.sell@kge-erzgebirge.de\n\n\n\nWeitere Informationen zu Programm & Anmeldung
URL:https://www.tolerantes-sachsen.de/veranstaltung/partizipative-prozesse-im-laendlichen-raum-ein-weg-zur-wiederbelebung-der-demokratie-frankreich/
CATEGORIES:Bildungsreise | Bildungstag
END:VEVENT
BEGIN:VEVENT
DTSTART;TZID=Europe/Berlin:20261029T190000
DTEND;TZID=Europe/Berlin:20261029T210000
DTSTAMP:20260420T091357
CREATED:20260417T085840Z
LAST-MODIFIED:20260417T085840Z
UID:33902-1793300400-1793307600@www.tolerantes-sachsen.de
SUMMARY:Klare Kante: Argumentations- und Haltungstraining | Freiberg
DESCRIPTION:Du willst rechten\, rassistischen oder diskriminierenden Aussagen in deiner Kommune etwas entgegensetzen\, aber du weißt nicht immer wie? In dieser Veranstaltung lernst du\, wie du mit diskriminierenden Argumentationen sicher umgehst\, eigene Gesprächsstrategien entwickelst und dich in schwierigen Situationen souverän positionierst. \nIn dieser Veranstaltung … \n\nklärst du grundlegende Begriffe und erkennst rechte Diskurs- und Argumentationsstrategien\ntauschst du dich über eigene Erfahrungen im Umgang mit diskriminierenden Aussagen in der kommunalpolitischen Praxis aus\nentwickelst du Strategien für Gespräche\, Debatten und klare Positionierung\nübst du in praxisnahen Szenarien\, wie du in Ratssitzungen\, Gesprächen oder öffentlichen Formaten wirksam reagierst\nerarbeitest du\, wann und mit wem sich eine argumentative Auseinandersetzung lohnt und wann nicht.\n\nDiese Veranstaltung ist für dich\, wenn du … \n\nkommunalpolitisch aktiv bist und dich klar gegen diskriminierende Inhalte positionieren willst\nunsicher bist\, wie du in Diskussionen reagieren kannst\, ohne sprachlos oder überfordert zu sein\nkonkrete Techniken suchst\, um in der kommunalpolitischen Praxis handlungsfähig zu bleiben\ngemeinsam mit anderen Lösungen entwickeln willst\, um rechten und rassistischen Parolen in Ratssitzungen etwas entgegenzusetzen.\n\nDas nimmst du mit: \nAm Ende weißt du\, wie du diskriminierenden Aussagen klar entgegentrittst und du hast fundiertes Wissen und erprobte Argumentationsstrategien für mehr Sicherheit für dein kommunalpolitisches Engagement. \nOrganisatorisches \nWir freuen uns\, dass wir alle unsere Veranstaltungen kostenfrei anbieten können. \nFür unsere Arbeit sind wir jedoch auf eure Unterstützung angewiesen. Jeder Beitrag\, egal wie klein\, hilft uns\, unsere Veranstaltungen zu realisieren. Weitere Informationen dazu\, wie ihr uns unterstützen könnt und was eure Spende bewirkt\, findet ihr hier. \nZeit & Ort\n\n\n29. Okt. 2026\, 19:00 – 21:00\nSchillerstraße 3\, Schillerstraße 3\, 09599 Freiberg\, Deutschland \nWeitere Informationen & Anmeldung
URL:https://www.tolerantes-sachsen.de/veranstaltung/klare-kante-argumentations-und-haltungstraining-freiberg/
LOCATION:Landkreis Mittelsachsen
CATEGORIES:Seminar | Workshop
END:VEVENT
END:VCALENDAR