BEGIN:VCALENDAR
VERSION:2.0
PRODID:-//Netzwerk Tolerantes Sachsen - ECPv6.15.18//NONSGML v1.0//EN
CALSCALE:GREGORIAN
METHOD:PUBLISH
X-WR-CALNAME:Netzwerk Tolerantes Sachsen
X-ORIGINAL-URL:https://www.tolerantes-sachsen.de
X-WR-CALDESC:Veranstaltungen für Netzwerk Tolerantes Sachsen
REFRESH-INTERVAL;VALUE=DURATION:PT1H
X-Robots-Tag:noindex
X-PUBLISHED-TTL:PT1H
BEGIN:VTIMEZONE
TZID:Europe/Berlin
BEGIN:DAYLIGHT
TZOFFSETFROM:+0100
TZOFFSETTO:+0200
TZNAME:CEST
DTSTART:20240331T010000
END:DAYLIGHT
BEGIN:STANDARD
TZOFFSETFROM:+0200
TZOFFSETTO:+0100
TZNAME:CET
DTSTART:20241027T010000
END:STANDARD
BEGIN:DAYLIGHT
TZOFFSETFROM:+0100
TZOFFSETTO:+0200
TZNAME:CEST
DTSTART:20250330T010000
END:DAYLIGHT
BEGIN:STANDARD
TZOFFSETFROM:+0200
TZOFFSETTO:+0100
TZNAME:CET
DTSTART:20251026T010000
END:STANDARD
BEGIN:DAYLIGHT
TZOFFSETFROM:+0100
TZOFFSETTO:+0200
TZNAME:CEST
DTSTART:20260329T010000
END:DAYLIGHT
BEGIN:STANDARD
TZOFFSETFROM:+0200
TZOFFSETTO:+0100
TZNAME:CET
DTSTART:20261025T010000
END:STANDARD
END:VTIMEZONE
BEGIN:VEVENT
DTSTART;TZID=Europe/Berlin:20250218T190000
DTEND;TZID=Europe/Berlin:20250218T210000
DTSTAMP:20260423T154743
CREATED:20250131T111727Z
LAST-MODIFIED:20250131T111727Z
UID:29040-1739905200-1739912400@www.tolerantes-sachsen.de
SUMMARY:Keine Demokratie ohne Öffentlichkeit: Was müssen wir dem autoritären Turn der Tech-Giganten entgegensetzen? | digital
DESCRIPTION:Der digitale Raum entscheidet aktuell die Zukunft unserer Demokratie. Im Vorfeld der Bundestagswahl 2025 verschärft sich der Kampf um die Deutungshoheit im Netz.  Können wir uns kleinteilige Antworten an unterschiedlichsten Stellschrauben noch leisten oder ist das ein Kampf gegen Windmühlen? Plattformen wie X und Meta haben durch ihren Paradigmenwechsel eine toxische Informationsumgebung geschaffen: Wahrheit wird durch ein Meer an Falschinformationen plötzlich verhandelbar\, Menschenfeindlichkeit normalisiert\, und demokratische Werte stehen zunehmend unter Druck. \nPolarisierende Algorithmen\, ungebremstes Fremdeinwirken durch Trollfarmen und Bots sowie Künstliche Intelligenz treiben die Spaltung der Gesellschaft voran. Die jüngste Entscheidung Metas\, Maßnahmen gegen Desinformation aufzugeben\, zeigt\, dass ökonomische Interessen über gesellschaftliche Verantwortung gestellt werden. Gleichzeitig etablieren sich durch digitale Wahlkämpfe\, wie im Fall Rumäniens\, gefährliche neue Dynamiken\, die politische Meinungsbildung tiefgreifend beeinflussen – mit Blick auf die Bundestagswahl ein mahnendes Signal. Wenn antidemokratische Akteure auf Plattformen gestärkt werden oder Desinformation ungefiltert zirkuliert\, bleibt die Frage: Wie schützen wir eigentlich unsere Demokratie? \nDie parteipolitischen Ansätze könnten dabei kaum unterschiedlicher sein: Während einige Akteure für strengere Regulierungen und Plattformverantwortung plädieren\, sehen andere im digitalen Raum ein nahezu grenzenloses Experimentierfeld. Doch welche politischen und gesellschaftlichen Maßnahmen sind wirklich notwendig\, um Demokratie und digitale Räume miteinander in Einklang zu bringen? \nDie Europäische Union hat mit dem Digital Services Act erste Antworten formuliert. Doch reicht das aus\, um dem Einfluss großer Plattformen und der Normalisierung extremistischer Narrative entgegenzuwirken? \nDatum: 18.02.\nUhrzeit: 19:00 Uhr\nLivestream via YouTube (Link folgt)\n \nMitwirkende: \n\nRenate Künast (Mitglied des Deutschen Bundestages\, Bündnis 90/Die Grünen)\nUna Titz (Digitalexpertin der Amadeu Antonio Stiftung)\nJournalist*in (angefragt)\n\nWeitere Informationen
URL:https://www.tolerantes-sachsen.de/veranstaltung/keine-demokratie-ohne-oeffentlichkeit-was-muessen-wir-dem-autoritaeren-turn-der-tech-giganten-entgegensetzen-digital/
LOCATION:digital
CATEGORIES:Podium | Gespräch
END:VEVENT
END:VCALENDAR