BEGIN:VCALENDAR
VERSION:2.0
PRODID:-//Netzwerk Tolerantes Sachsen - ECPv6.15.18//NONSGML v1.0//EN
CALSCALE:GREGORIAN
METHOD:PUBLISH
X-ORIGINAL-URL:https://www.tolerantes-sachsen.de
X-WR-CALDESC:Veranstaltungen für Netzwerk Tolerantes Sachsen
REFRESH-INTERVAL;VALUE=DURATION:PT1H
X-Robots-Tag:noindex
X-PUBLISHED-TTL:PT1H
BEGIN:VTIMEZONE
TZID:Europe/Berlin
BEGIN:DAYLIGHT
TZOFFSETFROM:+0100
TZOFFSETTO:+0200
TZNAME:CEST
DTSTART:20240331T010000
END:DAYLIGHT
BEGIN:STANDARD
TZOFFSETFROM:+0200
TZOFFSETTO:+0100
TZNAME:CET
DTSTART:20241027T010000
END:STANDARD
BEGIN:DAYLIGHT
TZOFFSETFROM:+0100
TZOFFSETTO:+0200
TZNAME:CEST
DTSTART:20250330T010000
END:DAYLIGHT
BEGIN:STANDARD
TZOFFSETFROM:+0200
TZOFFSETTO:+0100
TZNAME:CET
DTSTART:20251026T010000
END:STANDARD
BEGIN:DAYLIGHT
TZOFFSETFROM:+0100
TZOFFSETTO:+0200
TZNAME:CEST
DTSTART:20260329T010000
END:DAYLIGHT
BEGIN:STANDARD
TZOFFSETFROM:+0200
TZOFFSETTO:+0100
TZNAME:CET
DTSTART:20261025T010000
END:STANDARD
END:VTIMEZONE
BEGIN:VEVENT
DTSTART;TZID=Europe/Berlin:20250409T170000
DTEND;TZID=Europe/Berlin:20250409T200000
DTSTAMP:20260424T123248
CREATED:20250328T092407Z
LAST-MODIFIED:20250328T092407Z
UID:29706-1744218000-1744228800@www.tolerantes-sachsen.de
SUMMARY:Workshop für LSBTIANQ*-Personen: Gemeinsam gegen Diskriminierung | Leipzig
DESCRIPTION:Anmeldefrist: 07.04.2025 | \nEin Workshop für LSBTIANQ*-Personen\, die sich mit dem Thema Diskriminierung auseinandersetzen möchten. \nWas erwartet dich?\nAustausch & Reflexion: Wo stehe ich in der Gesellschaft?\nEmpowerment: Wie kann ich besser für mich selbst einstehen?\nSelbstkritik: Wie reduziere ich mein eigenes diskriminierendes Verhalten? \nWarum teilnehmen?\nLerne\, andere respektvoll zu behandeln\nGewinne mehr Selbstvertrauen\nTeile deine Erfahrungen\nUnterstütze andere besser\nVerbessere deine Kommunikation \nWann & Wo?\nDatum: 9. April 2025\nUhrzeit: 17:00 – 20:00 Uhr\nOrt: RosaLinde Leipzig e.V.\nDemmeringstr. 32\, 3. Etage\, Klingel: 3E\, 04177 Leipzig \nAnmeldung\nBis zum: 7. April 2025\nE-Mail: 3e@rosalinde-leipzig.de\nSei dabei und setze ein Zeichen gegen Diskriminierung! \nKontakt\nAnsprechperson:\nAgata Chabowska (Pronomen: keine/they)\nProjektleitung: Educate\, Engage\, Encourage \nMobil: +49 162 3703754\nE-Mail: 3e@rosalinde-leipzig.de\nWeb: www.rosalinde-leipzig.de \nWeitere Informationen
URL:https://www.tolerantes-sachsen.de/veranstaltung/workshop-fuer-lsbtianq-personen-gemeinsam-gegen-diskriminierung-leipzig/
LOCATION:Stadt Leipzig
CATEGORIES:Seminar | Workshop
END:VEVENT
END:VCALENDAR