BEGIN:VCALENDAR
VERSION:2.0
PRODID:-//Netzwerk Tolerantes Sachsen - ECPv6.15.18//NONSGML v1.0//EN
CALSCALE:GREGORIAN
METHOD:PUBLISH
X-WR-CALNAME:Netzwerk Tolerantes Sachsen
X-ORIGINAL-URL:https://www.tolerantes-sachsen.de
X-WR-CALDESC:Veranstaltungen für Netzwerk Tolerantes Sachsen
REFRESH-INTERVAL;VALUE=DURATION:PT1H
X-Robots-Tag:noindex
X-PUBLISHED-TTL:PT1H
BEGIN:VTIMEZONE
TZID:Europe/Berlin
BEGIN:DAYLIGHT
TZOFFSETFROM:+0100
TZOFFSETTO:+0200
TZNAME:CEST
DTSTART:20240331T010000
END:DAYLIGHT
BEGIN:STANDARD
TZOFFSETFROM:+0200
TZOFFSETTO:+0100
TZNAME:CET
DTSTART:20241027T010000
END:STANDARD
BEGIN:DAYLIGHT
TZOFFSETFROM:+0100
TZOFFSETTO:+0200
TZNAME:CEST
DTSTART:20250330T010000
END:DAYLIGHT
BEGIN:STANDARD
TZOFFSETFROM:+0200
TZOFFSETTO:+0100
TZNAME:CET
DTSTART:20251026T010000
END:STANDARD
BEGIN:DAYLIGHT
TZOFFSETFROM:+0100
TZOFFSETTO:+0200
TZNAME:CEST
DTSTART:20260329T010000
END:DAYLIGHT
BEGIN:STANDARD
TZOFFSETFROM:+0200
TZOFFSETTO:+0100
TZNAME:CET
DTSTART:20261025T010000
END:STANDARD
END:VTIMEZONE
BEGIN:VEVENT
DTSTART;TZID=Europe/Berlin:20250408T153000
DTEND;TZID=Europe/Berlin:20250408T170000
DTSTAMP:20260423T130933
CREATED:20250407T115233Z
LAST-MODIFIED:20250407T115719Z
UID:29790-1744126200-1744131600@www.tolerantes-sachsen.de
SUMMARY:Bürgerforum "Demokratie findet Stadt" – Lokale Demokratie in europäischen Städten
DESCRIPTION:Die Stadt Leipzig lädt interessierte Bürgerinnen und Bürger am 8. April\, 15:30 bis 17 Uhr\, zum Bürgerforum „Demokratie findet Stadt“ ins Ariowitsch-Haus (Hinrichsenstr. 14) ein. \nIm Anschluss an eine europäische Konferenz von Oberbürgermeisterinnen und Oberbürgermeistern in Leipzig bietet diese Veranstaltung eine besondere Gelegenheit zum moderierten Austausch zwischen europäischen Kommunalvertretern\, Vertreterinnen und Vertretern der Zivilgesellschaft und der Leipziger Stadtgesellschaft. \nMit dabei sind Oberbürgermeister Burkhard Jung (Leipzig)\, die Wiener Landtags- und Gemeinderatsabgeordnete Nina Abrahamczik (Vorsitzende des Wiener Ausschusses für Klima\, Umwelt\, Demokratie und Personal) und Janos Zsigmond Kendernay\, Senior Adviser on City Diplomacy (Budapest). \nGemeinsam diskutieren sie die Rolle der Kommunen bei der Gestaltung demokratischer Gesellschaften – über nationale europäische Grenzen hinweg. Wie stärken Städte demokratische Teilhabe? Welche Verantwortung tragen sie für gesellschaftlichen Zusammenhalt? Wie gestalten wir lebenswerte Innenstädte gemeinsam mit den Bürgerinnen und Bürgern? Die Teilnehmerinnen und Teilnehmer sind aufgefordert\, mitzudiskutieren und sich mit ihren Fragen und Ideen einzubringen. \nDer Zugang zur Veranstaltung ist frei und ohne Voranmeldung. Wer eine Gebärdendolmetschung benötigt\, meldet sich bitte bis Freitag\, den 4. April\, im Referat Demokratie per E-Mail an referat.demokratie@leipzig.de. Dorthin kann man sich auch bei Fragen oder Anregungen wenden. +++ \n 
URL:https://www.tolerantes-sachsen.de/veranstaltung/buergerforum-demokratie-findet-stadt-lokale-demokratie-in-europaeischen-staedten/
LOCATION:Stadt Leipzig
CATEGORIES:Podium | Gespräch
END:VEVENT
END:VCALENDAR