BEGIN:VCALENDAR
VERSION:2.0
PRODID:-//Netzwerk Tolerantes Sachsen - ECPv6.15.18//NONSGML v1.0//EN
CALSCALE:GREGORIAN
METHOD:PUBLISH
X-WR-CALNAME:Netzwerk Tolerantes Sachsen
X-ORIGINAL-URL:https://www.tolerantes-sachsen.de
X-WR-CALDESC:Veranstaltungen für Netzwerk Tolerantes Sachsen
REFRESH-INTERVAL;VALUE=DURATION:PT1H
X-Robots-Tag:noindex
X-PUBLISHED-TTL:PT1H
BEGIN:VTIMEZONE
TZID:Europe/Berlin
BEGIN:DAYLIGHT
TZOFFSETFROM:+0100
TZOFFSETTO:+0200
TZNAME:CEST
DTSTART:20240331T010000
END:DAYLIGHT
BEGIN:STANDARD
TZOFFSETFROM:+0200
TZOFFSETTO:+0100
TZNAME:CET
DTSTART:20241027T010000
END:STANDARD
BEGIN:DAYLIGHT
TZOFFSETFROM:+0100
TZOFFSETTO:+0200
TZNAME:CEST
DTSTART:20250330T010000
END:DAYLIGHT
BEGIN:STANDARD
TZOFFSETFROM:+0200
TZOFFSETTO:+0100
TZNAME:CET
DTSTART:20251026T010000
END:STANDARD
BEGIN:DAYLIGHT
TZOFFSETFROM:+0100
TZOFFSETTO:+0200
TZNAME:CEST
DTSTART:20260329T010000
END:DAYLIGHT
BEGIN:STANDARD
TZOFFSETFROM:+0200
TZOFFSETTO:+0100
TZNAME:CET
DTSTART:20261025T010000
END:STANDARD
END:VTIMEZONE
BEGIN:VEVENT
DTSTART;VALUE=DATE:20250404
DTEND;VALUE=DATE:20250408
DTSTAMP:20260424T141133
CREATED:20250204T100528Z
LAST-MODIFIED:20250204T100528Z
UID:29083-1743724800-1744070399@www.tolerantes-sachsen.de
SUMMARY:Bildungsreise: Vielfalt und Toleranz – Frankfurt im Zeichen demokratischer Teilhabe | Frankfurt am Main
DESCRIPTION:In Frankfurt a. M. trafen sich bereits 1848 Mitglieder der Nationalversammlung in der Paulskirche\, was als eine der Geburtsstunden der Demokratie auf deutschem Boden gilt. Auf deren Spuren wandeln wir von Hessen nach Rheinland-Pfalz. In Mainz besuchen wir das ZDF und fragen nach der Verantwortung der Medien als vierte Gewalt in der Demokratie. Angesichts der tragischen Ereignisse in Hanau 2020 stellen wir beim Besuch der Initiative Hanau e.V. die zentrale Frage: Wie kann die Zivilgesellschaft diskriminierungsfreie Vielfalt und Toleranz fördern? \nVorläufiges Programm \nTag 1: Chancengleichheit// Frankfurt a.M. \n\nAnreise\nhistorisch-politischer Stadtrundgang: Engagement für die Emanzipation und Chancengleichheit von Frauen in Frankfurt am Main\n\nTag 2: Medien und Demokratie// Mainz \n\nFührung durch das ZDF-Studio und Gespräch mit der Redaktion zu Fake News\nBesuch im Haus des Erinnerns für Demokratie und Akzeptanz\nStadtrundgang: Auf den Spuren der Demokratie in Mainz\n\nTag 3: Toleranz und Vielfalt// Hanau & Frankfurt a.M \n\nGespräch mit Initiative Hanau e.V.: Fragen nach Konsequenzen seitens Politik und Zivilgesellschaft\nAnne Frank Bildungsstätte: Gespräch zu Antisemitismus & den Folgen\n\nTag 4: Umwelt und Nachbarschaft// Frankfurt a.M. \n\nBesuch des Umwelt- und Nachbarschaftshauses am Frankfurter Flughafen\nRückfahrt nach Dresden\n\n\nUnterkunft: Tagungshotel Höchster Hof \, Mainberg 3-11\, 65929 Frankfurt a. Main \n\nDie Reise startet und endet in Dresden\, Zustiege entlang der Fahrtroute sind auf Anfrage möglich. Auch die eigene Anreise ist möglich. Kommen Sie gern auf uns zu! \n\nPreis\n\n320\,- €\n295\,- € für Mitglieder im Freundeskreis Herbert-Wehner-Bildungswerk\nEZZ ca. 133\,50 € \n\nTeilnahmebedingungen | Infos zum barrierefreien Zugang \nAnmeldung\nWeitere Informationen
URL:https://www.tolerantes-sachsen.de/veranstaltung/bildungsreise-vielfalt-und-toleranz-frankfurt-im-zeichen-demokratischer-teilhabe-frankfurt-am-main/
CATEGORIES:Bildungsreise | Bildungstag
END:VEVENT
BEGIN:VEVENT
DTSTART;TZID=Europe/Berlin:20250429T090000
DTEND;TZID=Europe/Berlin:20250429T163000
DTSTAMP:20260424T141133
CREATED:20250211T090441Z
LAST-MODIFIED:20250211T090441Z
UID:29140-1745917200-1745944200@www.tolerantes-sachsen.de
SUMMARY:»Fake it ’till you make it« - Desinformation erkennen\, entlarven und kontern | Chemnitz
DESCRIPTION:Junge Menschen sind an der sie umgebenden Welt interessiert und informieren sich in Teilen aktiv über das aktuelle Weltgeschehen. Manchmal werden sie von gesellschaftspolitischen Nachrichten auch eher zufällig und beiläufig zwischen Tanzvideos und Katzenbildern erreicht. Laut der „Jugend\, Information\, Medien-Studie 2023“ des Medienpädagogischen Forschungsverbundes Südwest bezieht etwa ein Drittel der jungen Menschen seine Informationen aus Youtube\, TikTok oder Instagram. Nicht selten vermischen sich dort seriöse Nachrichten mit fakenews – mit absichtlich gestreuten Desinformationen\, um andere Menschen zu manipulieren\, abzuwerten\, Gewalt oder Hass zu rechtffertigen und Ängste zu schüren. Damit junge Menschen nicht Gefahr laufen Opfer der gezielten\, professionellen Manipulationsversuche beispielsweise per Clickbaiting\, Deepfakes\, Filterblasen\, Propaganda\, Social Bots oder Verschwörungstheorien zu werden\, benötigen sie Komptenzen und Werkzeuge\, um diese zu erkennen. Häufig fällt die Unterscheidung selbst erwachsenen Personen schwer\, die beim Erwerb der benötigen Fähigkeiten eigentlich Unterstützung bieten sollten. Genau da setzt das Seminar an und wird die Lücke schließen. Die Teilnehmenden werden erfahren\, wie sie Desinformationen erkennen\, andere sowie sich selbst vor Manipulationen schützen und ihnen wirkungsvoll begegnen können. Dafür werden Hintergrundwissen und praktisches Handwerkszeug zum Umgang mit Desinformationen im beruﬂichen und privaten Alltag vermittelt. \n\n\n\n\n\n\n\n\n\n\nOrt \n\nDMK E-BUSINESS GmbH\nDresdner Str. 38b\n09130 Chemnitz \n\n\n\n\n\n\nZielgruppe \n\n\nFachkräfte der Kinder- und Jugendarbeit und angrenzender Arbeitsfelder \n\n\n\n\n\n\nReferent*innen \n\nElisabeth Fast & André Dobrig \n\n\n\n\n\n\nPreis \n\n80\,00 € für Mitglieder/ 90\,00€ für Nichtmitglieder (inklusive Verpflegung) \n\n\n\n\n\n\nMethoden \n\n\nImpuls\, Kleingruppenarbeit\, praktische Übungen \n\n\n\n\n\n\n\nAnsprechpartner Organisatorisches \n\nAndré Dobrig\nTelefon: 03715336418\nE-Mail: dobrig@agjf-sachsen.de \nWeitere Informationen & Anmeldung
URL:https://www.tolerantes-sachsen.de/veranstaltung/fake-it-till-you-make-it-desinformation-erkennen-entlarven-und-kontern-chemnitz/
LOCATION:Stadt Chemnitz
CATEGORIES:Weiterbildung
END:VEVENT
END:VCALENDAR