BEGIN:VCALENDAR
VERSION:2.0
PRODID:-//Netzwerk Tolerantes Sachsen - ECPv6.15.18//NONSGML v1.0//EN
CALSCALE:GREGORIAN
METHOD:PUBLISH
X-WR-CALNAME:Netzwerk Tolerantes Sachsen
X-ORIGINAL-URL:https://www.tolerantes-sachsen.de
X-WR-CALDESC:Veranstaltungen für Netzwerk Tolerantes Sachsen
REFRESH-INTERVAL;VALUE=DURATION:PT1H
X-Robots-Tag:noindex
X-PUBLISHED-TTL:PT1H
BEGIN:VTIMEZONE
TZID:Europe/Berlin
BEGIN:DAYLIGHT
TZOFFSETFROM:+0100
TZOFFSETTO:+0200
TZNAME:CEST
DTSTART:20250330T010000
END:DAYLIGHT
BEGIN:STANDARD
TZOFFSETFROM:+0200
TZOFFSETTO:+0100
TZNAME:CET
DTSTART:20251026T010000
END:STANDARD
BEGIN:DAYLIGHT
TZOFFSETFROM:+0100
TZOFFSETTO:+0200
TZNAME:CEST
DTSTART:20260329T010000
END:DAYLIGHT
BEGIN:STANDARD
TZOFFSETFROM:+0200
TZOFFSETTO:+0100
TZNAME:CET
DTSTART:20261025T010000
END:STANDARD
BEGIN:DAYLIGHT
TZOFFSETFROM:+0100
TZOFFSETTO:+0200
TZNAME:CEST
DTSTART:20270328T010000
END:DAYLIGHT
BEGIN:STANDARD
TZOFFSETFROM:+0200
TZOFFSETTO:+0100
TZNAME:CET
DTSTART:20271031T010000
END:STANDARD
END:VTIMEZONE
BEGIN:VEVENT
DTSTART;TZID=Europe/Berlin:20260319T190000
DTEND;TZID=Europe/Berlin:20260319T210000
DTSTAMP:20260424T153136
CREATED:20260302T121253Z
LAST-MODIFIED:20260302T121253Z
UID:33317-1773946800-1773954000@www.tolerantes-sachsen.de
SUMMARY:Panel: Demokratie am Scheideweg | Leipzig
DESCRIPTION:Zwischen Populismus\, Wahrheit und Verantwortung\, Ein Panel mit: Jörg Baberowski – „Am Volk vorbei“ Elisa Hoven – „Das Ende der Wahrheit“ Marcel Hopp – „Was geht mich das an?“ \nIn einer Zeit\, in der die Demokratie in Deutschland und weltweit unter Druck gerät\, wird die Frage immer drängender: Wie können wir sie bewahren? Populismus\, Polarisierung und der Verlust gemeinsamer Wahrheiten bedrohen den gesellschaftlichen Zusammenhalt. Doch was bedeutet das konkret für uns alle? Und welche Rolle spielen Politik\, Medien und jeder Einzelne dabei?\nDiese Fragen stehen im Mittelpunkt einer moderierten Diskussion mit drei Autor:innen\, die sich in ihren jüngsten Büchern intensiv mit den Herausforderungen unserer Zeit auseinandersetzen.\nJörg Baberowski zeigt in „Am Volk vorbei“\, wie Politik und Gesellschaft zunehmend aneinander vorbeireden. Er analysiert\, warum politische Entscheidungen oft als fremdbestimmt wahrgenommen werden und wie dies das Vertrauen in demokratische Institutionen untergräbt. Sein Buch ist ein Appell\, die Kluft zwischen Bürgern und Politik zu überbrücken – bevor es zu spät ist.\nElisa Hoven widmet sich in „Das Ende der Wahrheit“ einer der größten Gefahren für die Demokratie: dem Verlust gemeinsamer Fakten. In einer Welt\, in der Meinungen oft wichtiger genommen werden als Tatsachen\, fragt sie\, wie wir noch sinnvolle Debatten führen können. Ihr Buch ist eine Warnung\, aber auch eine Aufforderung\, die Wahrheit wieder in den Mittelpunkt unseres Zusammenlebens zu stellen.\nMarcel Hopp stellt in „Was geht mich das an?“ die Frage\, die sich viele stellen – und die doch so gefährlich ist. Er zeigt auf\, warum politische Teilhabe keine Frage der Lust\, sondern der Notwendigkeit ist. Sein Buch macht deutlich\, dass Demokratie nur funktioniert\, wenn sich jeder Einzelne als Teil des Ganzen begreift und Verantwortung übernimmt.\nDie Journalistin und Moderatorin Anna Hoffmeister führt durch den Abend. Die Zukunft der Demokratie geht uns alle an – und sie wird auch von uns allen gestaltet. \nVeranstalter: Leipziger Messe GmbH \nAnmeldung erforderlich: presse@stiftung-fr.de \nAb 16 Jahren. \nOrt\nDenkmalWerkstatt\, Hansahaus\, Grimmarischer Weg 13-15\, Leipzig \nWeitere Informationen
URL:https://www.tolerantes-sachsen.de/veranstaltung/panel-demokratie-am-scheideweg-leipzig/
LOCATION:Stadt Leipzig
CATEGORIES:Podium | Gespräch
END:VEVENT
END:VCALENDAR