BEGIN:VCALENDAR
VERSION:2.0
PRODID:-//Netzwerk Tolerantes Sachsen - ECPv6.15.18//NONSGML v1.0//EN
CALSCALE:GREGORIAN
METHOD:PUBLISH
X-WR-CALNAME:Netzwerk Tolerantes Sachsen
X-ORIGINAL-URL:https://www.tolerantes-sachsen.de
X-WR-CALDESC:Veranstaltungen für Netzwerk Tolerantes Sachsen
REFRESH-INTERVAL;VALUE=DURATION:PT1H
X-Robots-Tag:noindex
X-PUBLISHED-TTL:PT1H
BEGIN:VTIMEZONE
TZID:Europe/Berlin
BEGIN:DAYLIGHT
TZOFFSETFROM:+0100
TZOFFSETTO:+0200
TZNAME:CEST
DTSTART:20250330T010000
END:DAYLIGHT
BEGIN:STANDARD
TZOFFSETFROM:+0200
TZOFFSETTO:+0100
TZNAME:CET
DTSTART:20251026T010000
END:STANDARD
BEGIN:DAYLIGHT
TZOFFSETFROM:+0100
TZOFFSETTO:+0200
TZNAME:CEST
DTSTART:20260329T010000
END:DAYLIGHT
BEGIN:STANDARD
TZOFFSETFROM:+0200
TZOFFSETTO:+0100
TZNAME:CET
DTSTART:20261025T010000
END:STANDARD
BEGIN:DAYLIGHT
TZOFFSETFROM:+0100
TZOFFSETTO:+0200
TZNAME:CEST
DTSTART:20270328T010000
END:DAYLIGHT
BEGIN:STANDARD
TZOFFSETFROM:+0200
TZOFFSETTO:+0100
TZNAME:CET
DTSTART:20271031T010000
END:STANDARD
END:VTIMEZONE
BEGIN:VEVENT
DTSTART;TZID=Europe/Berlin:20260226T190000
DTEND;TZID=Europe/Berlin:20260226T210000
DTSTAMP:20260424T202231
CREATED:20260217T135810Z
LAST-MODIFIED:20260217T140032Z
UID:33140-1772132400-1772139600@www.tolerantes-sachsen.de
SUMMARY:Filmabend: „Kein Land für Niemand” | Freiberg
DESCRIPTION:Die Dokumentation „Kein Land für Niemand” begleitet eine Rettungsmission im Mittelmeer\, zeigt die katastrophalen Zustände in Lagern für Geflüchtete und gibt Menschen eine Stimme\, die den lebensgefährlichen Weg nach Europa überlebt haben. Gleichzeitig blickt der Film auf die politische und gesellschaftliche Entwicklung in Deutschland: Ein erstarkender Rechtspopulismus prägt den Diskurs. Flucht und Migration werden zunehmend kriminalisiert\, und humanitäre Hilfe gerät unter Druck. Durch Interviews mit Wissenschaftler:innen\, politischen Entscheidungsträger:innen und Aktivist:innen hinterfragt der Film die aktuellen Narrative über Flucht und Migration und beleuchtet die Mechanismen\, mit denen Angst und Populismus die politische Agenda bestimmen. \nIm Anschluss des Films steht die aus Mittelsachsen stammende Ärztin Nora\, die an mehreren Seenotrettungseinsätzen beteiligt war\, für eine Gesprächsrunde zur Verfügung. \nDer Film wird organisiert von der SEBIT\, dem Jungen Netzwerk\, Kulturstrudel\, Freiberg.Grenzenlos\, Freiberg für Alle und Agenda 21. \n📍Kinopolis\, Chemnitzer Str. 133 09599 Freiberg\n📆 26.02.2026\n⏰ Start 19 Uhr\n⌛ Filmlaufzeit: 107 min\n💸 Eintritt: kostenlos\, Spendenmöglichkeiten Vorort \nWeitere Informationen
URL:https://www.tolerantes-sachsen.de/veranstaltung/filmabend-kein-land-fuer-niemand-freiberg/
LOCATION:Landkreis Mittelsachsen
CATEGORIES:Film
END:VEVENT
END:VCALENDAR