BEGIN:VCALENDAR
VERSION:2.0
PRODID:-//Netzwerk Tolerantes Sachsen - ECPv6.15.18//NONSGML v1.0//EN
CALSCALE:GREGORIAN
METHOD:PUBLISH
X-ORIGINAL-URL:https://www.tolerantes-sachsen.de
X-WR-CALDESC:Veranstaltungen für Netzwerk Tolerantes Sachsen
REFRESH-INTERVAL;VALUE=DURATION:PT1H
X-Robots-Tag:noindex
X-PUBLISHED-TTL:PT1H
BEGIN:VTIMEZONE
TZID:Europe/Berlin
BEGIN:DAYLIGHT
TZOFFSETFROM:+0100
TZOFFSETTO:+0200
TZNAME:CEST
DTSTART:20250330T010000
END:DAYLIGHT
BEGIN:STANDARD
TZOFFSETFROM:+0200
TZOFFSETTO:+0100
TZNAME:CET
DTSTART:20251026T010000
END:STANDARD
BEGIN:DAYLIGHT
TZOFFSETFROM:+0100
TZOFFSETTO:+0200
TZNAME:CEST
DTSTART:20260329T010000
END:DAYLIGHT
BEGIN:STANDARD
TZOFFSETFROM:+0200
TZOFFSETTO:+0100
TZNAME:CET
DTSTART:20261025T010000
END:STANDARD
BEGIN:DAYLIGHT
TZOFFSETFROM:+0100
TZOFFSETTO:+0200
TZNAME:CEST
DTSTART:20270328T010000
END:DAYLIGHT
BEGIN:STANDARD
TZOFFSETFROM:+0200
TZOFFSETTO:+0100
TZNAME:CET
DTSTART:20271031T010000
END:STANDARD
END:VTIMEZONE
BEGIN:VEVENT
DTSTART;TZID=Europe/Berlin:20260519T090000
DTEND;TZID=Europe/Berlin:20260519T160000
DTSTAMP:20260424T173048
CREATED:20260317T160154Z
LAST-MODIFIED:20260317T160154Z
UID:33603-1779181200-1779206400@www.tolerantes-sachsen.de
SUMMARY:Bewegung unEingeschränkt – Junge Menschen im Spannungsfeld von Aufenthaltsstatus und Teilhabe | Chemnitz
DESCRIPTION:Eine diverse Gesellschaft lebt von Offenheit\, Austausch und Mobilität – Prozesse die die Offene Kinder- und Jugendarbeit für alle jungen Menschen anbietet. Trotz offener Grenzen hat noch nicht jeder in Deutschland lebende junger Mensch gleichermaßen Zugang zu den zahlreichen Angeboten in der Offenen Kinder- und Jugendarbeit sowie der Internationalen Jugendarbeit. Denn Aufenthaltsstatus\, asyl- und aufenthaltsrechtliche Vorgaben sowie Unklarheiten im Umgang mit Kinder und Jugendlichen mit potenziellen Fluchterfahrungen stellen Fachkräften weiterhin vor grundlegende Herausforderungen.\nIn der Tagesveranstaltung werden grundlegende Kenntnisse zum Asyl- und Aufenthaltsrecht vermittelt\, um mehr Sicherheit und Sensibilität im Umgang mit migrationsbezogenen Herausforderungen zu entwickeln. Rechtliches und migrationssensibles Wissen wird dazu befähigen inklusivere Handlungsmöglichkeiten zu entwickeln und grenznahe Angebote sicher und inklusiv zu gestalten. Ein besonderer Fokus liegt dabei auf den Zusammenhängen zwischen individuellen Aufenthaltsstatus und der Teilhabe von Kindern und Jugendlichen an Angeboten der Internationalen Jugendarbeit. \n\n\nOrt \n\nJugendherberge EINS Chemnitz\nGetreidemarkt 1\n09111 Chemnitz \n\n\n\n\n\n\nZielgruppe \n\n\nFachkräfte der Offenen Kinder- und Jugendarbeit sowie angrenzender Arbeitsfelder \n\n\n\n\n\n\n\n\n\n\n\n\nReferent*innen \n\n\nSandra Münch & Mohammad Mohammad \n\n\n\n\n\n\n\nPreis \n\n50\,00 € für Mitglieder/ 70\,00 € für Nichtmitglieder (inklusive Verpflegung) \n\n\n\n\n\n\nMethoden \n\n\nImpuls\, Einzel- und Gruppenarbeit\, Diskussion & Selbstreflexion \n\n\n\n\n\n\n\nAnsprechpartner Organisatorisches \n\nJessica Fleischer\nTelefon: 03715336432\nE-Mail: fleischer@agjf-sachsen.de \nWeitere Informationen & Anmeldung
URL:https://www.tolerantes-sachsen.de/veranstaltung/bewegung-uneingeschraenkt-junge-menschen-im-spannungsfeld-von-aufenthaltsstatus-und-teilhabe-chemnitz/
LOCATION:Stadt Chemnitz
CATEGORIES:Seminar | Workshop
END:VEVENT
END:VCALENDAR