BEGIN:VCALENDAR
VERSION:2.0
PRODID:-//Netzwerk Tolerantes Sachsen - ECPv6.15.18//NONSGML v1.0//EN
CALSCALE:GREGORIAN
METHOD:PUBLISH
X-ORIGINAL-URL:https://www.tolerantes-sachsen.de
X-WR-CALDESC:Veranstaltungen für Netzwerk Tolerantes Sachsen
REFRESH-INTERVAL;VALUE=DURATION:PT1H
X-Robots-Tag:noindex
X-PUBLISHED-TTL:PT1H
BEGIN:VTIMEZONE
TZID:Europe/Berlin
BEGIN:DAYLIGHT
TZOFFSETFROM:+0100
TZOFFSETTO:+0200
TZNAME:CEST
DTSTART:20250330T010000
END:DAYLIGHT
BEGIN:STANDARD
TZOFFSETFROM:+0200
TZOFFSETTO:+0100
TZNAME:CET
DTSTART:20251026T010000
END:STANDARD
BEGIN:DAYLIGHT
TZOFFSETFROM:+0100
TZOFFSETTO:+0200
TZNAME:CEST
DTSTART:20260329T010000
END:DAYLIGHT
BEGIN:STANDARD
TZOFFSETFROM:+0200
TZOFFSETTO:+0100
TZNAME:CET
DTSTART:20261025T010000
END:STANDARD
BEGIN:DAYLIGHT
TZOFFSETFROM:+0100
TZOFFSETTO:+0200
TZNAME:CEST
DTSTART:20270328T010000
END:DAYLIGHT
BEGIN:STANDARD
TZOFFSETFROM:+0200
TZOFFSETTO:+0100
TZNAME:CET
DTSTART:20271031T010000
END:STANDARD
END:VTIMEZONE
BEGIN:VEVENT
DTSTART;VALUE=DATE:20260826
DTEND;VALUE=DATE:20260830
DTSTAMP:20260424T210658
CREATED:20260108T160516Z
LAST-MODIFIED:20260108T160516Z
UID:32776-1787702400-1788047999@www.tolerantes-sachsen.de
SUMMARY:NÜRNBERG\, REGENSBURG & PASSAU – Bayern: Mehr Wandel wagen | Dresden & Bayern
DESCRIPTION:Jenseits von Tracht und Tradition: drei bayerische Städte – drei Orte des Wandels. Von den Schatten der Vergangenheit über Fragen von Flucht\, Vielfalt und Integration bis hin zu den Herausforderungen des Klimawandels: Die Reise verbindet historische Erfahrungen mit aktuellen politischen Debatten und lokalen Lösungsansätzen. Und sie führt euch zusammen mit jenen Menschen\, die Veränderungen vorantreiben und Vielfalt leben. \n\nVorläufiges Programm \nTag 1: Nürnberg & die Menschenrechte \n\nAnreise\npolitisch-historische Stadtführung »Stadt des Friedens & der Menschenrechte« entlang der Nürnberger Gedenkmeile\n\nTag 2: Regensburg & die Vielfalt \n\nGespräch mit Kommunalpolitiker:innen zum Thema »Flucht & Integration«\nFührung im Rathaus\nBesuch beim Arbeitskreis für ausländische Arbeitnehmer\nTransfer nach Passau\n\nTag 3: Passau & der Hochwasserschutz \n\nGespräch mit der Katastrophenschutzbehörde zum Hochwassermanagement\npolitischer Stadtrundgang zu den Herausforderungen des Klimawandels\n\nTag 4: Passau & die Integration \n\nBesuch des Gemeinsam leben und lernen in Europa e.V.\nRückreise nach Dresden\n\nOrt/Treffpunkt\n\nStart im Herbert-Wehner-Bildungswerk\nDevrientstr. 7\nDresden 01067 \n\nPreis\n\n345\,- €\n320\,- € für Mitglieder im Freundeskreis Herbert-Wehner-Bildungswerk\nEinzelzimmerzuschlag ca. 93\,- € Passau / 33\,50€ Regensburg  \n\n\nUnterkunft:\nHotel St. Georg\, Regensburg\, Karl-Stieler-Straße 8-9\, 93051 Regensburg \nB&B Hotel Passau-West\, Danziger Str. 20\, 94036 Passau \n\nDie Reise startet und endet in Dresden\, Zustiege entlang der Fahrtroute sind auf Anfrage möglich. Auch die eigene Anreise ist möglich. \n\nTeilnahmebedingungen | Infos zum barrierefreien Zugang \n\nAnmeldeformular öffnen \nWeitere Informationen
URL:https://www.tolerantes-sachsen.de/veranstaltung/nuernberg-regensburg-passau-bayern-mehr-wandel-wagen-dresden-bayern/
LOCATION:Stadt Dresden
CATEGORIES:Bildungsreise | Bildungstag
END:VEVENT
END:VCALENDAR