BEGIN:VCALENDAR
VERSION:2.0
PRODID:-//Netzwerk Tolerantes Sachsen - ECPv6.15.18//NONSGML v1.0//EN
CALSCALE:GREGORIAN
METHOD:PUBLISH
X-ORIGINAL-URL:https://www.tolerantes-sachsen.de
X-WR-CALDESC:Veranstaltungen für Netzwerk Tolerantes Sachsen
REFRESH-INTERVAL;VALUE=DURATION:PT1H
X-Robots-Tag:noindex
X-PUBLISHED-TTL:PT1H
BEGIN:VTIMEZONE
TZID:Europe/Berlin
BEGIN:DAYLIGHT
TZOFFSETFROM:+0100
TZOFFSETTO:+0200
TZNAME:CEST
DTSTART:20240331T010000
END:DAYLIGHT
BEGIN:STANDARD
TZOFFSETFROM:+0200
TZOFFSETTO:+0100
TZNAME:CET
DTSTART:20241027T010000
END:STANDARD
BEGIN:DAYLIGHT
TZOFFSETFROM:+0100
TZOFFSETTO:+0200
TZNAME:CEST
DTSTART:20250330T010000
END:DAYLIGHT
BEGIN:STANDARD
TZOFFSETFROM:+0200
TZOFFSETTO:+0100
TZNAME:CET
DTSTART:20251026T010000
END:STANDARD
BEGIN:DAYLIGHT
TZOFFSETFROM:+0100
TZOFFSETTO:+0200
TZNAME:CEST
DTSTART:20260329T010000
END:DAYLIGHT
BEGIN:STANDARD
TZOFFSETFROM:+0200
TZOFFSETTO:+0100
TZNAME:CET
DTSTART:20261025T010000
END:STANDARD
END:VTIMEZONE
BEGIN:VEVENT
DTSTART;TZID=Europe/Berlin:20250402T140000
DTEND;TZID=Europe/Berlin:20250402T180000
DTSTAMP:20260424T112021
CREATED:20250313T075833Z
LAST-MODIFIED:20250313T075844Z
UID:29536-1743602400-1743616800@www.tolerantes-sachsen.de
SUMMARY:Resilienz-Schatzkiste für fordernde Zeiten – Stärkung für queere Bi_PoC und Refugees | Leipzig
DESCRIPTION:Anmeldefrist 23.03.2025 | \nDer Workshop ist in Deutsch und Englisch geplant. Die Teilnahme ist kostenfrei und für Snacks und Getränke ist gesorgt. \nFür max. 10 Teilnehmende. Diese Veranstaltung richtet sich an LGBTINAQ* Personen\, die sich auch identifizieren als: Schwarz\, indigen\, Person of Color\, (post)migrantisch\, geflüchtet\, jüdisch\, muslimisch\, nicht weiß-deutsch-christlich – und/oder mit nicht-kolonialen Identitäten wie z.B. Two Spirit\, Hijra\, Baklâ\, … \nBitte meldet euch bis 23.03. unter +491573 8216491 (WhatsApp\, Signal\, Telegram) an. Teilt uns bei der Anmeldung mit\, ob ihr eine Sprachmittlung bzw. die Übernahme von Fahrtkosten benötigt. \nOrt\nDemmeringstraße 32\, 3. Etage (Klingel: Queer Resilience) \n\n\n\n\n\n\n\nWeitere Sprachen / more languages (PDF)\nWeitere Informationen
URL:https://www.tolerantes-sachsen.de/veranstaltung/resilienz-schatzkiste-fuer-fordernde-zeiten-staerkung-fuer-queere-bi_poc-und-refugees-leipzig/
LOCATION:Stadt Leipzig
CATEGORIES:Seminar | Workshop
END:VEVENT
BEGIN:VEVENT
DTSTART;TZID=Europe/Berlin:20250410T183000
DTEND;TZID=Europe/Berlin:20250410T200000
DTSTAMP:20260424T112021
CREATED:20250401T114546Z
LAST-MODIFIED:20250401T114546Z
UID:29748-1744309800-1744315200@www.tolerantes-sachsen.de
SUMMARY:Schlomo Samson – ein Überlebender berichtet  80 Jahre nach der Befreiung von Bergen-Belsen | Leipzig
DESCRIPTION:Der 101-jährige Schlomo Samson ist einer der wenigen lebenden Zeitzeugen aus Bergen-Belsen. Seine frühen Jahre waren geprägt von Freiheit und Gefangenschaft. Geboren wurde er in Leipzig und 1938 mit nur 14 Jahren aus Deutschland ausgewiesen. Ohne seine Familie lebte er in Holland zunächst in Freiheit. Nach der deutschen Besatzung kam er in das Lager Westerbork. Dort traf er seine Eltern wieder\, heiratete und wurde mit seiner Frau nach Bergen-Belsen deportiert. \nTrotz der Gräuel\, die Schlomo Samson erlebte\, blieb er immer frei im Geiste. Sein Ziel stets vor Augen: Palästina. Seit 1946 lebt er im Kibbuz Schluchot\, im Norden Israels. Seiner Geburtsstadt Leipzig ist er bis heute eng verbunden. Vielen Leipziger Schülern hat er seine Geschichte erzählt. Für seine Kinder\, Enkel und Urenkel schrieb er sie in dem Buch „Zwischen Finsternis und Licht – Erinnerungen eines Leipziger Juden“ auf.\n \nIm Gespräch mit seiner engen Freundin Elke Urban stellen wir Schlomo Samson vor. In einem aufgezeichneten Gespräch und zahlreichen Interviews kommt er selbst zu Wort. Dies ist eine Kooperationsveranstaltung der Friedrich-Naumann-Stiftung für die Freiheit mit dem Ariowitsch-Haus\, der Wilhelm-Külz-Stiftung und dem Schulmuseum Leipzig. \nVeranstalter: Friedrich Naumann Stiftung\, Schulmuseum Leipzig\, Ariowitsch-Haus e.V. \nEintritt frei (Salon) \n\n\nOrt\nSalon des Ariowitsch-Hauses\nHinrichsenstraße 14\n04105 Leipzig\, Deutschland \n\n\nWeitere Informationen
URL:https://www.tolerantes-sachsen.de/veranstaltung/schlomo-samson-ein-ueberlebender-berichtet-80-jahre-nach-der-befreiung-von-bergen-belsen-leipzig/
LOCATION:Stadt Leipzig
CATEGORIES:Gedenken,Podium | Gespräch
END:VEVENT
BEGIN:VEVENT
DTSTART;TZID=Europe/Berlin:20250416T180000
DTEND;TZID=Europe/Berlin:20250416T200000
DTSTAMP:20260424T112021
CREATED:20250414T085229Z
LAST-MODIFIED:20250414T085238Z
UID:29809-1744826400-1744833600@www.tolerantes-sachsen.de
SUMMARY:Filmvorführung und Diskussion: Geheimsache Ghettofilm | Görlitz
DESCRIPTION:Ein deutsches Filmteam drehte 1942 im Warschauer Ghetto – scheinbar eine Dokumentation\, doch in Wahrheit Propaganda. Geheimsache Ghettofilm enthüllt die Manipulation hinter diesen Bildern. \n\n\nDer Film „Geheimsache Ghettofilm“ (2010) von Yael Hersonski zeigt einzigartige\, aber manipulierte Aufnahmen aus dem Warschauer Ghetto\, die 1942 im Auftrag der NS-Propaganda gedreht wurden. Beleuchtet wird die Diskrepanz zwischen der Inszenierung und der grausamen Realität im Ghetto. So stellt sich die Frage: Wie können wir Wahrheit von inszenierter Propaganda unterscheiden? \nNach der Vorführung folgt eine Gesprächsrunde über Erinnerungskultur in Deutschland und Polen. \nVeranstaltung findet in Kooperation mit dem Meetingpoint Memory Messiaen e.V. statt. \n16.04.2024\,18:00 Uhr\, Camillokino (Handwerk 13\, 02826 Görlitz) \nDie Veranstaltungen wird ins Deutsche und Polnische verdolmetscht. \nEintritt frei.\n \n\n\nDie Veranstaltung ist ein Angebot des Projekts MITZVAH. Das Projekt wird in der Bildungsagenda NS-Unrecht von der Stiftung Erinnerung\, Verantwortung und Zukunft (EVZ) und dem Bundesministerium der Finanzen (BMF) gefördert. \nWeitere Informationen
URL:https://www.tolerantes-sachsen.de/veranstaltung/filmvorfuehrung-und-diskussion-geheimsache-ghettofilm/
LOCATION:Landkreis Görlitz
CATEGORIES:Film,Podium | Gespräch
END:VEVENT
BEGIN:VEVENT
DTSTART;TZID=Europe/Berlin:20250422T160000
DTEND;TZID=Europe/Berlin:20250422T173000
DTSTAMP:20260424T112021
CREATED:20250414T085437Z
LAST-MODIFIED:20250414T085437Z
UID:29813-1745337600-1745343000@www.tolerantes-sachsen.de
SUMMARY:Stolpersteine putzen & Führung | Görlitz
DESCRIPTION:Kommen Sie mit uns am Vorabend auf eine geführte Tour durch Görlitz und Zgorzelec\, um Stolpersteine zu reinigen und Geschichten jüdischer Familien der Stadt Görlitz zu hören. \n\n\nAn Jom haScho’a gedenken Israelis* den Opfern des Holocaust sowie dem Mut der Jüdinnen*Juden Europas. Der Tag stellt die jüdische Perspektive in den Vordergrund und unterstreicht die Bedeutung des Überlebens. \nKommen Sie mit uns am Vorabend auf eine geführte Tour durch Görlitz und Zgorzelec. Gemeinsam reinigen wir Stolpersteine und hören von den Schicksalen ermordeter und überlebender Görlitzer Jüdinnen*Juden. \nTreffpunkt am Demianiplatz 40\, 02826 Görlitz. Beginn 16:00 Uhr. \nDie Veranstaltung wird ins Deutsche und Polnische verdolmetscht. \nTeilnahme kostenlos. \n\n\nDie Veranstaltung ist ein Angebot des Projekts MITZVAH. Das Projekt wird in der Bildungsagenda NS-Unrecht von der Stiftung Erinnerung\, Verantwortung und Zukunft (EVZ) und dem Bundesministerium der Finanzen (BMF) gefördert. \nWeitere Informationen
URL:https://www.tolerantes-sachsen.de/veranstaltung/stolpersteine-putzen-fuehrung-goerlitz/
LOCATION:Landkreis Görlitz
CATEGORIES:Gedenken
END:VEVENT
END:VCALENDAR