BEGIN:VCALENDAR
VERSION:2.0
PRODID:-//Netzwerk Tolerantes Sachsen - ECPv6.15.18//NONSGML v1.0//EN
CALSCALE:GREGORIAN
METHOD:PUBLISH
X-ORIGINAL-URL:https://www.tolerantes-sachsen.de
X-WR-CALDESC:Veranstaltungen für Netzwerk Tolerantes Sachsen
REFRESH-INTERVAL;VALUE=DURATION:PT1H
X-Robots-Tag:noindex
X-PUBLISHED-TTL:PT1H
BEGIN:VTIMEZONE
TZID:Europe/Berlin
BEGIN:DAYLIGHT
TZOFFSETFROM:+0100
TZOFFSETTO:+0200
TZNAME:CEST
DTSTART:20250330T010000
END:DAYLIGHT
BEGIN:STANDARD
TZOFFSETFROM:+0200
TZOFFSETTO:+0100
TZNAME:CET
DTSTART:20251026T010000
END:STANDARD
BEGIN:DAYLIGHT
TZOFFSETFROM:+0100
TZOFFSETTO:+0200
TZNAME:CEST
DTSTART:20260329T010000
END:DAYLIGHT
BEGIN:STANDARD
TZOFFSETFROM:+0200
TZOFFSETTO:+0100
TZNAME:CET
DTSTART:20261025T010000
END:STANDARD
BEGIN:DAYLIGHT
TZOFFSETFROM:+0100
TZOFFSETTO:+0200
TZNAME:CEST
DTSTART:20270328T010000
END:DAYLIGHT
BEGIN:STANDARD
TZOFFSETFROM:+0200
TZOFFSETTO:+0100
TZNAME:CET
DTSTART:20271031T010000
END:STANDARD
END:VTIMEZONE
BEGIN:VEVENT
DTSTART;TZID=Europe/Berlin:20260527T170000
DTEND;TZID=Europe/Berlin:20260527T210000
DTSTAMP:20260424T124516
CREATED:20251205T085510Z
LAST-MODIFIED:20251205T085510Z
UID:32490-1779901200-1779915600@www.tolerantes-sachsen.de
SUMMARY:Rhetoriktraining | Dresden
DESCRIPTION:Wer ehrenamtlich aktiv ist\, muss das 1×1 der Rhetorik beherrschen. Anhand konkreter Problemstellungen werden diese Grundlagen eingeübt und ein Mix an Techniken und Kniffen vermittelt. Die Kameraaufnahmen werden in Feedbackrunden ausgewertet. Dabei werden die eigene Körpersprache\, sprachliche Besonderheiten und die gewählte Argumentationslinie besonders unter die Lupe genommen. \nSeminarleiterin: Karin Pritzel\, Kommunikations- und Politikwissenschaftlerin (Dresden) \n\nmax. Teilnehmer:innenzahl: 7 \n\nOrt/Treffpunkt\n\nHerbert-Wehner-Bildungswerk für Kommunalpolitik\nDevrientstraße 7\n01067 Dresden \n\nPreis\n\n50\,00 €\n25\,00 € für Mitglieder im Freundeskreis Herbert-Wehner-Bildungswerk \n\nTeilnahmebedingungen | Infos zum barrierefreien Zugang \n\nAnmeldeformular öffnen \nWeitere Informationen
URL:https://www.tolerantes-sachsen.de/veranstaltung/rhetoriktraining-dresden-2/
LOCATION:Stadt Dresden
CATEGORIES:Seminar | Workshop
END:VEVENT
BEGIN:VEVENT
DTSTART;TZID=Europe/Berlin:20260610T160000
DTEND;TZID=Europe/Berlin:20260610T180000
DTSTAMP:20260424T124516
CREATED:20260312T115917Z
LAST-MODIFIED:20260312T115917Z
UID:33530-1781107200-1781114400@www.tolerantes-sachsen.de
SUMMARY:Offene Kurzberatung für Migrant*innenorganisationen | Dresden
DESCRIPTION:Habt ihr Fragen zu eurer Vereinsarbeit? Dann kommt vorbei zur offenen Kurzberatung des Kulturbüros Dresden  im Haus der Brücke! \nWir helfen bei Themen wie: \n\nBuchhaltung\nVorstand\nVerträge\nFördermittel\nProjektideen\n\nWas wir nicht sofort klären können\, besprechen wir gern in einem Folgetermin. \nWann: 08.04.\, 22.04.\, 13.05.\, 27.05.\, 10.06.\, 24.06.  von 16:00 – 18:00 Uhr\nWo: Haus der Brücke\, Dresden; Raum: Begegnungscafé \nWie: einfach vorbeikommen oder vorher kurz anmelden unter info@hor-dresden.de \nDas Angebot wird organisiert durch die Projekte Engagementberatung und House of Resources Dresden+ des Kulturbüro Dresden. \nDie Beratung findet auf Deutsch oder auf Englisch statt. Wenn ihr eine andere Übersetzung oder besondere Bedarfe habt\, meldet euch bitte mindestens eine Woche vorher per Email an. \nWeitere Informationen
URL:https://www.tolerantes-sachsen.de/veranstaltung/offene-kurzberatung-fuer-migrantinnenorganisationen-dresden-8/
LOCATION:Stadt Dresden
CATEGORIES:Seminar | Workshop
END:VEVENT
BEGIN:VEVENT
DTSTART;TZID=Europe/Berlin:20260617T170000
DTEND;TZID=Europe/Berlin:20260617T200000
DTSTAMP:20260424T124516
CREATED:20260402T094751Z
LAST-MODIFIED:20260402T094751Z
UID:33804-1781715600-1781726400@www.tolerantes-sachsen.de
SUMMARY:Netzwerken\, austauschen\, gemeinsam stark werden! Netzwerkveranstaltung für Migrant*innenorganisationen und Unterstützer*innen | Dresden
DESCRIPTION:Anmeldefrist: 10.06.2026 | \nAm 17. Juni 2026 laden wir euch herzlich zu unserer Netzwerkveranstaltung für Migrant*innenselbstorganisationen\, Bündnisse und Unterstützer*innen aus Dresden und Umgebung ein. Hier habt ihr die Möglichkeit\, euer Engagement vorzustellen\, andere aktive Gruppen kennenzulernen und wertvolle Kontakte zu knüpfen. \n\n\nDatum: 17.06.2026 \nUhrzeit: 17:00 – 20:00 Uhr (16:45 Uhr Einlass) \nOrt: Community Raum HY! | Deutsches Hygiene-Museum \nWas euch erwartet: \n\nVernetzung: Lernt andere Vereine\, Initiativen und Akteuren kennen und tauscht euch über eure Aktivitäten aus.\nKooperationen: Entdeckt neue Möglichkeiten der Zusammenarbeit – mit Dachverbänden wie dem Landesverband Sächsischer Migrant*innenorganisationen (LASMO)\, dem Deutschen Hygiene-Museum und untereinander.\nDialog: Kommt direkt ins Gespräch und findet Gemeinsamkeiten\, um eure Arbeit zu stärken.\n\nWir lernen uns kennen\, tauschen Erfahrungen aus und finden neue Kontakte. \nAußerdem: \nInfobörse „Ich suche – ich biete – ich mache“: Bring deine Ideen\, Fragen und Angebote mit und finde anderen Vereine und Menschen\, mit denen du zusammenarbeiten kannst. \nFür wen: Migrant*innenorganisationen\, engagierte migrantische Personen aus Dresden\, die bereits in Initiativen oder Vereinen aktiv sind\, einen Verein gründen möchten oder nach passenden Gruppen suchen – sowie alle Unterstützer*innen. \nVeranstalter: Diese Veranstaltung ist eine Kooperation des Kulturbüro Dresden (Projekt Engagementberatung und House of Resources Dresden+)\, des Deutschen Hygiene-Museums Dresden und des Landesverbandes Sächsischer Migrant*innenorganisationen (LASMO). \nBarrieren: Die Veranstaltung findet auf Deutsch statt. Braucht ihr eine Übersetzung oder andere Unterstützung? Dann sagt uns gerne bei der Anmeldung Bescheid. Die Räume im Hygiene-Museum sind barrierefrei. \nFörderung: Diese Veranstaltung findet im Rahmen des Projektes Engagementberatung statt\, welches durch die Landeshauptstadt Dresden finanziert wird. Die Veranstaltung ist Teil einer zusätzlichen von der Heidehof-Stiftung geförderten Workshopreihe. \nMeldet euch jetzt hier an. Die Anmeldung bis 10.06.2026 möglich. \nKommt vorbei und bringt eure Ideen und Fragen mit – denn gemeinsam sind wir stärker! \n\nWeitere Informationen
URL:https://www.tolerantes-sachsen.de/veranstaltung/netzwerken-austauschen-gemeinsam-stark-werden-netzwerkveranstaltung-fuer-migrantinnenorganisationen-und-unterstuetzerinnen-dresden/
LOCATION:Stadt Dresden
CATEGORIES:Vernetzung
END:VEVENT
BEGIN:VEVENT
DTSTART;TZID=Europe/Berlin:20260624T160000
DTEND;TZID=Europe/Berlin:20260624T180000
DTSTAMP:20260424T124516
CREATED:20260312T120639Z
LAST-MODIFIED:20260312T120639Z
UID:33532-1782316800-1782324000@www.tolerantes-sachsen.de
SUMMARY:Offene Kurzberatung für Migrant*innenorganisationen | Dresden
DESCRIPTION:Habt ihr Fragen zu eurer Vereinsarbeit? Dann kommt vorbei zur offenen Kurzberatung des Kulturbüros Dresden  im Haus der Brücke! \nWir helfen bei Themen wie: \n\nBuchhaltung\nVorstand\nVerträge\nFördermittel\nProjektideen\n\nWas wir nicht sofort klären können\, besprechen wir gern in einem Folgetermin. \nWann: 08.04.\, 22.04.\, 13.05.\, 27.05.\, 10.06.\, 24.06.  von 16:00 – 18:00 Uhr\nWo: Haus der Brücke\, Dresden; Raum: Begegnungscafé \nWie: einfach vorbeikommen oder vorher kurz anmelden unter info@hor-dresden.de \nDas Angebot wird organisiert durch die Projekte Engagementberatung und House of Resources Dresden+ des Kulturbüro Dresden. \nDie Beratung findet auf Deutsch oder auf Englisch statt. Wenn ihr eine andere Übersetzung oder besondere Bedarfe habt\, meldet euch bitte mindestens eine Woche vorher per Email an. \nWeitere Informationen
URL:https://www.tolerantes-sachsen.de/veranstaltung/offene-kurzberatung-fuer-migrantinnenorganisationen-dresden-9/
LOCATION:Stadt Dresden
CATEGORIES:Seminar | Workshop
END:VEVENT
BEGIN:VEVENT
DTSTART;TZID=Europe/Berlin:20260820T190000
DTEND;TZID=Europe/Berlin:20260820T220000
DTSTAMP:20260424T124516
CREATED:20260122T085630Z
LAST-MODIFIED:20260122T085630Z
UID:32927-1787252400-1787263200@www.tolerantes-sachsen.de
SUMMARY:Kommunalrecht kompakt: Neutralitätsgebot und Gemeinnützigkeit kommunalpolitisch engagierter Vereine | digital
DESCRIPTION:Du engagierst dich ehrenamtlich in einem Verein und willst wissen\, wie ihr in eurer Kommune politisch aktiv sein könnt\, ohne die Gemeinnützigkeit zu gefährden? In dieser Veranstaltung erhältst du praxisnahe Orientierung zu Neutralitätsgebot und rechtlichen Grenzen kommunalpolitischer Arbeit. \nIn dieser Veranstaltung lernst du: \n\nwas das Neutralitätsgebot für gemeinnützige Vereine bedeutet und wo das Neutralitätsgebot rechtliche Grenzen setzt\npraxisnahe Handlungsspielräume für Vorstände und Engagierte kennen\nwie Gemeinnützigkeit trotz politischer Haltung erhalten bleibt\n\nDiese Veranstaltung ist für dich\, wenn: \n\ndu dich ehrenamtlich in einem Verein engagierst\ndu Interesse an kommunalpolitischer Mitgestaltung hast\ndu Verantwortung im Vorstand oder in der Organisation trägst\ndu kommunalpolitisch wirksam sein willst\, ohne rechtliche Risiken einzugehen\n\nDas nimmst du mit \nAm Ende kennst du die rechtlichen Rahmenbedingungen für kommunalpolitisches Engagement in Vereinen und kannst fundiert entscheiden\, wie ihr euch wirksam und rechtssicher einbringen könnt. \n\nOrganisatorisches\nWir freuen uns\, dass wir alle unsere Veranstaltungen kostenfrei anbieten können.\nFür unsere Arbeit sind wir jedoch auf eure Unterstützung angewiesen. Jeder Beitrag\, egal wie klein\, hilft uns\, unsere Veranstaltungen zu realisieren. Weitere Informationen dazu\, wie ihr uns unterstützen könnt und was eure Spende bewirkt\, findet ihr hier.\n\n\n\n\n\n\nWeitere Informationen & Anmeldung
URL:https://www.tolerantes-sachsen.de/veranstaltung/kommunalrecht-kompakt-neutralitaetsgebot-und-gemeinnuetzigkeit-kommunalpolitisch-engagierter-vereine-digital/
LOCATION:digital
CATEGORIES:Seminar | Workshop
END:VEVENT
END:VCALENDAR