BEGIN:VCALENDAR
VERSION:2.0
PRODID:-//Netzwerk Tolerantes Sachsen - ECPv6.15.18//NONSGML v1.0//EN
CALSCALE:GREGORIAN
METHOD:PUBLISH
X-WR-CALNAME:Netzwerk Tolerantes Sachsen
X-ORIGINAL-URL:https://www.tolerantes-sachsen.de
X-WR-CALDESC:Veranstaltungen für Netzwerk Tolerantes Sachsen
REFRESH-INTERVAL;VALUE=DURATION:PT1H
X-Robots-Tag:noindex
X-PUBLISHED-TTL:PT1H
BEGIN:VTIMEZONE
TZID:Europe/Berlin
BEGIN:DAYLIGHT
TZOFFSETFROM:+0100
TZOFFSETTO:+0200
TZNAME:CEST
DTSTART:20250330T010000
END:DAYLIGHT
BEGIN:STANDARD
TZOFFSETFROM:+0200
TZOFFSETTO:+0100
TZNAME:CET
DTSTART:20251026T010000
END:STANDARD
BEGIN:DAYLIGHT
TZOFFSETFROM:+0100
TZOFFSETTO:+0200
TZNAME:CEST
DTSTART:20260329T010000
END:DAYLIGHT
BEGIN:STANDARD
TZOFFSETFROM:+0200
TZOFFSETTO:+0100
TZNAME:CET
DTSTART:20261025T010000
END:STANDARD
BEGIN:DAYLIGHT
TZOFFSETFROM:+0100
TZOFFSETTO:+0200
TZNAME:CEST
DTSTART:20270328T010000
END:DAYLIGHT
BEGIN:STANDARD
TZOFFSETFROM:+0200
TZOFFSETTO:+0100
TZNAME:CET
DTSTART:20271031T010000
END:STANDARD
END:VTIMEZONE
BEGIN:VEVENT
DTSTART;TZID=Europe/Berlin:20260424T100000
DTEND;TZID=Europe/Berlin:20260424T130000
DTSTAMP:20260424T100509
CREATED:20260209T094435Z
LAST-MODIFIED:20260209T094435Z
UID:33058-1777024800-1777035600@www.tolerantes-sachsen.de
SUMMARY:Das ist dein Recht – Vorstellung und Diskussion der sächsischen Kinderrechtsstudie | digital
DESCRIPTION:Kinder haben Rechte – unter anderem auf Schutz\, Förderung und Beteiligung. Die Realität zeigt jedoch\, dass der rechtliche Anspruch nicht immer eingelöst wird. Auch in Sachsen gibt es weiterhin Lücken bei der Umsetzung und Einhaltung der Kinderrechte. \nIn der Studie „Das ist mein Recht!“ der Kinder- und Jugendbeauftragten der Sächsischen Staatsregierung wurden Kinder und Jugendliche danach befragt\, wie gut sie ihre Rechte in Sachsen in verschiedenen Lebensbereichen umgesetzt sehen – in der Familie\, in der Wohngruppe\, in der Schule\, am Wohnort\, im Verein oder auch im Gesundheitswesen. Ein besonderer Fokus galt dabei Kindern und Jugendlichen mit Migrationshintergrund\, mit Behinderung(en)\, queeren Minderjährigen sowie Minderjährigen\, die nicht in ihrer Herkunftsfamilie leben. \nDie Studie zeigt für Erwachsene teils überraschende Aspekte auf sowie Ressourcen und Entwicklungsbedarfe in mehreren Bereichen. Es wird deutlich\, dass das Leben von jungen Menschen in Sachsen von Entscheidungen auf verschiedenen Ebenen beeinflusst wird\, welche die Notwendigkeit für eine umfassende Kinder- und Jugendstrategie in Sachsen nahelegen. \nIm Seminar stellt die Sächsische Kinder- und Jugendbeauftragte wichtige Ergebnisse und Erkenntnisse aus der Studie vor. Anschließend wird gemeinsam diskutiert\, wie die Umsetzung von Kinderrechten innerhalb der Kinder- und Jugendhilfe gestärkt werden kann. \n\n\nZielgruppe \n\n\nFachkräfte der Jugendhilfe und der Sozialen Arbeit \n\n\n\n\n\n\n\n\n\n\n\n\nReferent*innen \n\n\nSusann Rüthrich \n\n\n\n\n\n\n\nPreis \n\n25\,00 € für Mitglieder/ 35\,00 € für Nichtmitglieder \n\n\n\n\n\n\nMethoden \n\n\nInput & kollegialer Austausch \n\n\n\n\n\n\n\nAnsprechpartner Organisatorisches \n\nClaudia Stoye\nTelefon: 03715336420\nE-Mail: stoye@agjf-sachsen.de \nWeitere Informationen & Anmeldung
URL:https://www.tolerantes-sachsen.de/veranstaltung/das-ist-dein-recht-vorstellung-und-diskussion-der-saechsischen-kinderrechtsstudie-digital/
LOCATION:digital
CATEGORIES:Vortrag
END:VEVENT
END:VCALENDAR