BEGIN:VCALENDAR
VERSION:2.0
PRODID:-//Netzwerk Tolerantes Sachsen - ECPv6.15.18//NONSGML v1.0//EN
CALSCALE:GREGORIAN
METHOD:PUBLISH
X-WR-CALNAME:Netzwerk Tolerantes Sachsen
X-ORIGINAL-URL:https://www.tolerantes-sachsen.de
X-WR-CALDESC:Veranstaltungen für Netzwerk Tolerantes Sachsen
REFRESH-INTERVAL;VALUE=DURATION:PT1H
X-Robots-Tag:noindex
X-PUBLISHED-TTL:PT1H
BEGIN:VTIMEZONE
TZID:Europe/Berlin
BEGIN:DAYLIGHT
TZOFFSETFROM:+0100
TZOFFSETTO:+0200
TZNAME:CEST
DTSTART:20240331T010000
END:DAYLIGHT
BEGIN:STANDARD
TZOFFSETFROM:+0200
TZOFFSETTO:+0100
TZNAME:CET
DTSTART:20241027T010000
END:STANDARD
BEGIN:DAYLIGHT
TZOFFSETFROM:+0100
TZOFFSETTO:+0200
TZNAME:CEST
DTSTART:20250330T010000
END:DAYLIGHT
BEGIN:STANDARD
TZOFFSETFROM:+0200
TZOFFSETTO:+0100
TZNAME:CET
DTSTART:20251026T010000
END:STANDARD
BEGIN:DAYLIGHT
TZOFFSETFROM:+0100
TZOFFSETTO:+0200
TZNAME:CEST
DTSTART:20260329T010000
END:DAYLIGHT
BEGIN:STANDARD
TZOFFSETFROM:+0200
TZOFFSETTO:+0100
TZNAME:CET
DTSTART:20261025T010000
END:STANDARD
END:VTIMEZONE
BEGIN:VEVENT
DTSTART;TZID=Europe/Berlin:20251105T100000
DTEND;TZID=Europe/Berlin:20251105T160000
DTSTAMP:20260424T172731
CREATED:20251009T102410Z
LAST-MODIFIED:20251009T102410Z
UID:31913-1762336800-1762358400@www.tolerantes-sachsen.de
SUMMARY:Workshop: Das ist doch nicht wahr! Oder doch?! | Aue-Bad Schlema
DESCRIPTION:Anmeldefrist: 29.10.2025 | \nWissenschaft\, Zweifel und Desinformation in der Klimakrise \nViele Menschen fühlen sich in Debatten rund um die Klimakrise unsicher\, weil sie Schwierigkeiten haben\, zwischen verlässlichen wissenschaftlichen Fakten und irreführenden Informationen zu unterscheiden. Dieser Workshop hilft dir dabei\, solche Verwirrung zu durchschauen\, damit du selbstbewusst und fundiert mitreden kannst. \nDieser Workshop widmet sich den Fragen: \n\nWie funktioniert Wissenschaft – und wann ist es wichtig\, kritisch zu hinterfragen?\nWoran erkenne ich falsche oder irreführende Informationen?\nWie kann ich Aussagen kritisch prüfen und mir eine fundierte eigene Meinung bilden?\nWelche Akteur*innen säen gezielt Zweifel an wissenschaftlichen Erkenntnissen zur Klimakrise – und warum ist das gefährlich?\n\nMit einer guten Mischung aus Theorie und Praxis bietet der Workshop hilfreiche Informationen\, um anschließend eigene Standpunkte zu formulieren und im Gespräch auszuprobieren. \nDie Ausstellung eines Teilnahmezertifikats ist möglich. \nReferent*innen\nAnja Thiele und Tariq Mian\, Kulturbüro Sachsen e.V. \nDer genaue Ort wird nach Anmeldung mitgeteilt.\nDer Zugang zum Veranstaltungsraum ist barrierefrei möglich. \nAnmeldung\nbis 29.10.25 unter anmeldung@kulturbuero-sachsen.de \nWeitere Informationen
URL:https://www.tolerantes-sachsen.de/veranstaltung/workshop-das-ist-doch-nicht-wahr-oder-doch-aue-bad-schlema/
LOCATION:Erzgebirgskreis
CATEGORIES:Seminar | Workshop
END:VEVENT
BEGIN:VEVENT
DTSTART;TZID=Europe/Berlin:20251108T100000
DTEND;TZID=Europe/Berlin:20251108T140000
DTSTAMP:20260424T172731
CREATED:20251022T084410Z
LAST-MODIFIED:20251022T084410Z
UID:32070-1762596000-1762610400@www.tolerantes-sachsen.de
SUMMARY:Workshop "Klimawandel und Gesellschaft" | Pegau
DESCRIPTION:Tolle News im Herbst: Das @kbsachsen und das Team Demokratie Pegau laden zum 1. gemeinsamen Workshop rund um das Thema „Klimawandel und Gesellschaft“. \n🆒 Wir wollen mithilfe der Betzavta-Methode gemeinsam an wichtigen Fragen arbeiten. \n🆒 Du kommst aus Pegau und Umgebung und möchtest dabei sein? Dann melde dich gerne an. \nAnmeldung via: anmeldung@kulturbuero-sachsen.de\n\n\n\n\nWeitere Informationen (Instagram)
URL:https://www.tolerantes-sachsen.de/veranstaltung/workshop-klimawandel-und-gesellschaft-pegau/
LOCATION:Landkreis Leipzig
CATEGORIES:Seminar | Workshop
END:VEVENT
BEGIN:VEVENT
DTSTART;TZID=Europe/Berlin:20251111T093000
DTEND;TZID=Europe/Berlin:20251111T161500
DTSTAMP:20260424T172731
CREATED:20250908T072805Z
LAST-MODIFIED:20250908T072805Z
UID:31556-1762853400-1762877700@www.tolerantes-sachsen.de
SUMMARY:Fachtag 3: Klimaschutz und die extreme Rechte | Leipzig
DESCRIPTION:Wie die extreme Rechte Klima- und Umweltthemen instrumentalisiert – und was das für demokratisches Engagement bedeutet\n11. November 25 | 10:00 – 16:15 Uhr\nLeipzig\, Villa Ida\, Poetenweg 28\nWeitere Informationen zu Ort und Zugänglichkeit finden sie unten \nTeilnahme kostenfrei dank Förderung durch die Stiftung Mercator. \nAnmeldung an anmeldung[aet]kulturbuero-sachsen.de \nVeranstaltungs-Flyer als .PDF downloaden (228 KB) \nDie Klimakrise ist eine der größten globalen Herausforderungen. Sie erfordert dringende Maßnahmen auf allen Ebenen. In einer Zeit\, in der viele Krisen gleichzeitig bewältigt werden müssen\, gerät der Klimaschutz oft ins Hintertreffen. Doch Klimaschutz bietet auch eine bedeutende Chance\, demokratische Strukturen zu stärken. Er fördert zivilgesellschaftliches Engagement. \nGemeinsam erörtern wir im Rahmen von 3 Fachtagen\, wie die Klimakrise das demokratische Miteinander herausfordert. Zudem beleuchten wir\, welche Potenziale sie für das Engagement für Demokratie\, Menschenrechte und gegen Rechtsextremismus bietet. \nBeim Fachtag 3 fokussieren wir uns darauf\, wie die extreme Rechte die Debatten um die Klimakrise und um Klimaschutzmaßnahmen instrumentalisiert.\nEs werden Forschende und Engagierte aus der Zivilgesellschaft referieren. Neben Fachvorträgen wird es vertiefende Workshops sowie Raum und Zeit für Austausch und Vernetzung geben. \nDer Klimawandel fordert die Demokratie heraus – nicht nur durch seine Folgen\, sondern auch durch die Art und Weise\, wie über ihn gestritten wird. Extrem rechte und populistische Akteur*innen leugnen die Klimakrise\, verharmlosen sie oder versuchen\, sie für ihre Zwecke umzudeuten. Sie setzen auf Verschwörungserzählungen\, stellen Klimaschutz als Bedrohung von Freiheit\, Wohlstand oder „nationaler Identität“ dar oder vereinnahmen Naturschutzthemen für völkische Ideologien. So werden demokratiefeindliche Erzählungen befeuert und Ängste geschürt. \nFolgende Fragen stehen im Mittelpunkt: \n\nWelche Strategien nutzen extrem rechte und andere politische Akteur*innen\, um Umwelt- und Klimathemen zu besetzen?\nWelche ideologischen Verbindungen gibt es zwischen Klimawandelleugnung\, Rechtspopulismus und Ökofaschismus?\nWie können wir demokratie- und diskriminierungssensible Ansätze im Klima- und Umweltschutz stärken?\nWelche Unterstützung brauchen zivilgesellschaftliche Akteur*innen\, um sich abzugrenzen und handlungsfähig zu bleiben?\n\nOrt\nDie Tagung findet im Mediencampus in der Villa Ida\, Poetenweg 28 in 04155 Leipzig\, statt.\nAnfahrt mit öffentlichen Verkehrsmitteln: https://www.mediencampus-villa-ida.de/de/kontakt/ \nWeitere Informationen & Programm
URL:https://www.tolerantes-sachsen.de/veranstaltung/fachtag-3-klimaschutz-und-die-extreme-rechte-leipzig/
LOCATION:Stadt Leipzig
CATEGORIES:Fachtag | Konferenz
END:VEVENT
BEGIN:VEVENT
DTSTART;TZID=Europe/Berlin:20251113T180000
DTEND;TZID=Europe/Berlin:20251113T200000
DTSTAMP:20260424T172731
CREATED:20251103T104614Z
LAST-MODIFIED:20251103T104614Z
UID:32187-1763056800-1763064000@www.tolerantes-sachsen.de
SUMMARY:Vortrag und Gespräch: Wald in Gefahr | Neustadt
DESCRIPTION:Der Wald vor unserer Haustür ist seit Jahren bedroht. Stürme\, Hitze\, Trockenheit und vor allem der Borkenkäfer setzen den Wäldern in unserer Heimat stark zu. \n\nDoch ist der Wald wirklich in Gefahr – oder wird nur Panik gemacht?\nFinden Sie die Diskussion um den Klimawandel nervig oder geht sie Ihnen noch nicht weit genug?\nWelche Fragen treiben Sie um? Welche Lösungen wünschen Sie sich?\n\nKommen Sie vorbei und diskutieren Sie mit uns! \nTermin:\n13.11.25 | 18:00 – 20:00 Uhr \nOrt:\nNeustadt in Sachsen\nStadtbibliothek\, Goethestraße 2\, 01844 Neustadt in Sachsen\nDer Zugang zum Veranstaltungsraum ist barrierefrei möglich. Die Toiletten können mit dem Rollstuhl leider nicht genutzt werden. \nDie Veranstaltung ist kostenfrei. \nAnmeldung unter anmeldung@kulturbuero-sachsen.de \nWeitere Informationen
URL:https://www.tolerantes-sachsen.de/veranstaltung/vortrag-und-gespraech-wald-in-gefahr-neustadt/
LOCATION:Landkreis Sächsische Schweiz-Osterzgebirge
CATEGORIES:Vortrag
END:VEVENT
BEGIN:VEVENT
DTSTART;VALUE=DATE:20251127
DTEND;VALUE=DATE:20251129
DTSTAMP:20260424T172731
CREATED:20250801T103007Z
LAST-MODIFIED:20250801T103007Z
UID:31202-1764201600-1764374399@www.tolerantes-sachsen.de
SUMMARY:Methodenwerkstatt: Future Skills 2025 | Leipzig
DESCRIPTION:Anmeldefrist: 07.11.2025 | \nBildungsmethoden zur Förderung einer demokratischen und nachhaltigen Haltung \nFür Fachkräfte der Sozialen Arbeit\, Lehrer:innen\, Bildungsreferent:innen und Multiplikator:innen \nAls pädagogische Antwort auf globale Entwicklungs- und Zukunftsfragen im sozial-ökologischen Wandel\, im Sinne des Globalen Lernens und der Bildung für nachhaltige Entwicklung (BNE). \n27.& 28.11.2025\njeweils 9:30 – 15:30 Uhr\nPrinz-Eugen-Str.21\, Leipzig\nIm Gemeindehaus St. Bonifatius \nAustausch und Ausprobieren statt Theorie\nWir probieren gemeinsam interaktive Methoden\, Ideen und Werkzeuge aus\, um bei Projekttagen und anderen Bildungsformaten eine demokratische und sozial-ökologisch gerechte Haltung zu fördern. Wir reflektieren jeweils die konkrete Anwendung auf Eure Zielgruppen und werden dazu gemeinsam kreativ. \nAuch stellen wir Quellen und Kanäle für innovative und neue Methoden sowie Entwicklung der eigenen Haltung vor. Wir sammeln und beraten uns dazu auch untereinander. \nZur eigenen Entwicklung von Euren Haltungs- und Anwendungsfragen lernt ihr die kollegiale Fallberatung kennen – ein sehr hilfreiches Werkzeug für Euch und Eure Teams für konkrete Situationen und Problemen. \nAnmeldung\nVerbindliche Anmeldung bis zum 7.11.2025 HIER. Die Teilnahmegebühr beträgt insgesamt 30\,00 Euro für beide Tage und wird in bar am ersten Tag gezahlt. Darin enthalten ist auch Verpflegung (Mittagessen\, Getränke und Snacks). Quittung und Teilnahmebestätigung sind auf Wunsch erhältlich. \nReferent:innen\nBei allen Fragen und Hinweisen gern per E-Mail an: \nKurt Hinkefuß (Bildungsreferent\, Eine Welt-Promotor\, Eine Welt e.V.\, Leipzig) und \nHeidi Bischof (Bildungsreferentin\, Eine Welt-Promotorin\, NDK e.V.\, Wurzen) \nWeitere Informationen & Anmeldung
URL:https://www.tolerantes-sachsen.de/veranstaltung/methodenwerkstatt-future-skills-2025-leipzig/
LOCATION:Stadt Leipzig
CATEGORIES:Fachtag | Konferenz
END:VEVENT
END:VCALENDAR