BEGIN:VCALENDAR
VERSION:2.0
PRODID:-//Netzwerk Tolerantes Sachsen - ECPv6.15.18//NONSGML v1.0//EN
CALSCALE:GREGORIAN
METHOD:PUBLISH
X-WR-CALNAME:Netzwerk Tolerantes Sachsen
X-ORIGINAL-URL:https://www.tolerantes-sachsen.de
X-WR-CALDESC:Veranstaltungen für Netzwerk Tolerantes Sachsen
REFRESH-INTERVAL;VALUE=DURATION:PT1H
X-Robots-Tag:noindex
X-PUBLISHED-TTL:PT1H
BEGIN:VTIMEZONE
TZID:Europe/Berlin
BEGIN:DAYLIGHT
TZOFFSETFROM:+0100
TZOFFSETTO:+0200
TZNAME:CEST
DTSTART:20250330T010000
END:DAYLIGHT
BEGIN:STANDARD
TZOFFSETFROM:+0200
TZOFFSETTO:+0100
TZNAME:CET
DTSTART:20251026T010000
END:STANDARD
BEGIN:DAYLIGHT
TZOFFSETFROM:+0100
TZOFFSETTO:+0200
TZNAME:CEST
DTSTART:20260329T010000
END:DAYLIGHT
BEGIN:STANDARD
TZOFFSETFROM:+0200
TZOFFSETTO:+0100
TZNAME:CET
DTSTART:20261025T010000
END:STANDARD
BEGIN:DAYLIGHT
TZOFFSETFROM:+0100
TZOFFSETTO:+0200
TZNAME:CEST
DTSTART:20270328T010000
END:DAYLIGHT
BEGIN:STANDARD
TZOFFSETFROM:+0200
TZOFFSETTO:+0100
TZNAME:CET
DTSTART:20271031T010000
END:STANDARD
END:VTIMEZONE
BEGIN:VEVENT
DTSTART;TZID=Europe/Berlin:20260314T100000
DTEND;TZID=Europe/Berlin:20260314T150000
DTSTAMP:20260424T184853
CREATED:20260305T091322Z
LAST-MODIFIED:20260305T091322Z
UID:33402-1773482400-1773500400@www.tolerantes-sachsen.de
SUMMARY:Workshop: Haltung Zeigen in anspruchsvollen Zeiten | Pegau
DESCRIPTION:Anmeldefrist: 13.03.2026 | \nWie können wir mit Äußerungen und Handlungen umgehen\, die den Klimawandel leugnen oder menschenfeindliche Haltungen propagieren? Wer verbreitet solche Positionen? Und welche Rolle spielt Rechtsextremismus dabei? \nIm Mittelpunkt des Workshops stehen neben fachlichen Informationen zu demokratiefeindlichen Akteur:innen und ihren Strategien vor allem Handlungs- und Argumentationsmöglichkeiten. An konkreten Fallbeispielen besprechen wir gemeinsam\, welche Ansätze in welchen Situationen wirksam sind – von klimaskeptischen Aussagen bis hin zu rassistischen oder anderweitig menschenverachtenden Äußerungen. \nReferent*innen: Anja Thiele\, Tariq Mian – Bildungsreferent*innen Kulturbüro Sachsen e.V. \nDer Workshop ist offen für alle demokratisch Interessierten. Er lädt zum Vernetzen ein\, beim gemeinsamen Buffet ins Gespräch zu kommen und trotz kontroverser Themen eine bestärkende Zeit zu verbringen. \nTermine:\nSamstag\, 14.03.26 | 10:00-15:00 Uhr \nOrt: Pegau\, genauer Ort wird nach Anmeldung mitgeteilt \nAnmeldung bis zum 13.03.2026 per Mail an veranstaltung[at]kulturbuero-sachsen.de \nDie Veranstaltung ist dank Förderung kostenfrei. \nWeitere Informationen & Anmeldung
URL:https://www.tolerantes-sachsen.de/veranstaltung/workshop-haltung-zeigen-in-anspruchsvollen-zeiten-pegau/
LOCATION:Landkreis Leipzig
CATEGORIES:Seminar | Workshop
END:VEVENT
BEGIN:VEVENT
DTSTART;TZID=Europe/Berlin:20260317T190000
DTEND;TZID=Europe/Berlin:20260317T210000
DTSTAMP:20260424T184853
CREATED:20260305T091516Z
LAST-MODIFIED:20260305T091516Z
UID:33405-1773774000-1773781200@www.tolerantes-sachsen.de
SUMMARY:Workshop: Klimawandel vor unserer Haustür | Pirna
DESCRIPTION:Anmeldefrist: 16.03.2026 | \nIst der Klimawandel bei uns im Wald schon angekommen? \nGeht Ihnen die Klimadebatte zu weit – oder noch nicht weit genug? \nWas beschäftigt Sie dabei persönlich? \nDer Klimawandel verändert unsere Welt – global und direkt vor unserer Haustür. Wir laden ein zu Vortrag und Diskussion. Der Autor Tim Schulze stellt zentrale Thesen aus seinem Buch „In Zukunft hitzefrei?“ vor und steht für Fragen und Unklarheiten zum Thema Klimawandel zur Verfügung. Ergänzt wird der Abend durch einen Vortrag von Kerstin Rödiger und Hanspeter Mayr vom Sachsenforst. Sie sprechen zu den konkreten Auswirkungen des Klimawandels auf den Wald der Sächsischen Schweiz. Anja Thiele\, Bildungsreferentin des Kulturbüro Sachsen e.V. wird moderieren. \nIm gemeinsamen Austausch geht es um den Zusammenhang von Klimawandel\, regionaler Verantwortung und der Bedeutung offener Debatten und verlässlicher Informationen für unsere demokratische Gesellschaft. \n\nTermin:\nDienstag\, 17.03.26 | 19:00-21:00 Uhr \nOrt:\nVHS Sächsische Schweiz-Osterzgebirge Geschwister-Scholl-Str. 2\, 01796 Pirna \nAnmeldung bis zum 16.03.2026 über die Webseite der Volkshochschule \nDie Veranstaltung ist dank Förderung kostenfrei. \nWeitere Informationen & Anmeldung
URL:https://www.tolerantes-sachsen.de/veranstaltung/workshop-klimawandel-vor-unserer-haustuer-pirna/
LOCATION:Landkreis Sächsische Schweiz-Osterzgebirge
CATEGORIES:Seminar | Workshop
END:VEVENT
BEGIN:VEVENT
DTSTART;TZID=Europe/Berlin:20260328T103000
DTEND;TZID=Europe/Berlin:20260328T133000
DTSTAMP:20260424T184853
CREATED:20260303T120337Z
LAST-MODIFIED:20260303T120337Z
UID:33352-1774693800-1774704600@www.tolerantes-sachsen.de
SUMMARY:Radikale Hoffnung im Klimawandel - Teil 1: Fühlen\, was ist | Markkleeberg
DESCRIPTION:Radikale Hoffnung im Klimawandel\nDreiteilige Veranstaltungsreihe für alle Generationen \nDer Klimawandel hinterlässt Spuren – in unserer Umwelt und in unserem Inneren. Zwischen Sorge\, Wut\, Trauer und Überforderung stellt sich vielen die Frage: Was kann ich überhaupt noch tun? In der Reihe „Radikale Hoffnung im Klimawandel“ schaffen wir einen geschützten Rahmen\, um diesen Gefühlen Raum zu geben und gemeinsam neue Perspektiven zu entwickeln. Für eine kostenfreie (vegane) Verpflegung wird während der Veranstaltung gesorgt sein. Wir freuen uns auf einen lebendigen Austausch\, neue Perspektiven und gemeinsames Hoffen – jenseits von Resignation und bloßem Optimismus. \nZiel der Reihe \nEigene Gefühle zur Klimakrise wahrnehmen und ernst nehmen\nHoffnungsvolle Zukunftsbilder und Utopien entwerfen\nKonkrete\, alltagstaugliche Handlungsschritte ableiten und Selbstwirksamkeit stärken \nAufbau und Inhalte\nDie Reihe umfasst drei Termine à 3 Stunden\, die aufeinander aufbauen und zugleich einzeln besucht werden können: \nTeil 1: Fühlen\, was ist – Emotionen im Klimawandel – 28. März 2026 \nTeil 2: Zukunft denken – Visionen\, Utopien und lebenswerte Perspektiven – 25. April 2026 \nTeil 3: Ins Handeln kommen – Selbstwirksamkeit stärken und aktiv werden – 30. Mai 2026 \nBitte melden Sie sich zu den einzelnen Terminen an. \nZielgruppe\nDie Veranstaltungsreihe richtet sich an Menschen aller Generationen – von Jugendlichen bis Senior:innen. Vorkenntnisse sind nicht erforderlich; Neugier und Offenheit genügen. \nReferentin\nAnja Thiele ist Bildungsreferentin und Moderatorin beim Kulturbüro Sachen e.V.  Ihre Schwerpunkte sind „Klimawandel und Rechtsextremismus“ sowie „Demokratie- und Argumentationstrainings“. Freiberuflich ist sie auch als Gestalt- und Körpertherapeutin tätig. \nDiese Veranstaltung findet in Kooperation mit dem Kulturbüro Sachsen e.V. statt. Sie wird gefördert durch die Bundeszentrale für politische Bildung. \n\nWeitere Informationen & Anmeldung
URL:https://www.tolerantes-sachsen.de/veranstaltung/radikale-hoffnung-im-klimawandel-teil-1-fuehlen-was-ist-markkleeberg/
LOCATION:Landkreis Leipzig
CATEGORIES:Seminar | Workshop
END:VEVENT
END:VCALENDAR