BEGIN:VCALENDAR
VERSION:2.0
PRODID:-//Netzwerk Tolerantes Sachsen - ECPv6.15.18//NONSGML v1.0//EN
CALSCALE:GREGORIAN
METHOD:PUBLISH
X-ORIGINAL-URL:https://www.tolerantes-sachsen.de
X-WR-CALDESC:Veranstaltungen für Netzwerk Tolerantes Sachsen
REFRESH-INTERVAL;VALUE=DURATION:PT1H
X-Robots-Tag:noindex
X-PUBLISHED-TTL:PT1H
BEGIN:VTIMEZONE
TZID:Europe/Berlin
BEGIN:DAYLIGHT
TZOFFSETFROM:+0100
TZOFFSETTO:+0200
TZNAME:CEST
DTSTART:20230326T010000
END:DAYLIGHT
BEGIN:STANDARD
TZOFFSETFROM:+0200
TZOFFSETTO:+0100
TZNAME:CET
DTSTART:20231029T010000
END:STANDARD
BEGIN:DAYLIGHT
TZOFFSETFROM:+0100
TZOFFSETTO:+0200
TZNAME:CEST
DTSTART:20240331T010000
END:DAYLIGHT
BEGIN:STANDARD
TZOFFSETFROM:+0200
TZOFFSETTO:+0100
TZNAME:CET
DTSTART:20241027T010000
END:STANDARD
BEGIN:DAYLIGHT
TZOFFSETFROM:+0100
TZOFFSETTO:+0200
TZNAME:CEST
DTSTART:20250330T010000
END:DAYLIGHT
BEGIN:STANDARD
TZOFFSETFROM:+0200
TZOFFSETTO:+0100
TZNAME:CET
DTSTART:20251026T010000
END:STANDARD
END:VTIMEZONE
BEGIN:VEVENT
DTSTART;TZID=Europe/Berlin:20240808T180000
DTEND;TZID=Europe/Berlin:20240808T200000
DTSTAMP:20260425T200905
CREATED:20240724T102838Z
LAST-MODIFIED:20240725T103155Z
UID:26531-1723140000-1723147200@www.tolerantes-sachsen.de
SUMMARY:Ausstellungeröffnung "Solche Leute gibt's hier nicht!" | Bautzen
DESCRIPTION:Die kleinstädtischen und ländlichen Räume Sachsens sind LSBTIQ*-Zone! Lesben\, Schwule\, Bisexuelle\, trans- und intergeschlechtliche sowie queere Menschen (LSBTIQ*) gehören hier zur Lebensrealität – und werden doch selten sichtbar. Unsere Ausstellung erzählt ihre Geschichten. Mit dem Smartphone können zusätzlich Interviews abgerufen werden\, die die ganze Bandbreite queerer Lebenserfahrungen zeigen. Zu hören sind Personen\, die alle eng mit ihrer Region in Sachsen verbunden sind\, aber nicht alle konnten bleiben. Denn unterschwellige Formen der Ablehnung wie Vorurteile\, Ausgrenzungen und Diskriminierungen sind nach wie vor präsent. \nDie Ausstellung zeigt\, dass die Vielfalt kleinstädtischer und ländlicher Räume in Sachsen nicht in Frage gestellt werden kann. Unsere Gesprächspartner*innen erzählten Geschichten vom Glücklichwerden auf dem Land\, aber auch von Zweifeln. Hier trifft ein schwuler Lokführer auf einen selbsterklärten Paradiesvogel und ein trans* Teenager auf eine lesbische Mutter\, die sich gerade von ihrem Mann scheiden lässt. Sie zeichnen ein selbstbewusstes und kraftvolles Bild vom queeren Leben im ländlichen und kleinstädtischen Sachsen\, um anderen Mut zu machen. \n  \nAusstellungeröffnung im Frauenzentrum mit Gerede e.V.  \n 08.08.2024 I 18 Uhr I Steinstraße 15 \n  \nSIE als Eltern\, Angehörige oder Freund_innen? \n  \n…haben Schwierigkeiten die Lebensweise ihres Kindes zu verstehen? \n… haben Angst\, dass eine angehörige Person aufgrund ihrer Sexualität gemobbt wird? \n…wollen einen nahestehenden Menschen unterstützen? \n  \nSie fühlen sich davon angesprochen? Dann kommen Sie vorbei! \nWir laden Sie zu einem gemeinsamen Rundgang durch die Ausstellung und anschließender Gesprächsrunde ein. \nWir öffnen für Sie einen geschützten Raum\, um Ihre Fragen zur Homosexualität oder Transidentität Ihres Kindes oder eines anderen nahestehenden Menschen zu besprechen. \nZugänge und Barrieren \nDas Frauenzentrum ist über einen Fahrstuhl erreichbar. Am Eingang muss eine Stufe überwunden werden. Der Zugang zu den Sanitäranlagen ist für einen Rollstuhl zu schmal. \nSollten Sie Fragen oder Bedenken vor der Verstaltung haben kontaktieren Sie uns gerne: 03591 – 42353 | info@frauenzentrum-bautzen.de \nWeitere Informationen
URL:https://www.tolerantes-sachsen.de/veranstaltung/ausstellungeroeffnung-solche-leute-gibts-hier-nicht-bautzen/
LOCATION:Landkreis Bautzen
CATEGORIES:Ausstellung
END:VEVENT
BEGIN:VEVENT
DTSTART;TZID=Europe/Berlin:20240810T140000
DTEND;TZID=Europe/Berlin:20240810T170000
DTSTAMP:20260425T200905
CREATED:20240729T094834Z
LAST-MODIFIED:20240729T094834Z
UID:26579-1723298400-1723309200@www.tolerantes-sachsen.de
SUMMARY:CSD Bautzen | Bautzen
DESCRIPTION:Die Pride-Season beginnt und wir können endlich mit Euch teilen: Auch in Bautzen gehen wir wieder für Vielfalt und Freiheit auf die Straße. Am 10. August feiern mir mit Euch unseren 2. CSD und zeigen: Bautzen kann bunt\, Bautzen kann tolerant\, Bautzen kann solidarisch! Ab 14 Uhr ziehen wir mit einem lauten Demozug durch die Straßen und machen mit vielen Redner*innen klar\, dass wir Queers trotz rechter Hetze und Gewalt ein Teil unseren vielfältigen Gesellschaft sind und bleiben! \nStartpunkt:\nMaria-Martha-Kirche\nBautzen \nWeitere Informationen
URL:https://www.tolerantes-sachsen.de/veranstaltung/csd-bautzen-bautzen/
CATEGORIES:Aktionstag
END:VEVENT
BEGIN:VEVENT
DTSTART;TZID=Europe/Berlin:20240816T100000
DTEND;TZID=Europe/Berlin:20240816T160000
DTSTAMP:20260425T200905
CREATED:20240806T082736Z
LAST-MODIFIED:20240806T083127Z
UID:26693-1723802400-1723824000@www.tolerantes-sachsen.de
SUMMARY:Einführungsworkshop: Was ist Antisemitismus? | Bautzen
DESCRIPTION:Wie funktioniert eigentlich Diskriminierung? Und was genau ist Antisemitismus? Wie unterscheidet sich dieser von anderen Diskriminierungsformen? Wie lange gibt es Antisemitismus eigentlich? Wo begegnet uns Antisemitismus? Welche Folgen hat das? Und was können wir gegen Antisemitismus machen? Diese und weitere Fragen wollen wir gemeinsam im Workshop mit Hilfe von abwechslungsreichen Methoden bearbeiten. \n*** Anmeldung Workshopreihe gegen Antisemitismus \nDie Workshopreihe möchte Jugendliche und junge Erwachsene zwischen 14 und 27 Jahren dazu ermutigen\, das Phänomen Antisemitismus zu verstehen\, im Alltag zu erkennen und aktiv zu werden\, um Antisemitismus zu stoppen. Lebensweltnah und unter besonderer Beachtung der Region Ostsachen werden aktuelle Erscheinungsformen des Antisemitismus bearbeitet.\nDieses Angebot richtet sich zunächst speziell an Fachkräfte der offenen Jugendarbeit\, um die Workshops zu erproben und evaluieren. \nEnde 2025 werden die Ergebnisse in einem modularen Workshopleitfaden festgehalten und veröffentlicht. Hinter dem Projekt steht das Bündnis gegen Antisemitismus in Dresden und Ostsachsen\, ein breiter Zusammenschluss von Organisationen aus der jüdischen Community und der Zivilgesellschaft Ostsachsens. \nVeranstaltungsort: Steinhaus e.V. (Steinstraße 37\, 02625 Bautzen)\nAblauf: Die Workshops beginnen immer jeweils pünktlich um 10 Uhr und enden um 16 Uhr. Zwischendurch wird es eine Mittagspause und Verpflegung geben. \nDas Angebot ist kostenlos. Die Workshops können auch einzeln bzw. unabhängig voneinander besucht werden. \n\n Programm der Workshopreihe (PDF)\nAnmeldung\nWeitere Informationen
URL:https://www.tolerantes-sachsen.de/veranstaltung/einfuehrungsworkshop-was-ist-antisemitismus-bautzen/
LOCATION:Landkreis Bautzen
CATEGORIES:Seminar | Workshop
END:VEVENT
BEGIN:VEVENT
DTSTART;TZID=Europe/Berlin:20240819T170000
DTEND;TZID=Europe/Berlin:20240819T190000
DTSTAMP:20260425T200905
CREATED:20240809T075439Z
LAST-MODIFIED:20240809T075439Z
UID:26846-1724086800-1724094000@www.tolerantes-sachsen.de
SUMMARY:Happy Monday Sommeredition | Bautzen
DESCRIPTION:Wir hoffen\, ihr genießt die letzte Woche der Sommerferien\, lasst die Seele baumeln und tankt positive Energie für alles was kommt! \n\n\nDer August wird super\, denn wir freuen uns auf die Happy Monday Sommerausgabe am 19. August auf dem Hauptmarkt! \n\n\nWir haben für Euch einen Sommercocktail der besten Happy Mondays zusammen gebraut: Es erwarten Euch fröhliche Musik\, bunte Aktionen\, eine Menge Spaß und gute Laune! \n\n\nMarkiert euch das Datum und seid dabei\, wenn wir den Sommer gebührend feiern! \n\n\nBis dahin: Sonne tanken\, entspannen und jede Menge gute Laune sammeln! \n\n\nOrt\nHauptmarkt Bautzen\nWeitere Informationen
URL:https://www.tolerantes-sachsen.de/veranstaltung/happy-monday-sommeredition-bautzen/
LOCATION:Landkreis Bautzen
END:VEVENT
END:VCALENDAR