BEGIN:VCALENDAR
VERSION:2.0
PRODID:-//Netzwerk Tolerantes Sachsen - ECPv6.15.18//NONSGML v1.0//EN
CALSCALE:GREGORIAN
METHOD:PUBLISH
X-WR-CALNAME:Netzwerk Tolerantes Sachsen
X-ORIGINAL-URL:https://www.tolerantes-sachsen.de
X-WR-CALDESC:Veranstaltungen für Netzwerk Tolerantes Sachsen
REFRESH-INTERVAL;VALUE=DURATION:PT1H
X-Robots-Tag:noindex
X-PUBLISHED-TTL:PT1H
BEGIN:VTIMEZONE
TZID:Europe/Berlin
BEGIN:DAYLIGHT
TZOFFSETFROM:+0100
TZOFFSETTO:+0200
TZNAME:CEST
DTSTART:20230326T010000
END:DAYLIGHT
BEGIN:STANDARD
TZOFFSETFROM:+0200
TZOFFSETTO:+0100
TZNAME:CET
DTSTART:20231029T010000
END:STANDARD
BEGIN:DAYLIGHT
TZOFFSETFROM:+0100
TZOFFSETTO:+0200
TZNAME:CEST
DTSTART:20240331T010000
END:DAYLIGHT
BEGIN:STANDARD
TZOFFSETFROM:+0200
TZOFFSETTO:+0100
TZNAME:CET
DTSTART:20241027T010000
END:STANDARD
BEGIN:DAYLIGHT
TZOFFSETFROM:+0100
TZOFFSETTO:+0200
TZNAME:CEST
DTSTART:20250330T010000
END:DAYLIGHT
BEGIN:STANDARD
TZOFFSETFROM:+0200
TZOFFSETTO:+0100
TZNAME:CET
DTSTART:20251026T010000
END:STANDARD
END:VTIMEZONE
BEGIN:VEVENT
DTSTART;TZID=Europe/Berlin:20240923T100000
DTEND;TZID=Europe/Berlin:20240923T160000
DTSTAMP:20260425T185102
CREATED:20240806T083211Z
LAST-MODIFIED:20240806T083211Z
UID:26695-1727085600-1727107200@www.tolerantes-sachsen.de
SUMMARY:Workshop: Was hat Israel mit Antisemitismus zu tun? | Bautzen
DESCRIPTION:Im Workshop behandeln wir die Themen Israel\, den sogenannten Nahostkonflikt und Anti­semi­tismus. Wir wollen besprechen\, wie es uns mit diesen Themen geht und was wir darüber wissen. Dabei werden wir den Israel-Palästina-Konflikt genauer unter die Lupe nehmen und mehr über die Geschichte sowie Entwicklung erfahren. Das ver­tiefte Wissen hilft uns\, wenn wir uns mit Israel­ bezogenem Antisemitismus auseinandersetzen: Wie erleben Betroffene diese Form des Anti­sem­itismus? Wo zeigt er sich und wie kann ich das erkennen? Das gucken wir uns direkt mit aktuellen Beispielen aus Musik\, Kunst\, Klimabewegung und der Region Ostsachsen an. Am Ende kommen wir vom Verstehen ins Handeln und lernen ganz pra­k­tisch\, was wir gegen Antisemitismus tun können. \n*** Anmeldung Workshopreihe gegen Antisemitismus \nDie Workshopreihe möchte Jugendliche und junge Erwachsene zwischen 14 und 27 Jahren dazu ermutigen\, das Phänomen Antisemitismus zu verstehen\, im Alltag zu erkennen und aktiv zu werden\, um Antisemitismus zu stoppen. Lebensweltnah und unter besonderer Beachtung der Region Ostsachen werden aktuelle Erscheinungsformen des Antisemitismus bearbeitet.\nDieses Angebot richtet sich zunächst speziell an Fachkräfte der offenen Jugendarbeit\, um die Workshops zu erproben und evaluieren. \nEnde 2025 werden die Ergebnisse in einem modularen Workshopleitfaden festgehalten und veröffentlicht. Hinter dem Projekt steht das Bündnis gegen Antisemitismus in Dresden und Ostsachsen\, ein breiter Zusammenschluss von Organisationen aus der jüdischen Community und der Zivilgesellschaft Ostsachsens. \nVeranstaltungsort: Steinhaus e.V. (Steinstraße 37\, 02625 Bautzen)\nAblauf: Die Workshops beginnen immer jeweils pünktlich um 10 Uhr und enden um 16 Uhr. Zwischendurch wird es eine Mittagspause und Verpflegung geben. \nDas Angebot ist kostenlos. Die Workshops können auch einzeln bzw. unabhängig voneinander besucht werden. \nProgramm der Workshopreihe (PDF)\nAnmeldung\nWeitere Informationen
URL:https://www.tolerantes-sachsen.de/veranstaltung/workshop-was-hat-israel-mit-antisemitismus-zu-tun-bautzen/
CATEGORIES:Seminar | Workshop
END:VEVENT
BEGIN:VEVENT
DTSTART;TZID=Europe/Berlin:20240924T100000
DTEND;TZID=Europe/Berlin:20240924T160000
DTSTAMP:20260425T185102
CREATED:20240806T083450Z
LAST-MODIFIED:20240806T083450Z
UID:26697-1727172000-1727193600@www.tolerantes-sachsen.de
SUMMARY:Workshop: Die Welt ein düsterer Ort voller Verschwörungen? | Bautzen
DESCRIPTION:Corona? Keine Pandemie\, sondern von Eliten als Gesundheitsdiktatur geplant. Russischer An­griffs­krieg? Kein völkerrechtswidriger Überfall auf die Ukraine\, sondern Verteidigung Putins gegen den Westen. Wer sich länger auf TikTok\, YouTube oder Telegram aufhält\, findet sie schnell: Verschwörungserzählungen. Das\, was sich manch­\nmal spannend oder unterhaltsam liest\, hat Schattenseiten: Oftmals gelten Jüdinnen*Juden als Teil von Verschwörungen. Antisemitismus steigt immer\, wenn wieder Verschwörungs­ge­schichten verbreitet werden. Ein anderes Problem: Viele Verschwörungserzählungen behandeln durchaus ernste Themen. Doch sie schaffen keine Lösung. Im Gegenteil: Sie verhindern aktiv\, dass wir Menschen an diesen arbeiten. Der Besuch des Workshops verschafft Hilfe. Du kannst dein Wissen erweitern & anschließend Freund*innen aufklären. \n*** Anmeldung Workshopreihe gegen Antisemitismus \nDie Workshopreihe möchte Jugendliche und junge Erwachsene zwischen 14 und 27 Jahren dazu ermutigen\, das Phänomen Antisemitismus zu verstehen\, im Alltag zu erkennen und aktiv zu werden\, um Antisemitismus zu stoppen. Lebensweltnah und unter besonderer Beachtung der Region Ostsachen werden aktuelle Erscheinungsformen des Antisemitismus bearbeitet.\nDieses Angebot richtet sich zunächst speziell an Fachkräfte der offenen Jugendarbeit\, um die Workshops zu erproben und evaluieren. \nEnde 2025 werden die Ergebnisse in einem modularen Workshopleitfaden festgehalten und veröffentlicht. Hinter dem Projekt steht das Bündnis gegen Antisemitismus in Dresden und Ostsachsen\, ein breiter Zusammenschluss von Organisationen aus der jüdischen Community und der Zivilgesellschaft Ostsachsens. \nVeranstaltungsort: Steinhaus e.V. (Steinstraße 37\, 02625 Bautzen)\nAblauf: Die Workshops beginnen immer jeweils pünktlich um 10 Uhr und enden um 16 Uhr. Zwischendurch wird es eine Mittagspause und Verpflegung geben. \nDas Angebot ist kostenlos. Die Workshops können auch einzeln bzw. unabhängig voneinander besucht werden. \nProgramm der Workshopreihe (PDF)\nAnmeldung\nWeitere Informationen
URL:https://www.tolerantes-sachsen.de/veranstaltung/workshop-die-welt-ein-duesterer-ort-voller-verschwoerungen-bautzen/
LOCATION:Landkreis Bautzen
CATEGORIES:Seminar | Workshop
END:VEVENT
END:VCALENDAR