BEGIN:VCALENDAR
VERSION:2.0
PRODID:-//Netzwerk Tolerantes Sachsen - ECPv6.15.18//NONSGML v1.0//EN
CALSCALE:GREGORIAN
METHOD:PUBLISH
X-WR-CALNAME:Netzwerk Tolerantes Sachsen
X-ORIGINAL-URL:https://www.tolerantes-sachsen.de
X-WR-CALDESC:Veranstaltungen für Netzwerk Tolerantes Sachsen
REFRESH-INTERVAL;VALUE=DURATION:PT1H
X-Robots-Tag:noindex
X-PUBLISHED-TTL:PT1H
BEGIN:VTIMEZONE
TZID:Europe/Berlin
BEGIN:DAYLIGHT
TZOFFSETFROM:+0100
TZOFFSETTO:+0200
TZNAME:CEST
DTSTART:20230326T010000
END:DAYLIGHT
BEGIN:STANDARD
TZOFFSETFROM:+0200
TZOFFSETTO:+0100
TZNAME:CET
DTSTART:20231029T010000
END:STANDARD
BEGIN:DAYLIGHT
TZOFFSETFROM:+0100
TZOFFSETTO:+0200
TZNAME:CEST
DTSTART:20240331T010000
END:DAYLIGHT
BEGIN:STANDARD
TZOFFSETFROM:+0200
TZOFFSETTO:+0100
TZNAME:CET
DTSTART:20241027T010000
END:STANDARD
BEGIN:DAYLIGHT
TZOFFSETFROM:+0100
TZOFFSETTO:+0200
TZNAME:CEST
DTSTART:20250330T010000
END:DAYLIGHT
BEGIN:STANDARD
TZOFFSETFROM:+0200
TZOFFSETTO:+0100
TZNAME:CET
DTSTART:20251026T010000
END:STANDARD
END:VTIMEZONE
BEGIN:VEVENT
DTSTART;TZID=Europe/Berlin:20240818T190000
DTEND;TZID=Europe/Berlin:20240818T210000
DTSTAMP:20260421T235136
CREATED:20240709T082839Z
LAST-MODIFIED:20240709T082839Z
UID:26140-1724007600-1724014800@www.tolerantes-sachsen.de
SUMMARY:Podiumsdiskussion und Gespräch “Meinungsfreiheit und Demokratie” | Döbeln
DESCRIPTION:Mit den Schriftstellern Marcel Beyer und Jan Kuhlbrodt. Moderation: Johanna Lemke (Sächsische Zeitung) \n»Das wird man ja wohl noch sagen dürfen — Meinungsfreiheit und Demokratie«. Nach der Wahrnehmung vieler ist es auch in Deutschland nicht gut um die Meinungsfreiheit bestellt. Zwar waren Mittel und Möglichkeiten\, Kritik zu formulieren und Gehör zu finden\, nie größer als heute\, dennoch wächst die Zahl derer\, die sich eingeschränkt fühlen. Wer genau hinsieht\, wird aber feststellen\, dass sich hier nicht einfach zwei Bevölkerungsgruppen gegenüberstehen. Vielmehr ist es so\, dass wer sich heute über Meinungskorridore\, Denkverbote und »Cancel Culture« beklagt\, morgen selber Grenzen des Zulässigen vorzugeben versucht; je nachdem\, worum es gerade geht. \nDas erschwert den gesellschaftlichen Dialog doch sehr – und an dieser Stelle setzt PEN Berlin an. Die zwei Podiumsteilnehmer*innen wollen nicht nur miteinander reden\, sondern auch mit dem Publikum. \nEintritt frei\, um Spenden wird gebeten. \nDie Podiumsdiskussion ist eine Veranstaltung des Treibhaus e.V. in Kooperation mit PEN Berlin und der Stadtbibliothek Döbeln. \nVeranstaltungsort\nStadtbibliothek Döbeln\nLutherplatz 4\n04720 Döbeln  \nWeitere Informationen
URL:https://www.tolerantes-sachsen.de/veranstaltung/podiumsdiskussion-und-gespraech-meinungsfreiheit-und-demokratie-doebeln/
LOCATION:Landkreis Mittelsachsen
CATEGORIES:Podium | Gespräch
END:VEVENT
BEGIN:VEVENT
DTSTART;TZID=Europe/Berlin:20240820T093000
DTEND;TZID=Europe/Berlin:20240820T170000
DTSTAMP:20260421T235136
CREATED:20240808T082659Z
LAST-MODIFIED:20240808T082659Z
UID:26804-1724146200-1724173200@www.tolerantes-sachsen.de
SUMMARY:Tagung des Fachnetzwerks gegen Antisemitismus in Sachsen – „Kunst als Mittel in der Antisemitismusbekämpfung“ | Döbeln
DESCRIPTION:Auf der inzwischen 7. Tagung des Fachnetzwerks gegen Antisemitismus in Sachsen wollen wir uns mit Kunst als Mittel in der Antisemitismusbekämpfung befassen. Die Tagung findet am 20.08.2024 von 9.30-17.00 Uhr in Döbeln im Treibhaus Döbeln e.V. statt. Dazu möchten wir Sie und euch ganz herzlich einladen! \nDas Verhältnis von Kunst und Antisemitismus ist medial vor allem hinsichtlich seiner problematischen Dimensionen präsent. Seien es die Vorkommnisse auf der documenta\, der Berlinale oder in lokalem\, kleineren Rahmen\, regelmäßig manifestieren sich Spannungen zwischen Vorstellungen von künstlerischer Freiheit und den Grenzen zum Antisemitismus. Kunst kann jedoch auch als bedeutendes Mittel in der Kritik und Bekämpfung von Antisemitismus dienen und stellt in dieser Hinsicht einen wichtigen Bestandteil von Bildungsarbeit dar. Wir wollen uns auf der Tagung bewusst und vorranging mit diesen konstruktiven Potentialen befassen und beleuchten\, wie Kunst kreative Herangehensweisen an Antisemitismuskritik schaffen und Zielgruppen-Zugänge erweitern kann. \nProgramm \nDie Tagung wird eröffnet mit einer Keynote zum Schwerpunktthema „Kunst als Mittel in der Antisemitismusbekämpfung“. Daraufhin folgt eine Speed-Panel-Session\, bei der die Teilnehmenden die Möglichkeit besitzen\, im Wechsel verschiedene zur Auswahl stehende Projekte und Best-Practice Beispiele kennenzulernen. Am Nachmittag werden wir uns dann in Arbeitsgruppen zu verschiedenen Themenschwerpunkten austauschen. In jeder Gruppe geben Akteur*innen einen kurzen Gesprächsimpuls zu ihrer Arbeitspraxis. Wir laden Sie natürlich alle wie immer herzlich ein\, Ihre eigenen Beispiele\, Erfahrungen und Fragen mit in die jeweilige Gruppe einzubringen. Den Abschluss des Tages bildet eine Stadtführung zu Spuren Jüdischen Lebens in Döbeln von Stephan Conrad\, Leitung der AG Geschichte am Treibhaus Döbeln. \nEine detaillierte Übersicht über den Tagesablauf finden Sie im ebenfalls angehängten separaten Dokument. \nHinweise zur Anmeldung \nDie Tagung richtet sich primär an Akteur*innen\, die sich gegen Antisemitismus und/oder für die Stärkung und Selbstbestimmung jüdischen Lebens engagieren. Interessierte\, die sich zu diesen Themen weiterbilden möchten\, sind jedoch ebenfalls herzlich willkommen. \nBitte geben Sie bei Ihrer Anmeldung an\, welche der Arbeitsgruppen Sie besuchen möchten. Nennen Sie dabei bitte auch einen Zweitwunsch\, da wir die Teilnehmendenzahl pro AG auf 10 Personen begrenzen. \nTeilen Sie uns weiterhin bitte mit\, ob Sie am gemeinsamen Mittagessen teilnehmen möchten. Das Mittagessen ist vegetarisch und vegan. \nAnfahrt \nDie Veranstaltung findet im Treibhaus e.V. Soziokultur in Döbeln\, Bahnhofstraße 56\, 04720 Döbeln statt. \nParkplätze vor Ort sind in Laufnähe des Veranstaltungsortes vorhanden. Zur Anreise mit dem ÖPNV nutzen Sie den Hauptbahnhof Döbeln und von dort Bus Nr. 750 oder 895 zur Haltestelle Döbeln\, Volkshaus. \nSollten Sie eine Mitfahrgelegenheit benötigen oder anbieten können\, wenden Sie sich gerne an uns und wir versuchen\, einen Platz zu vermitteln. \nOrt\nTreibhaus e.V. Soziokultur in Döbeln\nBahnhofstraße 56\nDöbeln\, 04720 \nWeitere Informationen
URL:https://www.tolerantes-sachsen.de/veranstaltung/tagung-des-fachnetzwerks-gegen-antisemitismus-in-sachsen-kunst-als-mittel-in-der-antisemitismusbekaempfung-doebeln/
LOCATION:Landkreis Mittelsachsen
CATEGORIES:Fachtag | Konferenz
END:VEVENT
BEGIN:VEVENT
DTSTART;TZID=Europe/Berlin:20240831T090000
DTEND;TZID=Europe/Berlin:20240831T160000
DTSTAMP:20260421T235136
CREATED:20240709T083138Z
LAST-MODIFIED:20240709T083138Z
UID:26142-1725094800-1725120000@www.tolerantes-sachsen.de
SUMMARY:Radtour “Auftakt des Terrors 1933/34 im Altkreis Döbeln” | Döbeln
DESCRIPTION:Vor 90 Jahren wurde das KZ Sachsenburg zum einzigen Konzentrationslager in Sachsen. Es gilt als ein Bindeglied zwischen den frühen Konzentrationslagern (1933/34) und dem späteren KZ-System (ab 1936) und war Experimentierfeld und Ausbildungsstätte der Lager-SS. Im KZ Sachsenburg inhaftierten die Nationalsozialisten über 10.000 Menschen. Mit der Schließung des Lagers 1937 fand der KZ-Terror\, erprobt in Sachsenburg\, seine Fortsetzung in Lagern wie Buchenwald und Sachsenhausen. Trotzdem ist Sachsenburg in der Erinnerung weitgehend vergessen. \nAm 31. August starten wir eine Radtour beginnend am Café Courage und folgen den Spuren des „Auftakt des Terros im Altkreis Döbeln“. Wir besuchen den Obermarkt und beschäftigen uns mit der Machtergreifung\, fahren danach zum Amtsgericht und sprechen über „Wilde KZ“ und „Frühe KZ“. Auf dem Weg nach Sachsenburg halten wir noch in Hainichen an dem Ort\, in das die Inhaftierten gesperrt wurden\, weil der Platz in den vielen Amtsgerichten und Schlössern nicht mehr ausreichte. Auch deshalb wurde das KZ Sachsenburg ausgebaut. Dort angekommen wird uns Anna Schüller eine Führung über das Gelände bieten und den Einführungsvortrag vom 02. August vertiefen. \nDie Strecke umfasst etwa 67 km und beinhaltet 435 Hm. Die Radtour ist der zweite Teil der Beschäftigung mit diesem Ort. \nEintritt frei\, um Spenden wird gebeten. \nVeranstaltungsort\nCafé Courage\nBahnhofstraße 56\n04720 Döbeln  \nWeitere Informationen
URL:https://www.tolerantes-sachsen.de/veranstaltung/radtour-auftakt-des-terrors-1933-34-im-altkreis-doebeln-doebeln/
LOCATION:Landkreis Mittelsachsen
CATEGORIES:Bildungsreise | Bildungstag,Gedenken
END:VEVENT
END:VCALENDAR