BEGIN:VCALENDAR
VERSION:2.0
PRODID:-//Netzwerk Tolerantes Sachsen - ECPv6.15.18//NONSGML v1.0//EN
CALSCALE:GREGORIAN
METHOD:PUBLISH
X-ORIGINAL-URL:https://www.tolerantes-sachsen.de
X-WR-CALDESC:Veranstaltungen für Netzwerk Tolerantes Sachsen
REFRESH-INTERVAL;VALUE=DURATION:PT1H
X-Robots-Tag:noindex
X-PUBLISHED-TTL:PT1H
BEGIN:VTIMEZONE
TZID:Europe/Berlin
BEGIN:DAYLIGHT
TZOFFSETFROM:+0100
TZOFFSETTO:+0200
TZNAME:CEST
DTSTART:20230326T010000
END:DAYLIGHT
BEGIN:STANDARD
TZOFFSETFROM:+0200
TZOFFSETTO:+0100
TZNAME:CET
DTSTART:20231029T010000
END:STANDARD
BEGIN:DAYLIGHT
TZOFFSETFROM:+0100
TZOFFSETTO:+0200
TZNAME:CEST
DTSTART:20240331T010000
END:DAYLIGHT
BEGIN:STANDARD
TZOFFSETFROM:+0200
TZOFFSETTO:+0100
TZNAME:CET
DTSTART:20241027T010000
END:STANDARD
BEGIN:DAYLIGHT
TZOFFSETFROM:+0100
TZOFFSETTO:+0200
TZNAME:CEST
DTSTART:20250330T010000
END:DAYLIGHT
BEGIN:STANDARD
TZOFFSETFROM:+0200
TZOFFSETTO:+0100
TZNAME:CET
DTSTART:20251026T010000
END:STANDARD
END:VTIMEZONE
BEGIN:VEVENT
DTSTART;TZID=Europe/Berlin:20240907T120000
DTEND;TZID=Europe/Berlin:20240907T170000
DTSTAMP:20260421T221231
CREATED:20240829T124220Z
LAST-MODIFIED:20240829T124220Z
UID:27159-1725710400-1725728400@www.tolerantes-sachsen.de
SUMMARY:CSD Freiberg | Freiberg
DESCRIPTION:Am 7. September 2024 ist es endlich soweit – der Christopher Street Day in Freiberg steht an! Unter dem Motto „CSD statt AfD!“ wollen wir ein eindeutiges Zeichen setzen für Vielfalt\, Toleranz und Gleichberechtigung. \nDieses Jahr ist der CSD ganz besonders wichtig\, denn kurz zuvor finden die großen Wahlen in Deutschland statt und eine neue Landesregierung wird gebildet. Lasst uns gemeinsam darauf aufmerksam machen\, wie wichtig es ist\, dass queere Perspektiven auch in die Provinzen gehören und berücksichtigt werden müssen. Queeres Leben gibt es überall und das wollen wir auch in Freiberg zeigen. \nWir möchten mit unserem CSD nicht nur feiern\, sondern auch gegen die AfD\, die Freien Sachsen und jede andere diskriminierende\, rechte Politik protestieren. Lasst uns zeigen\, dass Hass und Ausgrenzung keinen Platz in unserer Gesellschaft haben! Wir möchten zeigen\, dass menschenverachtende Ideologien und rechtsradikale Hetze hier nichts zu suchen haben. Freiberg ist bunt\, vielfältig und queer. \nQueerfeindlichkeit ist elementar vertreten in rechten Ideologien: Es wird ein binäres Geschlechterverständnis propagiert\, Frauen werden als Reproduktionsmaschinen diffamiert und traditionelle Familien á la Mama\, Papa\, Kind sind die Wunschvorstellungen dieser Menschen. Selbstbestimmtheit und freie Liebe\, Akzeptanz\, Respekt und Weltoffenheit sind in der rechten Ideologie nicht zu finden. \nUm zu zeigen\, wie vielfältig wir alle sind\, dass die Selbstverwirklichung eines Jeden wichtig ist und Liebe keine Grenzen kennt\, wollen wir mit euch zusammen am 07.09.2024 die Straßen Freibergs bunt\, laut und queer zaubern! \nKommt zahlreich zum CSD in Freiberg und setzt mit uns gemeinsam ein starkes Zeichen für Liebe\, Respekt und Vielfalt. 🏳️‍🌈✨ \nOrt\nBahnhof Freiberg \nWeitere Informationen
URL:https://www.tolerantes-sachsen.de/veranstaltung/csd-freiberg-freiberg/
LOCATION:Landkreis Mittelsachsen
CATEGORIES:Aktionstag
END:VEVENT
BEGIN:VEVENT
DTSTART;TZID=Europe/Berlin:20240907T180000
DTEND;TZID=Europe/Berlin:20240907T233000
DTSTAMP:20260421T221231
CREATED:20240809T075749Z
LAST-MODIFIED:20240809T075749Z
UID:26849-1725732000-1725751800@www.tolerantes-sachsen.de
SUMMARY:30 Jahre Jugendhaus Roßwein e.V. | Roßwein
DESCRIPTION:Der Verein feiert dieses Jahr sein 30 jähriges Bestehen und das möchten wir natürlich mit euch feiern!\nMit von der Partie sind:\n– Finalizer (Berlin / Metallic Hardcore)https://finalizerhc.bandcamp.com/music– Frau Müller (Roßwein / Punkrock)– Bei Bedarf (Berlin / Deutschpunk)https://bakraufarfitarecords.bandcamp.com/…/bei-bedarf…– Final Effort (Leipzig / Hardcore Punk)https://finaleffort.bandcamp.com/\nim großen Saal im EG. \nDen kleinen Saal im 1. OG werden für euch aufheizen: \n– Sktr (Dresden / basscltr)https://soundcloud.com/sktrofficial– DJ Hantelbank (Szene Rochlitz / 2000er Trash)– Hans Gebälk– R. Steel feat Waldi hat euch lieb ihr Raupen– Edit Orial\n\nAußerdem wird es für euch was leckeres zu futtern geben\, Cocktails und einen Stand der Siebdruckwerkstatt vom Treibhaus e.V.!\nWir freuen uns auf euch! STAY TUNED!\n\nOrt\nJugendhaus Roßwein\nGoldbornstraße 18\n04741 Roßwein\nWeitere Informationen
URL:https://www.tolerantes-sachsen.de/veranstaltung/30-jahre-jugendhaus-rosswein-e-v-rosswein/
CATEGORIES:Festival | Feier | Jubiläum
END:VEVENT
BEGIN:VEVENT
DTSTART;TZID=Europe/Berlin:20240921T140000
DTEND;TZID=Europe/Berlin:20240921T220000
DTSTAMP:20260421T221231
CREATED:20240724T102521Z
LAST-MODIFIED:20240724T102521Z
UID:26528-1726927200-1726956000@www.tolerantes-sachsen.de
SUMMARY:3. CSD Döbeln — Bunte Flaggen gegen braune Politik | Döbeln
DESCRIPTION:Am 21.09. 2024 findet der dritte CSD in Döbeln statt. Organisiert wird der CSD von der Queeren Gruppe Döbeln in Zusammenarbeit mit dem Projekt WerkStadt vom Treibhaus e.V. \nRechte für queere Menschen wurden schon immer politisch erkämpft und gerade im ländlichen Raum bedeutet dieser Kampf\, sich entschlossen dem Rechtsruck entgegen zu stellen. Der CSD Döbeln steht daher dieses Jahr unter dem Motto: Bunte Flaggen gegen braune Politik! \nUnsere Solidarität gilt nicht nur anderen queeren Menschen\, sondern auch geflüchteten Menschen\, Menschen mit Behinderung\, People of Color\, Menschen in finanziell prekären Situationen\, obdachlosen Menschen\, kurz: all jenen\, die genau wie wir nicht in das Gesellschaftsbild rechtsextremer Ideologien passen und die genau wie wir aus dem rechten Lager bedroht werden. Gewinnen können wir nur gemeinsam: No one is free until all are free! \nWir sind dieses Jahr mehr denn je auf die Unterstützung solidarischer Großstädter*innen und lokaler Verbündeter angewiesen. Packt die Pride-Flaggen und Antifa-Fahnen in den Rucksack und ab in die Provinz!\nSupport your Hinterland\, wir brauchen euch! \nZeit\n21.09.2024 \n14.00 Uhr Start Hauptbahnhof Döbeln \n16.00 Uhr Parkfest mit Infoständen im Wettinpark \n18.00 Uhr CSD Aftershow im Café Courage \nBei Fragen meldet euch unter: \nwerkstadt@treibhaus-doebeln.de \nqueeres_doebeln@systemli.org \nWeitere Informationen
URL:https://www.tolerantes-sachsen.de/veranstaltung/3-csd-doebeln-bunte-flaggen-gegen-braune-politik-doebeln/
LOCATION:Landkreis Mittelsachsen
CATEGORIES:Aktionstag
END:VEVENT
END:VCALENDAR