BEGIN:VCALENDAR
VERSION:2.0
PRODID:-//Netzwerk Tolerantes Sachsen - ECPv6.15.18//NONSGML v1.0//EN
CALSCALE:GREGORIAN
METHOD:PUBLISH
X-WR-CALNAME:Netzwerk Tolerantes Sachsen
X-ORIGINAL-URL:https://www.tolerantes-sachsen.de
X-WR-CALDESC:Veranstaltungen für Netzwerk Tolerantes Sachsen
REFRESH-INTERVAL;VALUE=DURATION:PT1H
X-Robots-Tag:noindex
X-PUBLISHED-TTL:PT1H
BEGIN:VTIMEZONE
TZID:Europe/Berlin
BEGIN:DAYLIGHT
TZOFFSETFROM:+0100
TZOFFSETTO:+0200
TZNAME:CEST
DTSTART:20230326T010000
END:DAYLIGHT
BEGIN:STANDARD
TZOFFSETFROM:+0200
TZOFFSETTO:+0100
TZNAME:CET
DTSTART:20231029T010000
END:STANDARD
BEGIN:DAYLIGHT
TZOFFSETFROM:+0100
TZOFFSETTO:+0200
TZNAME:CEST
DTSTART:20240331T010000
END:DAYLIGHT
BEGIN:STANDARD
TZOFFSETFROM:+0200
TZOFFSETTO:+0100
TZNAME:CET
DTSTART:20241027T010000
END:STANDARD
BEGIN:DAYLIGHT
TZOFFSETFROM:+0100
TZOFFSETTO:+0200
TZNAME:CEST
DTSTART:20250330T010000
END:DAYLIGHT
BEGIN:STANDARD
TZOFFSETFROM:+0200
TZOFFSETTO:+0100
TZNAME:CET
DTSTART:20251026T010000
END:STANDARD
END:VTIMEZONE
BEGIN:VEVENT
DTSTART;VALUE=DATE:20241013
DTEND;VALUE=DATE:20241015
DTSTAMP:20260421T204030
CREATED:20240808T093153Z
LAST-MODIFIED:20240808T093153Z
UID:26824-1728777600-1728950399@www.tolerantes-sachsen.de
SUMMARY:MITEINANDER REDEN FESTIVAL 2024 | Leisnig
DESCRIPTION:Am 13. und 14. Oktober 2024 findet unser zweites MR-Festival „Miteinander reden – Zusammen feiern- Voneinander lernen “ im Bahnhof Leisnig in Leisnig (Sachsen) statt. Das Festival richtet sich vor allem an die Projektträger:innen der mittlerweile drei MITEINANDER REDEN-Förderrunden und die aktuellen Prozessbegleiter:innen. Das Festival ist aber auch an beiden Tagen öffentlich und alle Interessierten können sich anmelden. \n\n\n\nMit unserem Festival möchten wir die reiche und vielfältige Projektlandschaft sichtbar machen\, die aus dem Qualifizierungs- und Förderprogramm MITEINANDER REDEN in den letzten sechs Jahren erwachsen ist. \nDas Festival ist an beiden Tagen öffentlich und alle Interessierten sind herzlich eingeladen teilzunehmen.\n \nAuf Sie warten zwei Tage der Vernetzung und des gemeinsamen Austauschs mit den MITEINANDER REDEN Projektakteur:innen\, Vorträge und Podiumsdiskussionen zu Themen ländlicher Räume sowie Zeit für gemeinsames Feiern bei Musik und Essen. \nWir freuen uns alle an MITEINANDER REDEN Interessierten zu begrüßen. \nDie Teilnahme am Festival ist kostenlos.\n \nHier finden Sie den derzeitigen Programmstand. \nWeitere Informationen
URL:https://www.tolerantes-sachsen.de/veranstaltung/miteinander-reden-festival-2024-leisnig/
LOCATION:Landkreis Mittelsachsen
CATEGORIES:Festival | Feier | Jubiläum
END:VEVENT
END:VCALENDAR