BEGIN:VCALENDAR
VERSION:2.0
PRODID:-//Netzwerk Tolerantes Sachsen - ECPv6.15.18//NONSGML v1.0//EN
CALSCALE:GREGORIAN
METHOD:PUBLISH
X-WR-CALNAME:Netzwerk Tolerantes Sachsen
X-ORIGINAL-URL:https://www.tolerantes-sachsen.de
X-WR-CALDESC:Veranstaltungen für Netzwerk Tolerantes Sachsen
REFRESH-INTERVAL;VALUE=DURATION:PT1H
X-Robots-Tag:noindex
X-PUBLISHED-TTL:PT1H
BEGIN:VTIMEZONE
TZID:Europe/Berlin
BEGIN:DAYLIGHT
TZOFFSETFROM:+0100
TZOFFSETTO:+0200
TZNAME:CEST
DTSTART:20240331T010000
END:DAYLIGHT
BEGIN:STANDARD
TZOFFSETFROM:+0200
TZOFFSETTO:+0100
TZNAME:CET
DTSTART:20241027T010000
END:STANDARD
BEGIN:DAYLIGHT
TZOFFSETFROM:+0100
TZOFFSETTO:+0200
TZNAME:CEST
DTSTART:20250330T010000
END:DAYLIGHT
BEGIN:STANDARD
TZOFFSETFROM:+0200
TZOFFSETTO:+0100
TZNAME:CET
DTSTART:20251026T010000
END:STANDARD
BEGIN:DAYLIGHT
TZOFFSETFROM:+0100
TZOFFSETTO:+0200
TZNAME:CEST
DTSTART:20260329T010000
END:DAYLIGHT
BEGIN:STANDARD
TZOFFSETFROM:+0200
TZOFFSETTO:+0100
TZNAME:CET
DTSTART:20261025T010000
END:STANDARD
END:VTIMEZONE
BEGIN:VEVENT
DTSTART;TZID=Europe/Berlin:20250217T190000
DTEND;TZID=Europe/Berlin:20250217T210000
DTSTAMP:20260425T205834
CREATED:20250131T111922Z
LAST-MODIFIED:20250131T111922Z
UID:29042-1739818800-1739826000@www.tolerantes-sachsen.de
SUMMARY:Patriarchat reloaded – Wie Antifeminismus Wahlen gewinnt | digital
DESCRIPTION:Frauenfeindlichkeit und „Anti-Gender“-Ideologien sind keine Randphänomene – sie sind gezielte politische Strategien\, die weltweit zur Mobilisierung genutzt werden. Parteien wie die AfD in Deutschland\, Donald Trump in den USA oder einflussreiche Akteure wie Elon Musk und Andrew Tate setzen bewusst auf diese Strategien\, um gesellschaftliche Ängste zu schüren und öffentliche Debatten zu beeinflussen. \nDie Folgen sind gravierend: Fortschritte in der Gleichstellung\, im Gewaltschutz und in der körperlichen und geschlechtlichen Selbstbestimmung werden systematisch zurückgedrängt. Betroffene erleben verstärkten Druck\, Bedrohungen und Diskriminierung. \nAntifeminismus ist jedoch nicht nur eine Gefahr für Frauen\, queere und trans Personen\, sondern fungiert auch als Brückenideologie: Er verbindet und verstärkt menschenfeindliche Strömungen wie Rechtsextremismus\, Rassismus und Antisemitismus. Dadurch werden Feindbilder geschaffen\, die demokratische Grundwerte untergraben und gesellschaftliche Spaltungen vertiefen. Gemeinsam wollen wir diskutieren\, wie Antifeminismus funktioniert\, warum er eine direkte Bedrohung für Demokratie und gesellschaftlichen Zusammenhalt darstellt und was wir alle dagegen tun können. \nDatum: Montag den 17.02.\nUhrzeit: 19:00 Uhr\nLivestream via YouTube (Link folgt) \nMitwirkende: \n\nAnnika Brockschmidt (Autorin\, Journalistin\, Podcasterin\, USA-Expertin)\nSabine Herberth (Antifeminismus-Expertin der Amadeu Antonio Stiftung)\nPolitische Entscheidungsträger*in (angefragt)\nPerson des öffentlichen Lebens (angefragt)\n\nWeitere Informationen
URL:https://www.tolerantes-sachsen.de/veranstaltung/patriarchat-reloaded-wie-antifeminismus-wahlen-gewinnt-digital/
LOCATION:digital
END:VEVENT
END:VCALENDAR