BEGIN:VCALENDAR
VERSION:2.0
PRODID:-//Netzwerk Tolerantes Sachsen - ECPv6.15.18//NONSGML v1.0//EN
CALSCALE:GREGORIAN
METHOD:PUBLISH
X-WR-CALNAME:Netzwerk Tolerantes Sachsen
X-ORIGINAL-URL:https://www.tolerantes-sachsen.de
X-WR-CALDESC:Veranstaltungen für Netzwerk Tolerantes Sachsen
REFRESH-INTERVAL;VALUE=DURATION:PT1H
X-Robots-Tag:noindex
X-PUBLISHED-TTL:PT1H
BEGIN:VTIMEZONE
TZID:Europe/Berlin
BEGIN:DAYLIGHT
TZOFFSETFROM:+0100
TZOFFSETTO:+0200
TZNAME:CEST
DTSTART:20240331T010000
END:DAYLIGHT
BEGIN:STANDARD
TZOFFSETFROM:+0200
TZOFFSETTO:+0100
TZNAME:CET
DTSTART:20241027T010000
END:STANDARD
BEGIN:DAYLIGHT
TZOFFSETFROM:+0100
TZOFFSETTO:+0200
TZNAME:CEST
DTSTART:20250330T010000
END:DAYLIGHT
BEGIN:STANDARD
TZOFFSETFROM:+0200
TZOFFSETTO:+0100
TZNAME:CET
DTSTART:20251026T010000
END:STANDARD
BEGIN:DAYLIGHT
TZOFFSETFROM:+0100
TZOFFSETTO:+0200
TZNAME:CEST
DTSTART:20260329T010000
END:DAYLIGHT
BEGIN:STANDARD
TZOFFSETFROM:+0200
TZOFFSETTO:+0100
TZNAME:CET
DTSTART:20261025T010000
END:STANDARD
END:VTIMEZONE
BEGIN:VEVENT
DTSTART;TZID=Europe/Berlin:20250506T190000
DTEND;TZID=Europe/Berlin:20250506T210000
DTSTAMP:20260425T170427
CREATED:20250430T113436Z
LAST-MODIFIED:20250430T113436Z
UID:29940-1746558000-1746565200@www.tolerantes-sachsen.de
SUMMARY:Vortrag: Queer and Antifascist – unsere Brücken halten | Dresden
DESCRIPTION:Als Queer Pride Dresden wirken wir seit 2020 auf ganz unterschiedlichen Wegen auf eine bessere Zukunft hin. Wir setzen uns für eine starke queere Community ein\, für queere Sichtbarkeit im Alltag und selbstbewusste Forderungen in der Politik. \nUnsere große Demo am 21.06.2025 steht unter dem Motto: „queer and antifacist – unsere Brücken halten!“ Denn das vergangene Jahr hat nicht nur in Sachsen gezeigt\, wie wichtig das Verknüpfen von queeren und antifaschistischen Kämpfen ist. Wir geben einen Einblick in unsere Aktivitäten und laden zum Austausch über aktuelle Herausforderungen und Handlungsmöglichkeiten ein. \nOrt\nClub HängeMathe\, Zeunerstr. 1f\, 01069 Dresden \nWeitere Informationen
URL:https://www.tolerantes-sachsen.de/veranstaltung/vortrag-queer-and-antifascist-unsere-bruecken-halten-dresden/
LOCATION:Stadt Dresden
CATEGORIES:Vortrag
END:VEVENT
BEGIN:VEVENT
DTSTART;VALUE=DATE:20250509
DTEND;VALUE=DATE:20250511
DTSTAMP:20260425T170427
CREATED:20250430T095859Z
LAST-MODIFIED:20250430T095859Z
UID:29916-1746748800-1746921599@www.tolerantes-sachsen.de
SUMMARY:Konferenz: über:morgen – the world transformed – Das Festival der Ideen | Chemnitz
DESCRIPTION:Die Welt wird immer autoritärer\, aber überall engagieren sich Menschen dagegen. Alternativen zum Status Quo gibt es bereits. \nUm voneinander lernen und zusammen stärker zu werden gibt es über:morgen.\nBei warmen Frühlingswetter wollen wir uns austauschen\, diskutieren\, Utopien entwickeln. über:morgen ist ein internationales Festival für Politik\, Bildung und Kultur. \nSolidarität und eine bessere Zukunft für alle sind der Soundtrack dieser Tage. \nZeit: \n\n9.5.\, 14 bis 24 Uhr\n10.5.\, 11 bis 18 Uhr\n\nAnfahrt: \n\nMit dem Bus 23 oder 43 – Haltestelle «Messe»\nMit der Straßenbahnlinie 1 – Haltestelle «Guerikestraße/Messe Chemnitz»\n\nEintritt frei. \nEine Veranstaltung der Rosa-Luxemburg-Stiftung in Kooperation mit der Rosa-Luxemburg-Stiftung Sachsen. \nProgramm-Download (wird auf der Website der RosaLux laufend aktualisiert) \n\nProgramm-uebermorgen_9+10.5.25.pdf\nProgramm-uebermorgen_9+10.5.25_EN.pdf\n\nVeranstaltungsort\nChemnitz Messe\nMesseplatz 1\n09116 Chemnitz \nWeitere Informationen
URL:https://www.tolerantes-sachsen.de/veranstaltung/konferenz-uebermorgen-the-world-transformed-das-festival-der-ideen-chemnitz/
LOCATION:Stadt Chemnitz
CATEGORIES:Fachtag | Konferenz
END:VEVENT
BEGIN:VEVENT
DTSTART;TZID=Europe/Berlin:20250513T190000
DTEND;TZID=Europe/Berlin:20250513T203000
DTSTAMP:20260425T170427
CREATED:20250512T080009Z
LAST-MODIFIED:20250512T080009Z
UID:30012-1747162800-1747168200@www.tolerantes-sachsen.de
SUMMARY:Sachsen rechts unten: Queerfeindlichkeit
DESCRIPTION:Am 13.Mai 2025 präsentiert das Kulturbüro Sachsen e.V. die elfte Ausgabe der Jahrespublikation „Sachsen rechts unten“. Seit 2014 legen wir mit dieser Publikation jährlich eine Analyse über die qualitative Verfasstheit der extremen Rechten in Sachsen vor. \nIn diesem Jahr stehen die Themen Queerfeindlichkeit und Antifeminismus als Kernideologie rechtsextremen Denkens im Fokus der Broschüre. \nQueerfeindlichkeit und Antifeminismus sind Kernideologien rechtsextremen Denkens. Dies wird auch in Sachsen in den letzten Jahren immer deutlicher sichtbar. Rechtsextreme Gruppen nutzen Queerfeindlichkeit und Antifeminismus gezielt für ihre Propaganda\, indem sie Ängste schüren und Stereotype verstärken. Auch auf der Ebene extrem rechter Aktionsformen gewinnen die Themen Queerfeindlichkeit und Antifeminsimus immer mehr an Gewicht. Rechtsextreme Parteien wie die sächsische AfD polarisieren bewusst gegen geschlechtliche Vielfalt und diverse Lebensweisen. Extrem rechte Gruppen mobilisieren gegen Veranstaltungen\, auf denen geschlechtliche und sexuelle Vielfalt öffentlich repräsentiert werden. Und sie hatten damit\, insbesondere in Sachsen\, immer wieder Erfolg. \nAn diesem Abend werden verschiedene Autor*innen der Publikation ihre Beiträge vorstellen und der Öffentlichkeit präsentieren.\nNach einem Input dient der Abend auch dem Austausch und der Diskussion. Die Publikation kann an diesem Abend auch kostenfrei vor Ort mitgenommen werden. \nDie Veranstaltung ist eine Kooperation des Kulturbüro Sachsen e.V. mit Weiterdenken – Heinrich-Böll-Stiftung Sachsen. \nBarrieren im Gartenlokal Fortschritt\nDas gesamte Gebäude ist ebenerdig. Unsere Toiletten sind leider sehr eng und haben schmale Eingänge. Es ist daher ratsam\, die Lokalität vorab zu besuchen und individuell zu begutachten.\nEs gibt keine Wickelmöglichkeiten im Sanitärbereich. Falls du einen ruhigen Platz suchst\, sprich uns gern an.\nUnsere Speise- und Getränkekarten sind in deutscher Sprache verfasst. Unser Team ist jedoch in der Lage\, mit euch auch auf Englisch zu kommunizieren.\nAlle Räume mit Ausnahme der Kegelbahn sind rauchfrei. \nAntidiskriminierungsregel\nDen Veranstaltenden ist ein respektvolles und diskriminierungsfreies Miteinander sehr wichtig. Störungen oder Beleidigungen führen zum Ausschluss aus der Veranstaltung. Die Veranstaltenden behalten sich vor\, von ihrem Hausrecht Gebrauch zu machen und Personen\, die rechtsextremen Parteien oder Organisationen angehören\, der rechtsextremen Szene zuzuordnen sind oder bereits in der Vergangenheit durch rassistische\, nationalistische\, antisemitische oder sonstige menschenverachtende Äußerungen in Erscheinung getreten sind\, den Zutritt zur Veranstaltung zu verwehren oder von dieser auszuschließen. \nOrt: Gartenlokal Fortschritt\, Bärnsdorfer Str. 2a in Dresden \nWeitere Informationen
URL:https://www.tolerantes-sachsen.de/veranstaltung/sachsen-rechts-unten-queerfeindlichkeit/
LOCATION:Stadt Dresden
CATEGORIES:Lesung
END:VEVENT
BEGIN:VEVENT
DTSTART;TZID=Europe/Berlin:20250517T150000
DTEND;TZID=Europe/Berlin:20250517T193000
DTSTAMP:20260425T170427
CREATED:20250514T105405Z
LAST-MODIFIED:20250514T105405Z
UID:30135-1747494000-1747510200@www.tolerantes-sachsen.de
SUMMARY:Rainbow Flash – Plauen ist bunt – Plauen ist vielfältig! | Plauen
DESCRIPTION:Am 17. Mai 2025 findet wieder der Rainbow Flash statt 🏳️‍🌈\n\n\nMenschen in aller Welt erinnern jedes Jahr zum Internationalen Tag gegen Homo-\, Bi-\, Inter- und Transfeindlichkeit (IDAHOBIT) an den 17. Mai 1990. \nDas Datum wurde zur Erinnerung gewählt\, da an dem Tag die Weltgesundheitsorganisation (WHO) beschloss\, Homosexualität zu entpathologisieren\, d.h. nicht mehr als Krankheit zu definieren. \nBis alle Menschen wirklich frei und akzeptiert leben und lieben können ist ein weiterer Weg zu gehen und viel Kraft wird dazu gebraucht. \n\n\nAm 17. Mai lassen wir es aber nun wieder krachen – mit der phantastischen Queermetal-Band HELIUM5 – und EUCH!\n❤️🧡💛💚💙💜 \nAlle weiteren tollen Highlights und wer alles noch am Start ist\, erfahrt ihr bald! \nBleibt dran!\nUnd sagts weiter! \n\n\n\n\nProgramm\nGemeinsam mit different people e. V. aus Chemnitz starten wir unser Familienfest am IDAHOBIT. \ndifferent people e. V. ist seit anderthalb Jahren als Beratungsangebot bei colorido e. V. in Plauen erfolgreich unterwegs. Jetzt haben wir erstmals gemeinsam den Rainbowflash geplant und ein sehr schönes Programm für alle zusammengestellt – finden wir jedenfalls. \n\nJetzt fehlt nur noch IHR\, um den Tag gelingen zu lassen. \n15.00 Uhr\nBegrüßung durch colorido e. V. und different people e. V. \n15.15 Uhr\nDer ChaosKinderZirkus – vielen bekannt in Stadt und Land \n16.15 Uhr\nKurrt – Dresden\, Germany – dazwischen werden wir immer ein wenig quatschen \n18.00 Uhr\nWir freuen uns auf HELIUM 5 – Zackiger\, melodiöser NuMetal / QueerMetal \nPunkt 19.00 Uhr\nRainbowflash – wir senden ein Bild der VIELFALT aus Plauen in die Welt \n19.15 Uhr\nWeiter geht´s mit HELIUM 5 \nStände: Permagold Oberlausitz\, different people e. V.\, Popcorn\, Kinderschminken\, Glitzerstation\, Ich mal mir meine Welt\, KARO e. V.\, Linksjugend\, ein Riesen-BRuNI-Bücherstand\, Hot Dogs vegetarisch\, Suppe vegan\, Kaffee und Kuchen \nDazu gibt’s die Giraffenhüpfburg!\nKommt vorbei – es wird bunt! \nWeitere Informationen
URL:https://www.tolerantes-sachsen.de/veranstaltung/rainbow-flash-plauen-ist-bunt-plauen-ist-vielfaeltig-plauen/
LOCATION:Vogtlandkreis
CATEGORIES:Aktionstag
END:VEVENT
BEGIN:VEVENT
DTSTART;TZID=Europe/Berlin:20250517T210000
DTEND;TZID=Europe/Berlin:20250517T233000
DTSTAMP:20260425T170427
CREATED:20250514T105653Z
LAST-MODIFIED:20250514T105653Z
UID:30137-1747515600-1747524600@www.tolerantes-sachsen.de
SUMMARY:CSD Plauen Soli Party | Plauen
DESCRIPTION:Der vierte CSD Plauen findet am 16.08. statt.\nUm uns einzustimmen und Spenden für die Veranstaltung zu sammeln\, organisiert die Gruppe um den CSD Plauen eine Soli-Party zum IDAHOBIT*. \nAuf die Ohren wird es Mukke von Sappho geben. Zudem könnt ihr euch auf weitere Acts freuen\, die wir noch bekannt geben werden. \nFür alle\, die nicht auf den Eurovision Song Contest verzichten mögen\, haben wir eine ESC Lounge vorbereitet. \nAm Einlass wird um Spenden gebeten. Alle Einnahmen gehen an den CSD Plauen 2025. \nWas:\nCSD Soli Party \nWo:\nMalzhaus Plauen \nWann:\n17.05.2025\n21:00 Uhr \n*Der internationale Tag gegen Homo- Bi- und Transfeindlichkeit wird jährlich am 17.05. begangen. \nWeitere Informationen
URL:https://www.tolerantes-sachsen.de/veranstaltung/csd-plauen-soli-party-plauen/
LOCATION:Vogtlandkreis
CATEGORIES:Festival | Feier | Jubiläum
END:VEVENT
BEGIN:VEVENT
DTSTART;TZID=Europe/Berlin:20250523T120000
DTEND;TZID=Europe/Berlin:20250523T160000
DTSTAMP:20260425T170427
CREATED:20250513T082616Z
LAST-MODIFIED:20250513T082632Z
UID:30076-1748001600-1748016000@www.tolerantes-sachsen.de
SUMMARY:Annersch Tag | Annaberg-Buchholz
DESCRIPTION:Bald ist es soweit: der erste Annersch Tag in Annaberg steht vor der Tür 🤩 Am Freitag\, den 23.5. wird es von 12-16 Uhr im Stadtpark Annaberg ein buntes Programm geben. \n📢 Mit diesem Tag wollen wir ein Zeichen für Akzeptanz\, Vielfalt und Diversität in unserer Region setzen. Denn manche Menschen sind eben einfach ein bisschen „Annersch“ (- hochdeutsch „anders“ – ) als die Norm\, auch hier bei uns im Erzgebirge\, und das war schon immer so. Inspiriert vom Rainbow Flash der letzten Jahre möchten wir auch jetzt wieder einen Nachmittag voll Spiel\, Spaß und Freude mit euch verbringen und gemeinsam für queere Sichtbarkeit sorgen. Am „Annersch Tag“ möchten wir Menschen zusammenbringen\, um zu zeigen wie schön und bunt Vielfalt sein kann. 🏳️‍🌈 \nDabei könnt ihr zum Beispiel im Pop Up Jugendclub chillen\, ein Teil cooler Spiele und Aktionen werden oder euch am Infostand mit tollem Merch in allen Farben des Regenbogens eindecken. Unser Ziel ist es zu zeigen\, dass zwar nicht alle Menschen gleich sind\, aber dennoch alle eine richtig gute Zeit zusammen haben und zusammen halten können. 💕🤸 \nAlso schnappt euch eure Friends und Geschwister oder mit wem ihr eben gern Zeit verbringt und kommt vorbei! \nOrt\nStadtpark Annaberg-Buchholz \nWeitere Informationen
URL:https://www.tolerantes-sachsen.de/veranstaltung/annersch-tag-annaberg-buchholz/
LOCATION:Erzgebirgskreis
CATEGORIES:Festival | Feier | Jubiläum
END:VEVENT
BEGIN:VEVENT
DTSTART;TZID=Europe/Berlin:20250526T170000
DTEND;TZID=Europe/Berlin:20250526T200000
DTSTAMP:20260425T170427
CREATED:20250522T080430Z
LAST-MODIFIED:20250522T080430Z
UID:30282-1748278800-1748289600@www.tolerantes-sachsen.de
SUMMARY:Podiumsdiskussion: Diskriminierung und Prävention im Arbeitsumfeld | Dresden
DESCRIPTION:Wie begegnen wir gemeinsam Queerfeindlichkeit im Arbeitsumfeld? \nBarrieren\, Vorurteile und Stereotype verhindern eine offene und gerechte Arbeitswelt. Queere Personen möchten selbstbestimmt und frei ihre persönlichen Potenziale entfalten – ohne Ausgrenzung\, Rassismus oder Angst. \nWir laden zu einem Austausch über Herausforderungen\, Erfahrungen und Strategien ein. Ziel ist es\, gemeinsam Wege zu entwickeln\, wie ein solidarisches\, diskriminierungskritisches Arbeitsumfeld gestaltet werden kann – gerade in unsicheren Zeiten. Gleichzeitig freuen wir uns auf einen offenen Raum zur Vernetzung und zum Kennenlernen \nWir stehen für freie Meinungsäußerung ohne Queerfeindlichkeit\, Ableismus\, Rassismus\, Antifeminismus\, extremistisches Gedankengut oder andere benachteiligende und herabsetzende Meinungen. \nAnmeldung unter: queer-am-arbeitsplatz.sachsen@lsvd.de \nOrt\nWIR AG\, Martin-Luther-Straße 21\, 01099 Dresden \nWeitere Informationen
URL:https://www.tolerantes-sachsen.de/veranstaltung/podiumsdiskussion-diskriminierung-und-praevention-im-arbeitsumfeld-dresden/
LOCATION:Stadt Dresden
CATEGORIES:Podium | Gespräch
END:VEVENT
END:VCALENDAR