BEGIN:VCALENDAR
VERSION:2.0
PRODID:-//Netzwerk Tolerantes Sachsen - ECPv6.15.18//NONSGML v1.0//EN
CALSCALE:GREGORIAN
METHOD:PUBLISH
X-ORIGINAL-URL:https://www.tolerantes-sachsen.de
X-WR-CALDESC:Veranstaltungen für Netzwerk Tolerantes Sachsen
REFRESH-INTERVAL;VALUE=DURATION:PT1H
X-Robots-Tag:noindex
X-PUBLISHED-TTL:PT1H
BEGIN:VTIMEZONE
TZID:Europe/Berlin
BEGIN:DAYLIGHT
TZOFFSETFROM:+0100
TZOFFSETTO:+0200
TZNAME:CEST
DTSTART:20240331T010000
END:DAYLIGHT
BEGIN:STANDARD
TZOFFSETFROM:+0200
TZOFFSETTO:+0100
TZNAME:CET
DTSTART:20241027T010000
END:STANDARD
BEGIN:DAYLIGHT
TZOFFSETFROM:+0100
TZOFFSETTO:+0200
TZNAME:CEST
DTSTART:20250330T010000
END:DAYLIGHT
BEGIN:STANDARD
TZOFFSETFROM:+0200
TZOFFSETTO:+0100
TZNAME:CET
DTSTART:20251026T010000
END:STANDARD
BEGIN:DAYLIGHT
TZOFFSETFROM:+0100
TZOFFSETTO:+0200
TZNAME:CEST
DTSTART:20260329T010000
END:DAYLIGHT
BEGIN:STANDARD
TZOFFSETFROM:+0200
TZOFFSETTO:+0100
TZNAME:CET
DTSTART:20261025T010000
END:STANDARD
END:VTIMEZONE
BEGIN:VEVENT
DTSTART;TZID=Europe/Berlin:20250604T080000
DTEND;TZID=Europe/Berlin:20250604T170000
DTSTAMP:20260425T153235
CREATED:20250327T092832Z
LAST-MODIFIED:20250327T092832Z
UID:29676-1749024000-1749056400@www.tolerantes-sachsen.de
SUMMARY:Sprechstunde zum neuen Sächsischen Gleichstellungsgesetz (SächsGleiG) | digital
DESCRIPTION:Zielgruppe \nFrauen- und Gleichstellungsbeauftragte in Sachsen\, die Fragen zu ihrem Amt haben und sich dazu austauschen wollen; Gleichstellungsakteur*innen\, die mit dem neuen SächsGleiG arbeiten wollen \nInhalt \nDie Sprechstunde ist ein Angebot an alle\, die mit dem neuen Gleichstellungsgesetz arbeiten wollen. Bitte bringen Sie konkrete Fragestellungen aus Ihrer beruflichen oder kommunalpolitischen Praxis mit. Dies kann fachliche Fragen\, Fragen zu den Rechtsgrundlagen oder Fragen von Strategien und Ressourcen betreffen. Diese können in einem vertraulichen Rahmen gemeinsam besprochen und praktisch mit den Teilnehmenden in ihre Erfahrungen eingeordnet werden. \nWir behalten uns vor\, unterschiedliche Themenschwerpunkte zu setzen\, sehr gerne auf Vorschlag der Interessierten\, schreiben Sie uns gern jederzeit dazu ihre Fragen und Wünsche über das unten stehende Kontaktformular. \nDen Zugangslink zum Zoom erhalten alle per E-Mail\, die sich bis zum Vortag 15 Uhr anmelden unter info@genderkompetenz-sachsen.de \nModeration \n\nKarin Luttmann\, Bildungsreferentin des Genderkompetenzzentrums Sachsen\nSinah Hegerfeld\, Bildungsreferentin des Genderkompetenzzentrums Sachsen\nBarbara Feichtinger\, freie Referentin des Genderkompetenzzentrums Sachsen\n\n\n\n\nTermine \n\n02. April 2025\n04. Juni 2025\n01. Oktober 2025\n03. Dezember 2025\n\njeweils 15.00 – 16.30 Uhr \nDigital\nWir nutzen das Programm Zoom\, welches Sie kostenfrei nutzen können. Sie brauchen einen PC mit Kamera und ein Headset/Mikrofon. \n\nUnkostenbeitrag: kostenfrei \nWeitere Informationen
URL:https://www.tolerantes-sachsen.de/veranstaltung/sprechstunde-zum-neuen-saechsischen-gleichstellungsgesetz-saechsgleig-digital-4/
LOCATION:digital
CATEGORIES:Vortrag
END:VEVENT
BEGIN:VEVENT
DTSTART;TZID=Europe/Berlin:20250605T190000
DTEND;TZID=Europe/Berlin:20250605T210000
DTSTAMP:20260425T153235
CREATED:20250430T113829Z
LAST-MODIFIED:20250430T113846Z
UID:29944-1749150000-1749157200@www.tolerantes-sachsen.de
SUMMARY:Podium: Regenbogen oder 161? Queere und antifaschistische Politiken zusammendenken | Dresden
DESCRIPTION:Angst vor der rechten Drohkulisse\, gehört für viele queere Menschen schon seit Jahren zum Alltag. Spätestens seit der letzten Pride Saison steht jedoch fest\, dass wir uns mit der Gewalt und Agitation von Seiten rechter Akteure gegen Prides & queeren Veranstaltungen proaktiv befassen müssen. \nDie Queer Pride Dresden versteht sich auch daher als antifaschistische Gruppe – aufgrund der realen und oftmals selbst erlebten Gewalt von rechts. Aber beginnt und endet die geteilte Arbeit mit dem gemeinsamen Feind? \nUm zu beleuchten wo queere Politik und Antifaschismus sich gegenseitig empowern können\, wollen wir Menschen aus den unterschiedlichen Bewegungen auf die Bühne und ins Gespräch bringen. \nWie sehen konkrete Bedrohungen aus\, denen wir ausgesetzt sind? \nWelche Konsequenzen ziehen wir aus der Mobilisierung der rechten Szene gegen CSDs in Sachsen im vergangenen Jahr? \nWie können wir einander schützen und Solidarität zwischen den Bewegungen das ganze Jahr über leben? \nWas bedeutet es eigentlich Queerness und Antifaschismus als verbündete Kräfte und Konzepte zu denken? Wieso sollten uns unsere Identitäten immer schon gegen den Faschismus politisieren? \nUnd vielleicht am wichtigsten: Antifaschistisch und Queer-Sein ist nicht nur für die Großstädte reserviert. Wie stärken wir also progressiven Strukturen im ländlichen Raum den Rücken? \nOrt\nHole of Fame\, Königsbrücker Straße 39\, 01099 Dresden \nWeitere Informationen
URL:https://www.tolerantes-sachsen.de/veranstaltung/podium-regenbogen-oder-161-queere-und-antifaschistische-politiken-zusammendenken-dresden/
LOCATION:Stadt Dresden
CATEGORIES:Podium | Gespräch
END:VEVENT
BEGIN:VEVENT
DTSTART;TZID=Europe/Berlin:20250607T130000
DTEND;TZID=Europe/Berlin:20250607T160000
DTSTAMP:20260425T153235
CREATED:20250602T083844Z
LAST-MODIFIED:20250606T075713Z
UID:30349-1749301200-1749312000@www.tolerantes-sachsen.de
SUMMARY:CSD: Jetzt erst recht! Stolzer queerer Widerstand | Stollberg
DESCRIPTION:Motto: „Jetzt erst recht! Stolzer queerer Widerstand“ \nAm 7. Juni 2025 findet der Christopher Street Day in Stollberg bereits zum vierten Mal statt\, um queere Menschen sichtbar zu machen und ihnen im Erzgebirge eine Stimme zu verschaffen. Unter dem Motto “Jetzt erst recht! Stolzer queerer Widerstand“ versammeln wir uns um 13 Uhr auf dem Schillerplatz\, von wo aus unsere Demonstration durch Stollberg startet. 🏳‍⚧🏳‍🌈 \nNach etwa 2 Stunden erreichen wir den Pionier Park. Dort erwarten euch Infostände und natürlich gute Musik. \nWir möchten erneut zeigen\, dass Stollberg ein buntes und vielfältiges Herz hat und eine Stadt für alle ist. Gerade in einer Zeit\, in der sich queere Menschen weiterhin für ihre Rechte und Akzeptanz einsetzen müssen\, ist es wichtiger denn je\, zu demonstrieren und klarzustellen\, dass Hass und Hetze in unserer Gesellschaft keinen Platz haben. \nKommt vorbei und helft uns dabei\, ein klares\, buntes Zeichen aus Stollberg in die Welt zu senden und gebt queeren Menschen eine Stimme! Wir freuen uns auf euch! 🏳️‍⚧️🏳️‍🌈 \nStart: 13 Uhr \nWeitere Informationen
URL:https://www.tolerantes-sachsen.de/veranstaltung/csd-jetzt-erst-recht-stolzer-queerer-widerstand-stollberg/
LOCATION:Erzgebirgskreis
CATEGORIES:Aktionstag
END:VEVENT
BEGIN:VEVENT
DTSTART;TZID=Europe/Berlin:20250607T130000
DTEND;TZID=Europe/Berlin:20250607T170000
DTSTAMP:20260425T153235
CREATED:20250602T084213Z
LAST-MODIFIED:20250602T084213Z
UID:30352-1749301200-1749315600@www.tolerantes-sachsen.de
SUMMARY:CSD | Riesa
DESCRIPTION:Heute können wir es offiziell verkünden: Der fünfte CSD in Riesa findet am 07.06.2025 statt! \nAb 13 Uhr erwartet euch eine bunte Demonstration mit einer – wie von euch gewünschten – längeren Route.\nFreut euch auf gute Musik\, spannende Redebeiträge und jede Menge queere Sichtbarkeit. \nIm Anschluss lassen wir den Tag auf dem Markt der Vielfalt gemeinsam ausklingen – doch dazu in Kürze mehr. \nTragt euch den Termin in den Kalender ein und erzählt es euren Freund*innen.\nLasst uns gemeinsam die Straßen Riesas wieder ein Stück bunter machen!🏳️‍🌈 \nWir freuen uns auf euch!🫶 \nWeitere Informationen
URL:https://www.tolerantes-sachsen.de/veranstaltung/csd-riesa/
LOCATION:Landkreis Meißen
CATEGORIES:Aktionstag
END:VEVENT
BEGIN:VEVENT
DTSTART;TZID=Europe/Berlin:20250621T110000
DTEND;TZID=Europe/Berlin:20250621T130000
DTSTAMP:20260425T153235
CREATED:20250606T081826Z
LAST-MODIFIED:20250606T081826Z
UID:30454-1750503600-1750510800@www.tolerantes-sachsen.de
SUMMARY:Rundgang: Queer History oder Geschlecht\, Begehren und Sexualität im Kontext von NS-Zwangsarbeit | Leipzig
DESCRIPTION:Im Rundgang widmen wir uns Menschen und Themen\, die in der Erinnerung an den Nationalsozialismus und die NS-Zwangsarbeit bislang wenig Gehör fanden. Unter einem ursprünglichen Verständnis des Wortes „queer“ als „seltsam“\, „abweichend“\, „sonderbar“ oder „pervers“ wird der Blick nicht auf eine spezifische Verfolgtengruppe gerichtet – das Ziel ist vielmehr aufzeigen\, wie vielgestaltig und teilweise widersprüchlich Menschen im Nationalsozialismus verfolgt und zur Arbeit gezwungen wurden. \nNach einer kurzen Einführung zur NS-Zwangsarbeit wird ein vielfältiges Themenspektrum rund um Geschlecht\, Begehren und Sexualität betrachtet. Insbesondere queere Sexualität in Konzentrationslagern\, Zwangssterilisation\, Sex-Zwangsarbeit\, Schwangerschaft und Schwangerschaftsabbruch\, Geburt\, Beziehungen zwischen Zwangsarbeiter:innen sowie Beziehungen zwischen Zwangsarbeiter:innen und Deutschen werden thematisiert. Dabei wird auch die Frage angerissen\, warum diese Themen in der Aufarbeitung und Erinnerung lange kaum Beachtung erfuhren. \nBeim Rundgang werden wir verschiedene hierfür relevante Orte besuchen\, darunter die ehemalige Städtische Arbeitsanstalt in der Riebeckstraße 63\, die ehemalige Universitätskinderklinik oder den Gedenkort für die Opfer der NS-”Euthanasie” im Friedenspark. \nTreffpunkt: auf dem Gelände der ehemaligen Städtischen Arbeitsanstalt\, Riebeckstraße 63\nTram 12\, 15\, Bus 70\, 74 (Technisches Rathaus)\, Tram 4 (Riebeck-/ Stötteritzer Straße)\nDauer: ca. 2 Stunden bis Lene-Voigt-Park \nDie Teilnahme ist kostenfrei und ohne Anmeldung möglich. \nWeitere Informationen
URL:https://www.tolerantes-sachsen.de/veranstaltung/rundgang-queer-history-oder-geschlecht-begehren-und-sexualitaet-im-kontext-von-ns-zwangsarbeit-leipzig/
LOCATION:Stadt Leipzig
CATEGORIES:Gedenken
END:VEVENT
BEGIN:VEVENT
DTSTART;TZID=Europe/Berlin:20250621T140000
DTEND;TZID=Europe/Berlin:20250621T170000
DTSTAMP:20260425T153235
CREATED:20250602T084430Z
LAST-MODIFIED:20250602T084430Z
UID:30355-1750514400-1750525200@www.tolerantes-sachsen.de
SUMMARY:CSD | Borna
DESCRIPTION:Am 21.06. wird der erste CSD in Borna unter dem Motto: Make love – für Vielfalt und Toleranz im Landkreis Leipzig! stattfinden! Lasst und gemeinsam ein Zeichen für die Liebe setzen und kommt vorbei! \n14 Uhr | Markt Borna \nWeitere Informationen
URL:https://www.tolerantes-sachsen.de/veranstaltung/csd-borna/
LOCATION:Landkreis Leipzig
CATEGORIES:Aktionstag
END:VEVENT
BEGIN:VEVENT
DTSTART;TZID=Europe/Berlin:20250624T170000
DTEND;TZID=Europe/Berlin:20250624T200000
DTSTAMP:20260425T153235
CREATED:20250619T080058Z
LAST-MODIFIED:20250619T080128Z
UID:30557-1750784400-1750795200@www.tolerantes-sachsen.de
SUMMARY:Podium: "Vielfalt leben im Arbeitsumfeld" | Leipzig
DESCRIPTION:Vorurteile\, Barrieren und Ausgrenzung stehen einer queerfreundlichen Arbeitswelt noch immer im Weg. Wie stellen Sie sicher\, dass sich Ihre Arbeitnehmenden im Unternehmen wohlfühlen? In Kooperation mit dem Projekt „Queer am Arbeitsplatz“ laden wir zu einer Podiumsdiskussion und zum Netzwerken ein! \n\nZum Podiumsgespräch rund um die Themen Diskriminierung am Arbeitsplatz und deren Prävention wurden Referierende eingeladen\, die mit ihren Beiträgen aus der Praxis zur inhaltlichen Vertiefung des Themas beitragen. \nAuch Ihre Perspektive ist gefragt: Im Anschluss am Podiumsgespräch laden wir zum offenen Austausch ein\, um gemeinsam Ideen und Strategien für eine diskriminierungskritische und solidarische Arbeitswelt zu entwickeln. \nWir freuen uns auf Ihre Teilnahme und den gemeinsamen Dialog! \nDie Veranstaltung ist offen für alle Unternehmerinnen und Unternehmer\, die sich für eine vielfältige\, gerechte und queerfreundliche Arbeitswelt interessieren. \nWenden Sie sich mit inhaltlichen Rückfragen zur Veranstaltung gern direkt an unseren Kooperationspartner: \nLSVD⁺ Landesverband Sachsen e.V.\nProjekt „Queer am Arbeitsplatz“\npresse.sachsen@lsvd.de \nOrt\nIHK zu Leipzig\, Goerdelerring 5\, 04109 Leipzig \nAnmeldung (notwendig)\nWeitere Informationen
URL:https://www.tolerantes-sachsen.de/veranstaltung/podium-vielfalt-leben-im-arbeitsumfeld-leipzig/
LOCATION:Stadt Leipzig
CATEGORIES:Podium | Gespräch
END:VEVENT
BEGIN:VEVENT
DTSTART;TZID=Europe/Berlin:20250625T110000
DTEND;TZID=Europe/Berlin:20250625T123000
DTSTAMP:20260425T153235
CREATED:20250612T083915Z
LAST-MODIFIED:20250612T083915Z
UID:30502-1750849200-1750854600@www.tolerantes-sachsen.de
SUMMARY:Sicherheits-Sprechstunde: Rechtsextreme Angriffe und Bedrohung auf die Zivilgesellschaft | digital
DESCRIPTION:Im letzten Jahr wurden viele CSDs bundesweit durch Rechtsextreme gestört – durch Beleidigungen\, Drohungen\, Gewalt oder queerfeindliche Demonstrationen. Wir sehen\, dass sich diese Bedrohungslage 2025 fortsetzt. \nAus diesem Anlass starten Campact und die Amadeu Antonio Stiftung den Regenbogenschutzfonds. Bewerben können sich CSD-Organisator*innen insbesondere aus kleinen und mittelgroßen Städten\, die Störungen von rechten Gruppen erwarten. \nWir fördern in der Regel bis 2500 EUR. Hier findet Ihr die Ausschreibung mit allen Infos:  https://www.amadeu-antonio-stiftung.de/regenbogenschutzfonds-138645 \nAußerdem haben wir eine monatliche digitale Sicherheitssprechstunde gestartet. Hier die Infos zu den kommenden 2 Terminen: \n 1. Sicherheits-Sprechstunde: 25.06.205\, 11-12.30 Uhr\, digital\nRechtsextreme Angriffe und Bedrohung auf die Zivilgesellschaft\nMit einem Input von Tina Leber (Beware) und einer anschließenden Bedarfsabfrage.\nAnmeldungen unter sicherheitssprechstunde@komprex.de. Bitte Namen\, Organisation\, Bedarf und Termin der Sprechstunde angeben. \n2. Sicherheits-Sprechstunde: 16.07.205\, 16:30 – 18 Uhr\, digital\nAngriffe auf und Sicherheitsstrategien für CSDs\nAustausch zu Erfahrungen und Best Practices\nAnmeldungen unter sicherheitssprechstunde@komprex.de. Bitte Namen\, Organisation\, Bedarf und Termin der Sprechstunde angeben. \nWeitere Informationen
URL:https://www.tolerantes-sachsen.de/veranstaltung/sicherheits-sprechstunde-rechtsextreme-angriffe-und-bedrohung-auf-die-zivilgesellschaft-digital/
LOCATION:digital
CATEGORIES:Vernetzung,Vortrag
END:VEVENT
BEGIN:VEVENT
DTSTART;TZID=Europe/Berlin:20250628T113000
DTEND;TZID=Europe/Berlin:20250628T170000
DTSTAMP:20260425T153235
CREATED:20250602T084705Z
LAST-MODIFIED:20250602T084705Z
UID:30358-1751110200-1751130000@www.tolerantes-sachsen.de
SUMMARY:CSD: Wir bleiben hier! | Leipzig
DESCRIPTION:Der Ausruf „Wir bleiben hier!“ ist mit der Geschichte Leipzigs und des gesamten Osten Deutschlands eng verbunden. Im Herbst 1989 wurde er erstmals im Rahmen der Montagsdemonstrationen von tausenden Menschen gerufen\, die für Freiheit\, Demokratie und Menschenrechte auf die Straße gingen. Sie wehrten sich mutig\, entschlossen und friedlich gegen die Diktatur der SED. Mit ihrem Ausruf wollten sie zum Ausdruck bringen\, dass sie die ostdeutsche Gesellschaft nicht durch ein Auswandern in „den Westen“ aufgeben wollen. Sie wollten hierbleiben. Hier etwas verändern und zum Besseren bewirken. \nEben dieser Gedanke ist es\, der uns dazu bewogen hat\, den CSD Leipzig 2025 unter das Motto „Wir bleiben hier!“ zu stellen. Auch wir möchten etwas zum Besseren bewirken — hier\, in unserer Heimat. Auch wir gehen für Freiheit\, Demokratie und Menschenrechte auf die Straße. Gegen Ausgrenzung\, Hass\, Hetze und Diskriminierung. Wir fordern eine Zukunft\, in der es egal ist\, wen wir lieben. Eine Zukunft\, in der es egal ist\, welches Geschlecht man hat oder ob man sich gar keiner Definition von Geschlecht\, Sexualität oder Romantik zuordnen möchte. Eine Zukunft\, für die zu kämpfen zunehmend gefährlicher wird. Eine Zukunft für die wir — gerade im Osten Deutschlands — immer mehr ein Risiko eingehen\, wenn wir für sie öffentlich eintreten. \nWenn über 30 Prozent einer Gesellschaft Parteien wählen\, die offen gegen queere Menschen hetzen und uns zurück in die Unsichtbarkeit verbannen wollen\, muss dies einem Angst bereiten. Wir fühlen diese Angst auch. Viele queere Menschen haben bereits mindestens einmal mit dem Gedanken gespielt das „Hier“ zu verlassen. In eine andere Stadt\, in ein anderes Bundesland oder gar ganz in einen anderen Staat. \nDoch so nachvollziehbar wir diesen Gedanken auf den ersten Blick finden\, wir dürfen uns von dieser Angst und dem Gefühl der Ohnmacht nicht lähmen oder vertreiben lassen. Wenn wir jetzt gehen\, überlassen wir den Queerfeind:innen\, Antidemokrat:innen und Rechtsextremen alles\, wofür wir so lange und hart gekämpft haben. Dann hätten sie gewonnen. Dies können wir nicht zulassen! Wir müssen standhaft bleiben und Verbündete suchen. Es sind besorgniserregende Zeiten. Doch wir dürfen trotzdem nicht verstummen. Wir müssen umso lauter sein\, wir müssen sichtbarer sein. Darum schließt euch uns an! Kommt am 28. Juni 2025 zur Demo des CSD Leipzig. Lasst uns am 56. Jahrestag von Stonewall gemeinsam\, loud und proud mit Plakat und Prideflag gewappnet\, für queere Rechte eintreten. \nAn alle die unsere Existenz ablehnen: Wir lassen uns nicht wieder in die Unsichtbarkeit verbannen. Ihr werdet uns nicht los! \nWir bleiben hier! \nDemonstration & Straßenfest\n28. Juni 2025 – 11:30 Uhr – Augustusplatz \n\n\n\n\nAlle Infos zum CSD Leipzig 2025
URL:https://www.tolerantes-sachsen.de/veranstaltung/csd-wir-bleiben-hier-leipzig/
LOCATION:Stadt Leipzig
CATEGORIES:Aktionstag
END:VEVENT
END:VCALENDAR