BEGIN:VCALENDAR
VERSION:2.0
PRODID:-//Netzwerk Tolerantes Sachsen - ECPv6.15.18//NONSGML v1.0//EN
CALSCALE:GREGORIAN
METHOD:PUBLISH
X-ORIGINAL-URL:https://www.tolerantes-sachsen.de
X-WR-CALDESC:Veranstaltungen für Netzwerk Tolerantes Sachsen
REFRESH-INTERVAL;VALUE=DURATION:PT1H
X-Robots-Tag:noindex
X-PUBLISHED-TTL:PT1H
BEGIN:VTIMEZONE
TZID:Europe/Berlin
BEGIN:DAYLIGHT
TZOFFSETFROM:+0100
TZOFFSETTO:+0200
TZNAME:CEST
DTSTART:20240331T010000
END:DAYLIGHT
BEGIN:STANDARD
TZOFFSETFROM:+0200
TZOFFSETTO:+0100
TZNAME:CET
DTSTART:20241027T010000
END:STANDARD
BEGIN:DAYLIGHT
TZOFFSETFROM:+0100
TZOFFSETTO:+0200
TZNAME:CEST
DTSTART:20250330T010000
END:DAYLIGHT
BEGIN:STANDARD
TZOFFSETFROM:+0200
TZOFFSETTO:+0100
TZNAME:CET
DTSTART:20251026T010000
END:STANDARD
BEGIN:DAYLIGHT
TZOFFSETFROM:+0100
TZOFFSETTO:+0200
TZNAME:CEST
DTSTART:20260329T010000
END:DAYLIGHT
BEGIN:STANDARD
TZOFFSETFROM:+0200
TZOFFSETTO:+0100
TZNAME:CET
DTSTART:20261025T010000
END:STANDARD
END:VTIMEZONE
BEGIN:VEVENT
DTSTART;TZID=Europe/Berlin:20251108T170000
DTEND;TZID=Europe/Berlin:20251108T190000
DTSTAMP:20260421T145454
CREATED:20251028T083426Z
LAST-MODIFIED:20251028T083426Z
UID:32148-1762621200-1762628400@www.tolerantes-sachsen.de
SUMMARY:"What happened to Rosa?": Trans* history in Germany | Dresden
DESCRIPTION:«Что случилось с Розой?»: история транс* людей в Германии \n🗓 8 ноября\, суббота 17:00\n📍 Kosmotique e.V.\, Martin-Luther-Straße 13\, 01099 Dresden\n🗣 Язык: английский\n➡️ Вход свободный \nМы приглашаем тебя отправиться с нами в путешествие в Берлин 1934 года\, время\, когда у власти были нацисты. У тебя есть хорошая подруга по имени Роза\, транс-женщина\, которая обожает свою кошку. Но однажды Роза исчезает. Куда она пропала? Что с ней случилось? После совместного прохождения игры мы узнаем больше об историческом контексте того времени и поговорим о культуре памяти гендерно нонконформных людей во времена нацизма. \nЭта игра — часть проекта «Queer Identities in Different Times» (Квир-идентичности в различные времена). Она создана совместно Educat Collective\, Unicode Collective\, транс* историк:ами Кай* Бруст и участни:цами интерактивного воркшопа. \nИллюстрации нарисованы Фине\, колле:жанкой из @educatkollektiv \nПри финансовой поддержке House of Resources Dresden+ \n❤️‍🩹 „What happened to Rosa?“: Trans* history in Germany \n🗓 8 November\, Saturday\, 17:00\n📍 Kosmotique e.V.\, Martin-Luther-Straße 13\, 01099 Dresden\n🗣 Language: Englisch\n➡️ Free of charge \nWe invite you to go on a journey in 1934 in Berlin under Nazi rule. You have a good friend named Rosa\, a trans woman who loves her cat. But one day she disappears. Where did she go? What happened to Rosa? After playing through the game together\, we will learn more about the historic background and engage in a discussion around the topic of remembrance of gender nonconforming people during NS times. \nThis point and click game is part of Queer Identities in Different Times project. It was created collaboratively by Educat Collective\, Unicode Collective\, trans historian Kai* Brust and participants of the participatory workshop. \nThe illustrations are created by Fine from #transrights\nFinancially supported by the House of Resources Dresden+ \nWeitere Informationen
URL:https://www.tolerantes-sachsen.de/veranstaltung/what-happened-to-rosa-trans-history-in-germany-dresden/
LOCATION:Stadt Dresden
CATEGORIES:Podium | Gespräch
END:VEVENT
BEGIN:VEVENT
DTSTART;TZID=Europe/Berlin:20251115T170000
DTEND;TZID=Europe/Berlin:20251115T190000
DTSTAMP:20260421T145454
CREATED:20251028T083640Z
LAST-MODIFIED:20251028T083640Z
UID:32151-1763226000-1763233200@www.tolerantes-sachsen.de
SUMMARY:Trans* in der DDR. Ein Einblick durch Oral History  | Dresden
DESCRIPTION:Транс* в ГДР. Взгляд через призму «устной истории» \n🗓 15 ноября\, 17:00\n📍 Kosmotique e.V.\, Martin-Luther-Straße 13\, Dresden\n🗣 Язык: немецкий\n➡️ Вход свободный \nКак могли выглядеть реальность и жизненный путь транс* людей в ГДР? Как транс* люди объединялись и самоорганизовывались? \nЛекция основана на 3 интервью людей\, рассказывающие о взрослении в ГДР и жизни как транс* персон. Впечатления дополняются информацией о медицинских и правовых нормах\, установленных государством\, а также о квир-сетях и самоорганизации. Таким образом\, лекция дает представление о малодокументированных историях транс* людей в ГДР. \nБоб Зибер изучал культурологию в Лейпцигском университете и интересуется гендерными/квир-исследованиями и историей культуры. Доклад основан на бакалаврской работе «Транс* в ГДР в 1980-х годах и в период перемен». \nПри финансовой поддержке House of Resources Dresden+ \nTrans* in der DDR. Ein Einblick durch Oral History \n🗓 15. November\, 17:00\n📍 Kosmotique e.V.\, Martin-Luther-Straße 13\, Dresden\n🗣 Deutsch\n➡️ Die Teilnahme ist kostenfrei \nWie können Lebensrealitäten und Lebenswege von trans* Personen in der DDR ausgesehen haben? Wie haben sich trans* Personen vernetzt und selbstorganisiert? \nIm Mittelpunkt des Vortrags stehen drei Oral-History-Interviews mit Zeitzeug*innen\, die einen persönlichen Einblick in ihr Aufwachsen in der DDR und ihr Leben als trans* Personen geben. Ergänzt werden die Eindrücke durch Informationen zu den medizinischen und rechtlichen Regelungen von staatlicher Seite\, sowie queeren Vernetzungen und Selbstorganisierungen. Damit gibt der Vortrag einen breiten Einblick in die kaum dokumentierten Geschichten von trans* Personen in der DDR. \nBob Sieber hat Kulturwissenschaften an der Universität Leipzig studiert und interessiert sich für Gender/Queer Studies und Kulturgeschichte. Der Vortrag basiert auf der Bachelorarbeit „Trans* in der DDR in den 1980er Jahren und der Wendezeit“. \nGefördert durch das House of Resources Dresden+ \nWeitere Informationen
URL:https://www.tolerantes-sachsen.de/veranstaltung/trans-in-der-ddr-ein-einblick-durch-oral-history-dresden/
LOCATION:Stadt Dresden
CATEGORIES:Vortrag
END:VEVENT
BEGIN:VEVENT
DTSTART;VALUE=DATE:20251127
DTEND;VALUE=DATE:20251129
DTSTAMP:20260421T145454
CREATED:20251020T100255Z
LAST-MODIFIED:20251020T100255Z
UID:32051-1764201600-1764374399@www.tolerantes-sachsen.de
SUMMARY:Jugendgeschichtstage in Sachsen | Dresden
DESCRIPTION:Junge Perspektiven auf regionale Geschichte \nDas Durchstöbern von Archiven\, das Erkunden von Stadtvierteln\, das Lesen alter Briefe oder das Gespräch mit Zeitzeug*innen – so erschließen Jugendliche die Geschichten ihrer Region und bringen sie neu ans Licht. Junge Menschen aus ganz Sachsen haben in den vergangenen Monaten Schicksale und Ereignisse recherchiert\, dokumentiert und kreativ aufbereitet. Ihre Ergebnisse präsentieren sie nun der Öffentlichkeit: Am 27. und 28. November 2025 finden im Sächsischen Landtag in Dresden die 21. Jugendgeschichtstage statt. \nSpurensuche quer durch Sachsen \nSeit Mai sind 17 Jugendgruppen in ganz Sachsen auf Spurensuche gegangen. Schritt für Schritt haben sie verborgene Geschichten ans Licht geholt\, Fragen gestellt und Antworten gefunden. Entstanden sind Ausstellungen\, Filme\, Broschüren und Modelle\, die Brücken von längst vergangenen Ereignissen in unsere Gegenwart schlagen – und zugleich den Blick auf eine gemeinsame Zukunft unserer Gesellschaft öffnen. \nProgramm in Dresden \nDer Auftakt am Donnerstag\, 27. November\, steht im Zeichen der Bildung: In Workshops und Exkursionen setzen sich die Jugendlichen mit gesellschaftlichen und historischen Themen auseinander – von Punk in der DDR über Schule im Wandel bis hin zu Queerness in der Kunst. Auch das Erinnerungsprojekt „In Echt? – Virtuelle Begegnung mit NS-Zeitzeug*innen“ kann dabei erlebt werden. \nAm Freitag\, 28. November\, begrüßen Landtagspräsident Alexander Dierks\, Susann Rüthrich\, Kinder- und Jugendbeauftragte der Sächsischen Staatsregierung\, sowie die Sächsische Jugendstiftung die Teilnehmenden im Plenarsaal. Ab 11 Uhr öffnen sich die Türen für Besucher*innen: Beim Projektmarkt präsentieren die Jugendlichen ihre Ergebnisse. Neben Ausstellungen und Mitmachaktionen erwarten das Publikum ein Jugendgeschichtstagskino sowie ein gemeinsames Quiz. Um 16 Uhr endet der Tag mit der Preisverleihung: Eine Jury zeichnet die besten Projekte aus – und auch das Publikum kürt sein eindrucksvollstes Projekt. \nVirtuelle Begegnung mit Zeitzeug*innen \nEin besonderes Highlight ist in diesem Jahr die mobile Ausstellung „In Echt? – Virtuelle Begegnung mit NS-Zeitzeug*innen“ des Brandenburg Museums für Zukunft\, Gegenwart und Geschichte auf dem Landtagsvorplatz. Besucher*innen können hier per VR-Brille fünf jüdischen Überlebenden begegnen – eine eindrückliche Erfahrung\, die Geschichte auf neue Weise erfahrbar macht. \nEinladung an die Öffentlichkeit \nAlle Interessierten sind herzlich eingeladen\, am Freitag\, 28. November 2025\, von 11 bis 16 Uhr\, die Projekte der Jugendgruppen im Sächsischen Landtag zu entdecken\, mit den Jugendlichen ins Gespräch zu kommen und sich von ihren Perspektiven auf die Geschichte Sachsens inspirieren zu lassen. \nHintergrund \nDie Jugendgeschichtstage sind der jährliche Höhepunkt des Programms Spurensuche der Sächsischen Jugendstiftung. In Kooperation mit dem Sächsischen Landtag und unter der Schirmherrschaft des Landtagspräsidenten wird regionale Geschichtsarbeit von Jugendlichen unterstützt und sichtbar gemacht. Gefördert werden die Jugendgeschichtstage durch das Sächsische Staatsministerium für Gesundheit\, Soziales und Gesellschaftlichen Zusammenhalt. \nWeitere Informationen
URL:https://www.tolerantes-sachsen.de/veranstaltung/jugendgeschichtstage-in-sachsen-dresden/
LOCATION:Stadt Dresden
CATEGORIES:Seminar | Workshop
END:VEVENT
END:VCALENDAR