BEGIN:VCALENDAR
VERSION:2.0
PRODID:-//Netzwerk Tolerantes Sachsen - ECPv6.15.18//NONSGML v1.0//EN
CALSCALE:GREGORIAN
METHOD:PUBLISH
X-WR-CALNAME:Netzwerk Tolerantes Sachsen
X-ORIGINAL-URL:https://www.tolerantes-sachsen.de
X-WR-CALDESC:Veranstaltungen für Netzwerk Tolerantes Sachsen
REFRESH-INTERVAL;VALUE=DURATION:PT1H
X-Robots-Tag:noindex
X-PUBLISHED-TTL:PT1H
BEGIN:VTIMEZONE
TZID:Europe/Berlin
BEGIN:DAYLIGHT
TZOFFSETFROM:+0100
TZOFFSETTO:+0200
TZNAME:CEST
DTSTART:20240331T010000
END:DAYLIGHT
BEGIN:STANDARD
TZOFFSETFROM:+0200
TZOFFSETTO:+0100
TZNAME:CET
DTSTART:20241027T010000
END:STANDARD
BEGIN:DAYLIGHT
TZOFFSETFROM:+0100
TZOFFSETTO:+0200
TZNAME:CEST
DTSTART:20250330T010000
END:DAYLIGHT
BEGIN:STANDARD
TZOFFSETFROM:+0200
TZOFFSETTO:+0100
TZNAME:CET
DTSTART:20251026T010000
END:STANDARD
BEGIN:DAYLIGHT
TZOFFSETFROM:+0100
TZOFFSETTO:+0200
TZNAME:CEST
DTSTART:20260329T010000
END:DAYLIGHT
BEGIN:STANDARD
TZOFFSETFROM:+0200
TZOFFSETTO:+0100
TZNAME:CET
DTSTART:20261025T010000
END:STANDARD
END:VTIMEZONE
BEGIN:VEVENT
DTSTART;TZID=Europe/Berlin:20251204T100000
DTEND;TZID=Europe/Berlin:20251204T120000
DTSTAMP:20260421T160847
CREATED:20251008T095250Z
LAST-MODIFIED:20251008T095325Z
UID:31840-1764842400-1764849600@www.tolerantes-sachsen.de
SUMMARY:Queerfeindlichkeit im Netz. Eine Onlineveranstaltung für pädagogische Fachkräfte | digital
DESCRIPTION:Anmeldefrist: 26.11.2025 | \nQueere Menschen erleben im Internet häufig Diskriminierung\, Hass und Ausgrenzung. Das Spektrum reicht von subtilen Kommentaren bis hin zu Gewaltandrohungen und offener Hetze. Besonders Kinder und Jugendliche sind im digitalen Raum einem hohen Risiko ausgesetzt und oft ohne ausreichende Schutzmechanismen oder Unterstützung. \nInsbesondere trans* und mehrfachdiskriminierte Personen wie geflüchtete oder migrierte Menschen sind überproportional häufig Zielscheibe von Hass im Netz. Fast zwei queerfeindliche Angriffe pro Woche wurden allein 2022 bei HateAid dokumentiert – mit hoher Dunkelziffer. Außerdem gaben in einer Umfrage in Berlin 62 % der befragten trans* Personen an\, bereits Angriffe im digitalen Raum erlebt zu haben. Die Gewalt reicht von Hatespeech\, Doxxing (absichtliche Veröffentlichung persönlicher Informationen ohne Zustimmung) und sexualisierter Gewalt bis hin zu Drohungen analoger Gewalt\, häufig sogar Morddrohungen. Dabei sind die Grenzen zwischen digitaler und analoger Gewalt fließend: Digitale Hetze kann reale Angriffe befeuern. \nIn dieser Online-Veranstaltung nehmen wir queerfeindliche Dynamiken im Netz unter die Lupe. Gemeinsam schauen wir uns an\, wie und auf welchen Plattformen sich Queerfeindlichkeit online zeigt und welche Formen von Aktivismus ihr entgegengesetzt werden können. Die Veranstaltung richtet sich an alle Interessierten mit oder ohne Vorkenntnisse. \n👉 Die Veranstaltung findet im Rahmen der neuen Lernplattform „Queere Bildung in Sachsen“ statt\, die Wissen\, Austausch und Materialien rund um sexuelle und geschlechtliche Vielfalt bündelt. \nReferentin: Romina  \nRomina ist Sozial- und Medienpädagogin und arbeitet in Frankfurt in der Schulsozialarbeit. Als freie Referentin unterstützt sie außerdem pädagogische Fachkräfte bei Fragen zu medienpädagogischen Phänomenen und gibt Tipps zur Bewältigung digitaler Herausforderungen wie Cybermobbing\, Sexting und Hatespeech. \nAnmeldung: Bitte meldet euch 👉hier bis zum 26. November an. \nTeilnahmegebühr: 5€ oder empfohlener Solibeitrag: 15€ \nGerede e.V. bei der Volksbank Dresden-Bautzen eG\nIBAN: DE69 8509 0000 2618 9110 15\nBIC: GENODEF 1DRS \n🗓 Datum: 4. Dezember 2025\n🕒 Uhrzeit: 14-16 Uhr\n📍 Ort: Online via Zoom (der Link wird nach Anmeldung verschickt) \nDie Veranstaltung findet in deutscher Sprache statt. Es gibt ein Awareness-Konzept. \nAntidiskriminierungsregel: \nDen Veranstaltenden ist ein respektvolles und diskriminierungsfreies Miteinander sehr wichtig. Störungen oder Beleidigungen führen zum Ausschluss aus der Veranstaltung. Die Veranstaltenden behalten sich vor\, von ihrem Hausrecht Gebrauch zu machen und Personen\, die rechtsextremen Parteien oder Organisationen (einschließlich der AfD) angehören\, der rechtsextremen Szene zuzuordnen sind oder bereits in der Vergangenheit durch rassistische\, nationalistische\, antisemitische\, sexistische\, queerfeindliche\, transfeindliche (TERFs not welcome!\, Vgl. zu TERFs: „Was sind TERFs?“) oder sonstige menschenverachtende Äußerungen in Erscheinung getreten sind\, den Zutritt zur Veranstaltung zu verwehren oder von dieser auszuschließen. \nWeitere Informationen
URL:https://www.tolerantes-sachsen.de/veranstaltung/queerfeindlichkeit-im-netz-eine-onlineveranstaltung-fuer-paedagogische-fachkraefte-digital/
LOCATION:digital
CATEGORIES:Seminar | Workshop
END:VEVENT
BEGIN:VEVENT
DTSTART;TZID=Europe/Berlin:20251212T110000
DTEND;TZID=Europe/Berlin:20251212T170000
DTSTAMP:20260421T160847
CREATED:20251203T100115Z
LAST-MODIFIED:20251203T100115Z
UID:32409-1765537200-1765558800@www.tolerantes-sachsen.de
SUMMARY:Umgang mit Antifeminismus und Queerfeindlichkeit in Gruppensettings | Dresden
DESCRIPTION:Du bist pädagogisch tätig und unsicher\, wie du in Jugendgruppen\, Schulklassen oder auch in Bildungsformaten auf queerfeindliche Äußerungen reagieren sollst? Oder findest du dich selbst manchmal in Kontexten wieder (z.B. in Kontakt mit Fachkräften aller Art)\, in denen du nicht einfach gehen kannst und Queerfeindlichkeit aushalten musst? Und was tun in Situationen\, wo andere zu problematischen Äußerungen schweigen und du dich machtlos fühlst? \nIn unserem Workshop möchten wir uns speziell mit antifeministischen Positionen oder queerfeindlichen Aussagen in Gruppenkontexten auseinandersetzen. Wie können wir diesen begegnen und uns unterstützen? Der Fokus wird auf dem Erfahrungsaustausch untereinander und dem Ausprobieren verschiedener Gegenstrategien liegen. \nDie Referentin: Wiebke Eltze ist Diplom-Politologin mit dem Schwerpunkt politische Erwachsenenbildung\, freie Referentin im Bereich Argumentations- und Haltungstrainings im Umgang mit rechten\, rassistischen und antifeministischen Positionen\, Rassismus- und Rechtsextremismusprävention\, Demokratieförderung\, Moderatorin und Beraterin und von 2021-2025 Bildungsreferentin der Amadeu Antonio Stiftung im Bereich Antifeminismus. \nEine Veranstaltung des Gerede e.V. und der Fachstelle der LAG Queeres Netzwerk Sachsen e.V. \nDer Workshop ist kostenfrei. Um Anmeldung wird gebeten unter info@queeres-netzwerk-sachsen.de. \nWeitere Informationen
URL:https://www.tolerantes-sachsen.de/veranstaltung/umgang-mit-antifeminismus-und-queerfeindlichkeit-in-gruppensettings-dresden/
LOCATION:Stadt Dresden
CATEGORIES:Seminar | Workshop
END:VEVENT
END:VCALENDAR