BEGIN:VCALENDAR
VERSION:2.0
PRODID:-//Netzwerk Tolerantes Sachsen - ECPv6.15.18//NONSGML v1.0//EN
CALSCALE:GREGORIAN
METHOD:PUBLISH
X-WR-CALNAME:Netzwerk Tolerantes Sachsen
X-ORIGINAL-URL:https://www.tolerantes-sachsen.de
X-WR-CALDESC:Veranstaltungen für Netzwerk Tolerantes Sachsen
REFRESH-INTERVAL;VALUE=DURATION:PT1H
X-Robots-Tag:noindex
X-PUBLISHED-TTL:PT1H
BEGIN:VTIMEZONE
TZID:Europe/Berlin
BEGIN:DAYLIGHT
TZOFFSETFROM:+0100
TZOFFSETTO:+0200
TZNAME:CEST
DTSTART:20250330T010000
END:DAYLIGHT
BEGIN:STANDARD
TZOFFSETFROM:+0200
TZOFFSETTO:+0100
TZNAME:CET
DTSTART:20251026T010000
END:STANDARD
BEGIN:DAYLIGHT
TZOFFSETFROM:+0100
TZOFFSETTO:+0200
TZNAME:CEST
DTSTART:20260329T010000
END:DAYLIGHT
BEGIN:STANDARD
TZOFFSETFROM:+0200
TZOFFSETTO:+0100
TZNAME:CET
DTSTART:20261025T010000
END:STANDARD
BEGIN:DAYLIGHT
TZOFFSETFROM:+0100
TZOFFSETTO:+0200
TZNAME:CEST
DTSTART:20270328T010000
END:DAYLIGHT
BEGIN:STANDARD
TZOFFSETFROM:+0200
TZOFFSETTO:+0100
TZNAME:CET
DTSTART:20271031T010000
END:STANDARD
END:VTIMEZONE
BEGIN:VEVENT
DTSTART;TZID=Europe/Berlin:20260603T090000
DTEND;TZID=Europe/Berlin:20260603T163000
DTSTAMP:20260424T112215
CREATED:20260116T152821Z
LAST-MODIFIED:20260116T152821Z
UID:32868-1780477200-1780504200@www.tolerantes-sachsen.de
SUMMARY:Seminar: „Rechts geklickt – Umgang mit Neonazismus in Online-Lebenswelten“ | Bischofswerda
DESCRIPTION:Digitale Räume sind für junge Menschen zentrale Orte der Information\, Kommunikation und Vernetzung. Auch die Jugendarbeit nutzt sie zunehmend\, um ihre Zielgruppen zu erreichen und Teilhabe zu fördern. Gleichzeitig greifen rechtsextreme Akteure soziale Medien strategisch auf\, um demokratie- und menschenfeindliche Botschaften zu verbreiten und Einfluss auf Jugendliche zu nehmen. \nDas Seminar richtet den Blick auf das medien- und demokratiepädagogische Wirken von Fachkräften in digitalen wie analogen Räumen. Vermittelt werden Grundlagen zu jugendlichen Lebenswelten\, dem Einfluss von Algorithmen und Peer-Groups sowie den Kommunikationsstrategien der extremen Rechten. Gemeinsam werden Radikalisierungsphänomene analysiert und anhand eigener Praxisbeispiele Handlungsoptionen diskutiert. \nIm Mittelpunkt steht die Frage\, wie junge Menschen durch Jugendarbeit in ihrem digitalen Aufwachsen begleitet und in ihrer Resilienz gegenüber extremistischen Ansprachen gestärkt werden können. Unter fachlicher Anleitung erarbeiten die Teilnehmenden\, welche medienpädagogischen Interventionen geeignet sind\, um lebensweltorientierte Räume für Gespräche über Demokratie\, Antidiskriminierung\, Politik und gesellschaftliche Teilhabe zu schaffen. \nReferent*innen\nJulian Kasten & Team pro:dis \nMethoden\nImpuls\, Gruppenarbeit\, Diskussion & Praxis- und Methodenreflexion \nDatum\n03. Juni 2026 \nBeginn: 09:00 Uhr\nEnde: 16:30 Uhr \nOrt\nNetzwerk für Kinder- und Jugendarbeit e. V.\nLutherstraße 13\n01877 Bischofswerda\nInternet: www.kijunetzwerk.de \nKosten\nAGJF-Mitglieder: 70\,00 EUR\nNichtmitglieder: 90\,00 EUR\n(inkl. Verpflegung) \n\nAnmeldung\n\n\nWeitere Informationen
URL:https://www.tolerantes-sachsen.de/veranstaltung/seminar-rechts-geklickt-umgang-mit-neonazismus-in-online-lebenswelten-bischofswerda/
LOCATION:Landkreis Bautzen
CATEGORIES:Seminar | Workshop
END:VEVENT
BEGIN:VEVENT
DTSTART;TZID=Europe/Berlin:20260603T090000
DTEND;TZID=Europe/Berlin:20260603T163000
DTSTAMP:20260424T112215
CREATED:20260306T143112Z
LAST-MODIFIED:20260306T143112Z
UID:33459-1780477200-1780504200@www.tolerantes-sachsen.de
SUMMARY:„Rechts geklickt – Umgang mit Neonazismus in Online-Lebenswelten“ | Bischofswerda
DESCRIPTION:Digitale Räume sind für junge Menschen zentrale Orte der Information\, Kommunikation und Vernetzung. Auch die Jugendarbeit nutzt sie zunehmend\, um ihre Zielgruppen zu erreichen und Teilhabe zu fördern. Gleichzeitig greifen rechtsextreme Akteure soziale Medien strategisch auf\, um demokratie- und menschenfeindliche Botschaften zu verbreiten und Einfluss auf Jugendliche zu nehmen. \nDas Seminar richtet den Blick auf das medien- und demokratiepädagogische Wirken von Fachkräften in digitalen wie analogen Räumen. Vermittelt werden Grundlagen zu jugendlichen Lebenswelten\, dem Einfluss von Algorithmen und Peer-Groups sowie den Kommunikationsstrategien der extremen Rechten. Gemeinsam werden Radikalisierungsphänomene analysiert und anhand eigener Praxisbeispiele Handlungsoptionen diskutiert. \nIm Mittelpunkt steht die Frage\, wie junge Menschen durch Jugendarbeit in ihrem digitalen Aufwachsen begleitet und in ihrer Resilienz gegenüber extremistischen Ansprachen gestärkt werden können. Unter fachlicher Anleitung erarbeiten die Teilnehmenden\, welche medienpädagogischen Interventionen geeignet sind\, um lebensweltorientierte Räume für Gespräche über Demokratie\, Antidiskriminierung\, Politik und gesellschaftliche Teilhabe zu schaffen.\nReferent*innen \nJulian Kasten & Team pro:dis\nMethoden \nImpuls\, Gruppenarbeit\, Diskussion & Praxis- und Methodenreflexion\nDatum \n03. Juni 2026 \nBeginn: 09:00 Uhr\nEnde: 16:30 Uhr\nOrt \nNetzwerk für Kinder- und Jugendarbeit e. V.\nLutherstraße 13\n01877 Bischofswerda\nInternet: www.kijunetzwerk.de\nKosten \nAGJF-Mitglieder: 70\,00 EUR\nNichtmitglieder: 90\,00 EUR\n(inkl. Verpflegung) \nWeitere Informationen & Anmeldung\n 
URL:https://www.tolerantes-sachsen.de/veranstaltung/rechts-geklickt-umgang-mit-neonazismus-in-online-lebenswelten-bischofswerda/
LOCATION:Landkreis Bautzen
CATEGORIES:Seminar | Workshop
END:VEVENT
BEGIN:VEVENT
DTSTART;TZID=Europe/Berlin:20260603T090000
DTEND;TZID=Europe/Berlin:20260603T163000
DTSTAMP:20260424T112215
CREATED:20260317T094131Z
LAST-MODIFIED:20260317T094131Z
UID:33572-1780477200-1780504200@www.tolerantes-sachsen.de
SUMMARY:Seminar: „Rechts geklickt – Umgang mit Neonazismus in Online-Lebenswelten“ | Bischofswerda
DESCRIPTION:Digitale Räume sind für junge Menschen zentrale Orte der Information\, Kommunikation und Vernetzung. Auch die Jugendarbeit nutzt sie zunehmend\, um ihre Zielgruppen zu erreichen und Teilhabe zu fördern. Gleichzeitig greifen rechtsextreme Akteure soziale Medien strategisch auf\, um demokratie- und menschenfeindliche Botschaften zu verbreiten und Einfluss auf Jugendliche zu nehmen. \nDas Seminar richtet den Blick auf das medien- und demokratiepädagogische Wirken von Fachkräften in digitalen wie analogen Räumen. Vermittelt werden Grundlagen zu jugendlichen Lebenswelten\, dem Einfluss von Algorithmen und Peer-Groups sowie den Kommunikationsstrategien der extremen Rechten. Gemeinsam werden Radikalisierungsphänomene analysiert und anhand eigener Praxisbeispiele Handlungsoptionen diskutiert. \nIm Mittelpunkt steht die Frage\, wie junge Menschen durch Jugendarbeit in ihrem digitalen Aufwachsen begleitet und in ihrer Resilienz gegenüber extremistischen Ansprachen gestärkt werden können. Unter fachlicher Anleitung erarbeiten die Teilnehmenden\, welche medienpädagogischen Interventionen geeignet sind\, um lebensweltorientierte Räume für Gespräche über Demokratie\, Antidiskriminierung\, Politik und gesellschaftliche Teilhabe zu schaffen. \nReferent*innen\nJulian Kasten & Team pro:dis \nMethoden\nImpuls\, Gruppenarbeit\, Diskussion & Praxis- und Methodenreflexion \nDatum\n03. Juni 2026 \nBeginn: 09:00 Uhr\nEnde: 16:30 Uhr \nOrt\nNetzwerk für Kinder- und Jugendarbeit e. V.\nLutherstraße 13\n01877 Bischofswerda\nInternet: www.kijunetzwerk.de \nKosten\nAGJF-Mitglieder: 70\,00 EUR\nNichtmitglieder: 90\,00 EUR\n(inkl. Verpflegung) \nWeitere Informationen & Anmeldung
URL:https://www.tolerantes-sachsen.de/veranstaltung/seminar-rechts-geklickt-umgang-mit-neonazismus-in-online-lebenswelten-bischofswerda-2/
LOCATION:Landkreis Bautzen
CATEGORIES:Seminar | Workshop
END:VEVENT
BEGIN:VEVENT
DTSTART;TZID=Europe/Berlin:20260604T140000
DTEND;TZID=Europe/Berlin:20260604T200000
DTSTAMP:20260424T112215
CREATED:20260421T095215Z
LAST-MODIFIED:20260421T095215Z
UID:33950-1780581600-1780603200@www.tolerantes-sachsen.de
SUMMARY:Multiplikator*innenschulung: Zwischen Leugung und Engagement | Chemnitz
DESCRIPTION:Anmeldefrist: 28.05.2026 | \nArgumentieren und Handeln zwischen Rechtspopulismus und Klimaschutz \nWie können wir mit Äußerungen und Handlungen umgehen\, die den Klimawandel oder Klimaschutz leugnen? Wer verbreitet solche Positionen und welche Rolle spielen Rechtspopulismus und Rechtsextremismus dabei? \nDiese Fragen behandelt die Multiplikator*innenschulung des Kulturbüro Sachsen e. V.. Neben fachlichen Informationen zu Akteur*innen und ihren Strategien stehen vor allem Handlungs- und Argumentationsmöglichkeiten im Fokus. An konkreten Fallbeispielen besprechen wir gemeinsam\, welche Ansätze in welchen Situationen wirksam sind.  Darüber hinaus diskutieren wir\, welche Inhalte und Methoden sich in welcher Form auf die verschiedenen Praxisfelder der Anwesenden übertragen lassen. \nZiel der Schulung: Teilnehmende sollen sich in ihrer Positionierung stärken und lernen\, das Wissen sowie Argumentations- und Handlungsstrategien in ihren eigenen Arbeits- oder Engagementfeldern anzuwenden. Gemeinsam entwickeln wir Strategien gegen klimaskeptische\, ablehnende oder rechtspopulistische Stimmen und prüfen\, wie diese passend für verschiedene Zielgruppen vermittelt werden können. \nFür Teilnehmende ist die Schulung sinnvoll: \num eigene Positionierungen zu Klimakrise und Klimagerechtigkeit zu erproben. \nweil sie sensibler werden für klimaskeptische Einstellungen\, Leugnung des Klimawandels und Fehlinformationen zu Klimaschutzmaßnahmen. \num sich Verbindungen zwischen Klimawandelleugnung\, rechtspopulistischen und rechtsextremen Erzählungen bewusst zu werden. \nweil sie Argumentations- und Handlungsstrategien gegenüber kritischen oder ablehnenden Positionen kennenlernen. \nReferent*innen: Anja Thiele\, Vince von Gynz-Rekowski – Bildungsreferent*innen Kulturbüro Sachsen e.V. \n\nTermine:\nDonnerstag\, 04.06.26 | 14:00-20:00 Uhr \nOrt:\nder Veranstaltungsort wird nach Anmeldung mitgeteilt \nAnmeldung bis zum 28.05.2026 per E-Mail an ev.forum@evlks.de \nDie Veranstaltung ist dank Förderung kostenfrei. \nWeitere Informationen
URL:https://www.tolerantes-sachsen.de/veranstaltung/multiplikatorinnenschulung-zwischen-leugung-und-engagement-chemnitz/
LOCATION:Stadt Chemnitz
CATEGORIES:Weiterbildung
END:VEVENT
BEGIN:VEVENT
DTSTART;TZID=Europe/Berlin:20260609T100000
DTEND;TZID=Europe/Berlin:20260609T120000
DTSTAMP:20260424T112215
CREATED:20260421T084652Z
LAST-MODIFIED:20260421T084652Z
UID:33921-1780999200-1781006400@www.tolerantes-sachsen.de
SUMMARY:Empirie.ON no. 2 - Rechte Interventionen gegen Einrichtungen und Träger der Jugendarbeit | digital
DESCRIPTION:Für acht Orte hat das Projekt „Aktuelle Dynamiken politischer Intervention von ‚Rechts‘ – eine multi-lokale Untersuchung zur Jugendarbeit als Akteurin der Demokratiebildung“ die Versuche politischer Einflussnahme sowie ihre direkteren Auswirkungen auf die Jugendarbeit in den Blick genommen. \nDie Aufmerksamkeit galt gerade auch der Einbettung der Interventionen in breiter angelegte Konfliktkonstellationen innerhalb der Gemeinwesen. Dabei wurde untersucht\, wie sich die Interaktionen zwischen Akteur*innen aus Politik\, Verwaltung\, Zivilgesellschaft und Fachpraxis gestalten. Die daraus resultierenden Folgen werden gemeinsam diskutiert. Gerade der vergleichende Blick auf unterschiedliche Lokalräume zeigt\, dass ‚autoritäre Normalisierung‘ kein überall gleichförmig verlaufender Automatismus ist\, sondern stets von konkreten Gegebenheiten abhängt. So lassen sich dort auch Ansatzpunkte identifizieren\, die der Entwicklung etwas entgegensetzen. \nIn erprobter Kooperation mit der österreichischen Organisation WIENXTRA geht die Online-Veranstaltungsreihe „Empirie.On“ ihr zweites Jahr und lädt Fachkräfte aus der Praxis ein\, gemeinsam aktuelle empirische Studien und Forschungsergebnisse zu autoritären Dynamiken in der Migrationsgesellschaft zu diskutieren. Die Reihe bietet vertiefende Einblicke in Themen\, die für eine demokratiebildende und emanzipatorische Jugendarbeit von besonderer Bedeutung sind. \nDas Projekt „Aktuelle Dynamiken politischer Intervention von ‚Rechts‘ – eine multi-lokale Untersuchung zur Jugendarbeit als Akteurin der Demokratiebildung“ ist gefördert durch: Deutsche Stiftung Friedensforschung \nKooperationen und Teilförderungen: BAG Offene Kinder- und Jugendarbeit (BAG OKJA)\, Weitere Kooperationen: Fachverband Jugendarbeit / Jugendsozialarbeit Brandenburg \n\n\n\n\n\n\n\nReferent*innen \n\n\nKai Nolde \n\n\n\n\n\n\n\nPreis \n\nkostenfrei \n\n\n\n\n\n\nMethoden \n\n\nImpuls\, Diskussion & Austausch \n\n\n\n\n\n\n\nAnsprechpartner Organisatorisches \n\nLuis Schönecker\nTelefon: 03715336412\nE-Mail: schoenecker@agjf-sachsen.de \nWeitere Informationen & Anmeldung
URL:https://www.tolerantes-sachsen.de/veranstaltung/empirie-on-no-2-rechte-interventionen-gegen-einrichtungen-und-traeger-der-jugendarbeit-digital/
LOCATION:digital
CATEGORIES:Seminar | Workshop
END:VEVENT
BEGIN:VEVENT
DTSTART;TZID=Europe/Berlin:20260610T190000
DTEND;TZID=Europe/Berlin:20260610T210000
DTSTAMP:20260424T112215
CREATED:20260408T104843Z
LAST-MODIFIED:20260408T104843Z
UID:33837-1781118000-1781125200@www.tolerantes-sachsen.de
SUMMARY:Rechte Strukturen in und um Leipzig | Leipzig
DESCRIPTION:Auch in Leipzig gibt es Neonazismus\, Diskriminierung und rechte Strukturen. Ausgehend von der Vorstellung der Arbeit von chronik.LE wollen wir mit euch darüber ins Gespräch kommen. Thema werden unter anderen Parteien\, Protestgeschehen\, Subkultur (Kampfsport\, Fußball) und Rechtsterrorismus sein. \nDie Veranstaltung ist als Vortrag geplant\, der genug Raum für Nachfragen und Diskussion lässt. \nWann: Mittwoch\, 10.06.2026 | 19:00 Uhr \nWo: Projekt- und Abgeordnetenbüro linXXnet | Brandstraße 15\, 04277 Leipzig \n \nAusschlussklausel: Die Veranstaltenden behalten sich vor\, von ihrem Hausrecht Gebrauch zu machen und Personen\, die extrem rechten Parteien und/oder Organisationen angehören\, der extrem rechten Szene zuzuordnen sind oder bereits in der Vergangenheit durch rassistische\, nationalistische\, antisemitische\, verschwörungsideologische oder sonstige menschenverachtende Äußerungen in Erscheinung getreten sind\, den Zutritt zur Veranstaltung zu verwehren oder sie von dieser auszuschließen. \nWeitere Informationen
URL:https://www.tolerantes-sachsen.de/veranstaltung/rechte-strukturen-in-und-um-leipzig-leipzig/
LOCATION:Stadt Leipzig
CATEGORIES:Vortrag
END:VEVENT
BEGIN:VEVENT
DTSTART;TZID=Europe/Berlin:20260618T190000
DTEND;TZID=Europe/Berlin:20260618T203000
DTSTAMP:20260424T112215
CREATED:20260305T090055Z
LAST-MODIFIED:20260305T090055Z
UID:33398-1781809200-1781814600@www.tolerantes-sachsen.de
SUMMARY:Die Neue Rechte und ihr Konzept der Remigration – Aufklärung\, Haltung\, Handlungskompetenz | digital
DESCRIPTION:Der Begriff „Remigration“ ist zum zentralen Schlagwort der extremen Rechten geworden – ein vermeintlich technischer Ausdruck\, der jedoch einen radikalen Angriff auf die Grundwerte des Grundgesetzes und die Menschenwürde darstellt. Hinter dieser Rhetorik stehen Deportationsfantasien und die systematische Delegitimierung des demokratischen Verfassungsstaats. \nDas Online-Format bietet Aufklärung\, Orientierung und konkrete Handlungsperspektiven für Menschen\, die in Schule\, Jugendarbeit\, Verwaltung oder Zivilgesellschaft tätig sind. \nBeleuchtet werden historische Bezüge (von „Ausländerpolitik“ bis Ethnopluralismus)\, aktuelle Strategien rechtsextremer Akteur:innen und ihre Wirkung auf Sprache\, Medien und Alltagsdiskurse. \nZugleich geht es um die pädagogische und kommunikative Praxis: Wie kann man auf „Remigrations“-Narrative reagieren – sachlich\, klar und zugleich menschlich? Welche Materialien\, Argumentationshilfen und Projekte gibt es bereits? \nInput: \n\nFloris Biskamp (Universität Tübingen)\n\nWeitere Informationen & Anmeldung
URL:https://www.tolerantes-sachsen.de/veranstaltung/die-neue-rechte-und-ihr-konzept-der-remigration-aufklaerung-haltung-handlungskompetenz-digital/
LOCATION:digital
CATEGORIES:Vortrag
END:VEVENT
END:VCALENDAR