BEGIN:VCALENDAR
VERSION:2.0
PRODID:-//Netzwerk Tolerantes Sachsen - ECPv6.15.18//NONSGML v1.0//EN
CALSCALE:GREGORIAN
METHOD:PUBLISH
X-ORIGINAL-URL:https://www.tolerantes-sachsen.de
X-WR-CALDESC:Veranstaltungen für Netzwerk Tolerantes Sachsen
REFRESH-INTERVAL;VALUE=DURATION:PT1H
X-Robots-Tag:noindex
X-PUBLISHED-TTL:PT1H
BEGIN:VTIMEZONE
TZID:Europe/Berlin
BEGIN:DAYLIGHT
TZOFFSETFROM:+0100
TZOFFSETTO:+0200
TZNAME:CEST
DTSTART:20240331T010000
END:DAYLIGHT
BEGIN:STANDARD
TZOFFSETFROM:+0200
TZOFFSETTO:+0100
TZNAME:CET
DTSTART:20241027T010000
END:STANDARD
BEGIN:DAYLIGHT
TZOFFSETFROM:+0100
TZOFFSETTO:+0200
TZNAME:CEST
DTSTART:20250330T010000
END:DAYLIGHT
BEGIN:STANDARD
TZOFFSETFROM:+0200
TZOFFSETTO:+0100
TZNAME:CET
DTSTART:20251026T010000
END:STANDARD
BEGIN:DAYLIGHT
TZOFFSETFROM:+0100
TZOFFSETTO:+0200
TZNAME:CEST
DTSTART:20260329T010000
END:DAYLIGHT
BEGIN:STANDARD
TZOFFSETFROM:+0200
TZOFFSETTO:+0100
TZNAME:CET
DTSTART:20261025T010000
END:STANDARD
END:VTIMEZONE
BEGIN:VEVENT
DTSTART;TZID=Europe/Berlin:20250508T100000
DTEND;TZID=Europe/Berlin:20250508T120000
DTSTAMP:20260424T112047
CREATED:20250402T105830Z
LAST-MODIFIED:20250402T105830Z
UID:29777-1746698400-1746705600@www.tolerantes-sachsen.de
SUMMARY:Frag die Jugendarbeit – Unterstützungsbedarfe und Entwicklungsperspektiven der sächsischen Jugendarbeit | digital
DESCRIPTION:Jugendarbeit als wichtiger und starker Partner für das Aufwachsen junger Menschen in der Gesellschaft ist unerlässlich. Die Entwicklung\, Unterstützung und Förderung von Strukturen\, welche jungen Menschen in Sachsen beste Voraussetzungen für eine individuelle Persönlichkeitsentwicklung in Verbindung mit dem sozialen Wachsen in und mit unserer Gesellschaft ermöglichen\, ist wesentliches Anliegen der Sächsischen Jugendstiftung. Um dies leisten zu können\, braucht es ein Wissen um die Bedarfe und Bedürfnisse in den Einrichtungen der Jugendarbeit vor Ort. \nZu diesem Zweck haben wir eine breit angelegte Befragung sächsischer Jugendarbeiter*innen durchgeführt\, deren Ergebnisse wir Ihnen nun gerne vorstellen möchten. Mit Blick auf mögliche Ableitungen soll es in der Veranstaltung vor allem Raum geben für eigene praxisrelevanten Perspektiven sowie für Austausch und Vernetzung. \nDafür laden wir Sie herzlich ein zu unserem \nOnline Fachforum „Frag die Jugendarbeit – Unterstützungsbedarfe und Entwicklungsperspektiven der sächsischen Jugendarbeit“  \nam 08. Mai 2025 \nvon 10:00 bis 12:00 Uhr  \nHier gehts zur Anmeldung \nWeitere Informationen zur Veranstaltung und die Zugangsdaten zur Video-Konferenz senden wir Ihnen im Vorfeld der Veranstaltung in einer separaten E-Mail zu. \nWir freuen uns schon jetzt auf einen spannenden fachlichen Austausch. \nWeitere Informationen & Anmeldung
URL:https://www.tolerantes-sachsen.de/veranstaltung/frag-die-jugendarbeit-unterstuetzungsbedarfe-und-entwicklungsperspektiven-der-saechsischen-jugendarbeit-digital/
LOCATION:digital
CATEGORIES:Fachtag | Konferenz
END:VEVENT
BEGIN:VEVENT
DTSTART;TZID=Europe/Berlin:20250513T190000
DTEND;TZID=Europe/Berlin:20250513T203000
DTSTAMP:20260424T112047
CREATED:20250512T080009Z
LAST-MODIFIED:20250512T080009Z
UID:30012-1747162800-1747168200@www.tolerantes-sachsen.de
SUMMARY:Sachsen rechts unten: Queerfeindlichkeit
DESCRIPTION:Am 13.Mai 2025 präsentiert das Kulturbüro Sachsen e.V. die elfte Ausgabe der Jahrespublikation „Sachsen rechts unten“. Seit 2014 legen wir mit dieser Publikation jährlich eine Analyse über die qualitative Verfasstheit der extremen Rechten in Sachsen vor. \nIn diesem Jahr stehen die Themen Queerfeindlichkeit und Antifeminismus als Kernideologie rechtsextremen Denkens im Fokus der Broschüre. \nQueerfeindlichkeit und Antifeminismus sind Kernideologien rechtsextremen Denkens. Dies wird auch in Sachsen in den letzten Jahren immer deutlicher sichtbar. Rechtsextreme Gruppen nutzen Queerfeindlichkeit und Antifeminismus gezielt für ihre Propaganda\, indem sie Ängste schüren und Stereotype verstärken. Auch auf der Ebene extrem rechter Aktionsformen gewinnen die Themen Queerfeindlichkeit und Antifeminsimus immer mehr an Gewicht. Rechtsextreme Parteien wie die sächsische AfD polarisieren bewusst gegen geschlechtliche Vielfalt und diverse Lebensweisen. Extrem rechte Gruppen mobilisieren gegen Veranstaltungen\, auf denen geschlechtliche und sexuelle Vielfalt öffentlich repräsentiert werden. Und sie hatten damit\, insbesondere in Sachsen\, immer wieder Erfolg. \nAn diesem Abend werden verschiedene Autor*innen der Publikation ihre Beiträge vorstellen und der Öffentlichkeit präsentieren.\nNach einem Input dient der Abend auch dem Austausch und der Diskussion. Die Publikation kann an diesem Abend auch kostenfrei vor Ort mitgenommen werden. \nDie Veranstaltung ist eine Kooperation des Kulturbüro Sachsen e.V. mit Weiterdenken – Heinrich-Böll-Stiftung Sachsen. \nBarrieren im Gartenlokal Fortschritt\nDas gesamte Gebäude ist ebenerdig. Unsere Toiletten sind leider sehr eng und haben schmale Eingänge. Es ist daher ratsam\, die Lokalität vorab zu besuchen und individuell zu begutachten.\nEs gibt keine Wickelmöglichkeiten im Sanitärbereich. Falls du einen ruhigen Platz suchst\, sprich uns gern an.\nUnsere Speise- und Getränkekarten sind in deutscher Sprache verfasst. Unser Team ist jedoch in der Lage\, mit euch auch auf Englisch zu kommunizieren.\nAlle Räume mit Ausnahme der Kegelbahn sind rauchfrei. \nAntidiskriminierungsregel\nDen Veranstaltenden ist ein respektvolles und diskriminierungsfreies Miteinander sehr wichtig. Störungen oder Beleidigungen führen zum Ausschluss aus der Veranstaltung. Die Veranstaltenden behalten sich vor\, von ihrem Hausrecht Gebrauch zu machen und Personen\, die rechtsextremen Parteien oder Organisationen angehören\, der rechtsextremen Szene zuzuordnen sind oder bereits in der Vergangenheit durch rassistische\, nationalistische\, antisemitische oder sonstige menschenverachtende Äußerungen in Erscheinung getreten sind\, den Zutritt zur Veranstaltung zu verwehren oder von dieser auszuschließen. \nOrt: Gartenlokal Fortschritt\, Bärnsdorfer Str. 2a in Dresden \nWeitere Informationen
URL:https://www.tolerantes-sachsen.de/veranstaltung/sachsen-rechts-unten-queerfeindlichkeit/
LOCATION:Stadt Dresden
CATEGORIES:Lesung
END:VEVENT
BEGIN:VEVENT
DTSTART;TZID=Europe/Berlin:20250530T183000
DTEND;TZID=Europe/Berlin:20250530T204500
DTSTAMP:20260424T112047
CREATED:20250521T075706Z
LAST-MODIFIED:20250521T080357Z
UID:30253-1748629800-1748637900@www.tolerantes-sachsen.de
SUMMARY:Filmreihe „Im Fokus: Rechter Terror“ | Chemnitz
DESCRIPTION:Anmeldung erforderlich | \nFilmische Perspektiven auf den NSU-Komplex und seine Entstehungsgeschichte \nIn der Veranstaltungsreihe „Im Fokus: Rechter Terror“ beschäftigen wir uns mit Filmen\, die den NSU-Komplex sowie historische und aktuelle Formen rechter Gewalt behandeln\, wie etwa die „Baseballschlägerjahre“ oder den Aufstand in Hoyerswerda. Die Filmreihe folgt den Spuren rechter Gewalt von den 1990ern bis heute – in chronologischer Abfolge und mit Fokus auf Chemnitz und Ostdeutschland. Sie fragt\, wie Radikalisierung entsteht\, was sie möglich macht – und was das mit uns allen zu tun hat. Im Anschluss an jeden Film sprechen wir u.a. mit Betroffenen\, Filmschaffenden oder Zeitzeug:innen und laden euch zur Diskussion ein. \nDie Veranstaltung findet in deutscher Sprache statt.\nDie Filme werden in deutscher Sprache gezeigt. \nEintritt frei. \nEine Veranstaltungsreihe in Kooperation mit Subbotnik e.V. \nWo\nOffener Prozess – ein Dokumentationszentrum zum NSU-Komplex\nJohannisplatz 8\n09111 Chemnitz \nWeitere Informationen & Anmeldung
URL:https://www.tolerantes-sachsen.de/veranstaltung/filmreihe-im-fokus-rechter-terror-chemnitz/
LOCATION:Stadt Chemnitz
CATEGORIES:Film
END:VEVENT
END:VCALENDAR