BEGIN:VCALENDAR
VERSION:2.0
PRODID:-//Netzwerk Tolerantes Sachsen - ECPv6.15.18//NONSGML v1.0//EN
CALSCALE:GREGORIAN
METHOD:PUBLISH
X-ORIGINAL-URL:https://www.tolerantes-sachsen.de
X-WR-CALDESC:Veranstaltungen für Netzwerk Tolerantes Sachsen
REFRESH-INTERVAL;VALUE=DURATION:PT1H
X-Robots-Tag:noindex
X-PUBLISHED-TTL:PT1H
BEGIN:VTIMEZONE
TZID:Europe/Berlin
BEGIN:DAYLIGHT
TZOFFSETFROM:+0100
TZOFFSETTO:+0200
TZNAME:CEST
DTSTART:20230326T010000
END:DAYLIGHT
BEGIN:STANDARD
TZOFFSETFROM:+0200
TZOFFSETTO:+0100
TZNAME:CET
DTSTART:20231029T010000
END:STANDARD
BEGIN:DAYLIGHT
TZOFFSETFROM:+0100
TZOFFSETTO:+0200
TZNAME:CEST
DTSTART:20240331T010000
END:DAYLIGHT
BEGIN:STANDARD
TZOFFSETFROM:+0200
TZOFFSETTO:+0100
TZNAME:CET
DTSTART:20241027T010000
END:STANDARD
BEGIN:DAYLIGHT
TZOFFSETFROM:+0100
TZOFFSETTO:+0200
TZNAME:CEST
DTSTART:20250330T010000
END:DAYLIGHT
BEGIN:STANDARD
TZOFFSETFROM:+0200
TZOFFSETTO:+0100
TZNAME:CET
DTSTART:20251026T010000
END:STANDARD
END:VTIMEZONE
BEGIN:VEVENT
DTSTART;VALUE=DATE:20240525
DTEND;VALUE=DATE:20240602
DTSTAMP:20260425T235114
CREATED:20240516T080756Z
LAST-MODIFIED:20240516T080756Z
UID:25201-1716595200-1717286399@www.tolerantes-sachsen.de
SUMMARY:LATCHO DIVES – 3. Leipziger Kulturfestival der Roma und Sinti | Leipzig
DESCRIPTION:Bald startet Latcho Dives\, das 3. Leipziger Kulturfestival der Roma und Sinti. LATCHO DIVES ist Romanes\, die Sprache der Roma\, und bedeutet EIN SCHÖNER TAG. Das Festival findet seit 2020 alle zwei Jahre im Wechsel mit den jüdischen Wochen und in Zusammenarbeit mit dem Ariowitsch Haus statt.\nDas diesjährige Latcho Dives Festival feiern wir vom 25.05.-01.06.2024. Es erwartet euch ein vielfältiges Programm mit Musik\, Literatur\, Diskussion\, Film\, Workshops\, Ausstellung und Begegnung. \nEs wird unter anderem eine Ausstellung und einen Workshop mit dem Künstler Alfred Ulrich geben; ein Tanzworkshop zu Tänzen der Roma auf dem Balkan; Einblicke in die Literatur von Roma* und Sinti*; einen Vortrag über gesellschaftliches Engagement und feministisches Wirken von Roma* und Sinti*; eine Filmvorführung und vieles mehr. \nDas Eröffnungskonzert des Festivals wird am 26.05. von der Fabijan Balkan Brass Band in der Schaubühne Lindesfels gespielt. \nDas genaue Programm kann unter http://www.latchodives.de angeguckt werden. \nWeitere Informationen
URL:https://www.tolerantes-sachsen.de/veranstaltung/latcho-dives-3-leipziger-kulturfestival-der-roma-und-sinti-leipzig/
CATEGORIES:Festival | Feier | Jubiläum
END:VEVENT
BEGIN:VEVENT
DTSTART;TZID=Europe/Berlin:20240603T180000
DTEND;TZID=Europe/Berlin:20240603T210000
DTSTAMP:20260425T235114
CREATED:20240522T103716Z
LAST-MODIFIED:20240522T103716Z
UID:25310-1717437600-1717448400@www.tolerantes-sachsen.de
SUMMARY:Ausstellungseröffnung: Mitten in der Kurve – Jüdische Fan- und Fußballkultur | Leipzig
DESCRIPTION:Eröffnung\, Preisverleihung\, Podiumsdiskussion\, Empfang \nMontag\, 3. Juni 2024\, 18.00 bis 21.00 Uhr \n18.00 Uhr Ausstellungseröffnung und Führung durch die Ausstellung \n19.00 Uhr Vorstellung des Projekts\, Auszeichnung der Preisträger \n19.30 Uhr Podiumsdiskussion über jüdische Fußball- und Fankultur mit Ruben Gerczikow\, Monty Ott und Felix Tamsut \nModeration: Simon Raulf (Projektleiter) \nEmpfang \nIn Stadien und auf Fußballplätzen treffen Menschen mit unterschiedlichsten Identitäten\, Biographien\, Religionen und aus unterschiedlichsten sozialen Schichten aufeinander\, um ihrer geteilten Leidenschaft nachzugehen: dem Fußball. \nDie Fotoausstellung „Mitten in der Kurve – Jüdische Fan- und Fußballkultur“ will die Fußballbegeisterung rund um die Europameisterschaft 2024 nutzen\, um eine Facette vielfältigen jüdischen Lebens sichtbar zu machen: jüdische Fußball- und Fankultur! Im Rahmen eines Fotowettbewerbs wurden jüdische Fußballfans ermutigt\, ihre Leidenschaft für Fußball und ihren Lieblingsverein in Fotos und kurzen Statements auszudrücken. In der Ausstellung werden unterschiedliche Aspekte der Verknüpfung von jüdischer Identität und Fußballbegeisterung gezeigt\, darunter die Einreichungen der drei Preisträger. \nEin Projekt des Vereins Netzwerk Jüdisches Leben e.V. in Kooperation mit der CAPA Culture gGmbH. Offizieller Beitrag zum Kunst- und Kulturprogramm zur UEFA EURO 2024TM\, gefördert von der Stiftung Fußball & Kultur EURO 2024 gGmbH unter der Dachmarke der Bundesregierung „Heimspiel für Europa“. \nEintritt frei\nKeine Anmeldung erforderlich \nOrt\nCapa Haus\nJahnallee 61\n04177 Leipzig \nWeitere Informationen
URL:https://www.tolerantes-sachsen.de/veranstaltung/ausstellungseroeffnung-mitten-in-der-kurve-juedische-fan-und-fussballkultur-leipzig/
CATEGORIES:Ausstellung
END:VEVENT
BEGIN:VEVENT
DTSTART;TZID=Europe/Berlin:20240604T100000
DTEND;TZID=Europe/Berlin:20240604T160000
DTSTAMP:20260425T235114
CREATED:20240531T094720Z
LAST-MODIFIED:20240531T094720Z
UID:25495-1717495200-1717516800@www.tolerantes-sachsen.de
SUMMARY:Fachtag: Leerstellen und Lehrstellen Geschlecht – genderreflektierende Perspektiven auf Jugendarbeit mit rechten Jugendlichen | Dresden
DESCRIPTION:Der Fachtag widmet sich der Jugendarbeit mit rechten Jugendlichen in einer zeithistorischen Perspektive seit den 1990er Jahren und fokussiert in diesem Kontext das Thema Geschlecht und die Bedeutung genderreflektierender Ansätze in der Sozialen Arbeit. \nProgramm am Vormittag (10-12 Uhr): Leerstellen Geschlecht – Inputs und Diskussion \nWir werfen unter diesem Blickwinkel einen erneuten Blick in die gemeinsame Praxisforschung des Modellprojektes ReMoDe\, des Institutes SOFUB sowie weiterer Forscher*innen. Wir gehen der Frage nach genderreflektierenden Ansätzen in der sächsischen Jugendarbeit in den 1990ern und heute nach und freuen uns auf die Erkenntnisse und Analysen von Enrico Glaser (SOFUB – Sozialwissenschaftliche Forschung und Beratung; Fachstelle Gender\, gruppenbezogene Menschenfeindlichkeit und Rechtsextremismus bei der Amadeu Antonio Stiftung) und Kai Dietrich (SOFUB – Sozialwissenschaftliche Forschung und Beratung; AGJF Sachsen). Mit ihrer Expertise zu Frauen in der Rechten und genderreflektierenden Ansätzen der Jugendarbeit bereichern den Fachtag Prof. Dr. Esther Lehnert und Lucia Bruns (Alice Salomon Hochschule Berlin). \nProgramm am Nachmittag (13-16 Uhr): Lehrstellen Geschlecht – Talk\, Messestände\, Spotlights und Perspektiven \nIn den Nachmittag hinein schicken wird uns mit einem kleinen Programm Sunna Huygen. Wir freuen uns auf Kabarett\, Politik & Poesie! \nAnschließend öffnen wir einen lebendigen Raum des Austausch und des Lernens mit Beiträgen\, Formaten und Aktionen unter Beteiligung von \nJohn-Dewey-Forschungsstelle für die Didaktik der Demokratie (JoDDiD) \nGerede e.V. – Verein für sexuelle und geschlechtliche Vielfalt \nLAG Mädchen* und junge Frauen* in Sachsen e.V. \nMännernetzwerk Dresden e.V. \nDie Moderation des Tages übernimmt Michael Saborowski. \n\n\n\nVerpflegung: In der Mittagspause gibt es ein warmes vegetarisch/ veganes Essen und am Nachmittag Kaffee und Kuchen. Warme und kalte Getränke stehen den ganzen Tag über zur Verfügung. \nKosten:\nMitglieder des LAK: 25\,00 Euro\nNichtmitglieder: 35\,00 Euro \nIhre Anmeldung ist verbindlich. Die durch Ihre kurzfristige Absage oder Ihre Abwesenheit verlorengegangenen Fördermittel stellen wir Ihnen in Höhe des Teilnahmebeitrags in Rechnung. \nOrt\nDreikönigskirche Dresden\nHauptstraße 23\n01097 Dresden \nZur Anmeldung & weitere Informationen
URL:https://www.tolerantes-sachsen.de/veranstaltung/fachtag-leerstellen-und-lehrstellen-geschlecht-genderreflektierende-perspektiven-auf-jugendarbeit-mit-rechten-jugendlichen-dresden/
CATEGORIES:Fachtag | Konferenz
END:VEVENT
BEGIN:VEVENT
DTSTART;TZID=Europe/Berlin:20240608T130000
DTEND;TZID=Europe/Berlin:20240608T200000
DTSTAMP:20260425T235114
CREATED:20240527T081001Z
LAST-MODIFIED:20250904T112302Z
UID:25381-1717851600-1717876800@www.tolerantes-sachsen.de
SUMMARY:DON´T BE SILENT! Festival | Plauen
DESCRIPTION:Nur wo colorido drauf steht\, ist auch colorido! \nNicht verwechseln: unser alljährliches DON´T BE SILENT-Festival\, welches wir in den letzten 5 Jahren auf dem Albertplatz am 1. Mai veranstaltet haben\, findet in diesem Jahr der möglichen Entscheidungswahlen am 8. Juni von 13 bis 20 Uhr auf dem Albertplatz statt. \nWir haben wieder eine Menge sehr guter Musik\, Austausch\, Essen\, Trinken\, vieles für Kinder und Jugendliche\, etc. organisiert. Unser Ehrenmitglied und Schauspieler Kai Schumann übernimmt die Moderation! \nWer gerne noch mit einem Stand dabei sein will\, kann sich ab sofort noch unter kontakt@colorido.de melden. Der Platz ist groß und wir freuen uns über viele Mitmacher*innen. \nWir wollen an diesem Tag unabhängig von Wahlversprechen der Parteien auf das hinweisen\, was jeden Tag übergeordnet aus Anstand und fürs Grundgesetz für alle gewählte Repräsentanten gilt:\nEinzutreten für ALLE Menschen\,\neinzutreten für SOZIALE BELANGE\,\neinzutreten für GRUNDRECHTE ALLER\,\neinzutreten für FRIEDEN\,\neinzutreten für MENSCHLICHKEIT – und nicht zuletzt VERANTWORTUNG übernehmen für unsere Demokratie! \nUns ist bewusst\, dass wir uns in der Realität in einer anderen Situation befinden. Und wir haben nicht den Anlass zu glauben\, dass dies selbstkritisch und verantwortungsvoll von allen Verantwortlichen wahrgenommen wird. Auch wenn uns Wahlplakate und Dialogformate alle paar Jahre intellektuell unterfordern möchten. \nAber wir werden nicht davon abrücken:\nkein parlamentarischer Rechtsruck in Sachsen!\nKein weiterer gesellschaftlicher Rechtsruck in Sachsen!\nKein Abbau von Sozialstaat & Menschlichkeit in Deutschland & der EU! \nStreicht euch den 8. Juni im Kalender an wenn ihr mit uns für ein Vogtland eintreten möchtet\, dass produktiv mit Herz & Verstand streiten kann. Das weiter mit Lösungen an Problemen arbeitet. Das für die Vielfalt der Menschen offen bleibt und in dem jeder ohne Angst sein kann! \n📢 DONT BE SILENT! 📢\nSave the date & in Kürze mehr!\nWer uns unterstützen möchte\, meldet euch! \nOrt\nAlbertplatz\nPlauen \nWeitere Informationen
URL:https://www.tolerantes-sachsen.de/veranstaltung/dont-be-silent-festival-plauen/
CATEGORIES:Festival | Feier | Jubiläum
END:VEVENT
BEGIN:VEVENT
DTSTART;TZID=Europe/Berlin:20240614T180000
DTEND;TZID=Europe/Berlin:20240614T233000
DTSTAMP:20260425T235114
CREATED:20240606T082643Z
LAST-MODIFIED:20240618T083610Z
UID:25619-1718388000-1718407800@www.tolerantes-sachsen.de
SUMMARY:Drag am Stecken – Gala für Antifaschismus – 5 Jahre Educat | Dresden
DESCRIPTION:Unser Bildungskollektiv wird 5. Ein Grund zu feiern! Bildungsarbeit. Uns und den Versuch\, dem Kapitalismus ein Stück hierarchiearmes und selbstbestimmtes Arbeiten abzuringen. Machtkritik\, Queerness und: Antifaschismus. \nUnsere Geschichte begann in Dresden. Inzwischen sind wir in Berlin\, dem Wendland und manchmal auch weit darüber hinaus aktiv. In Sachsen stehen 2024 Wahlen an. Wir sind besorgt und alarmiert\, aber auch dankbar! Für alle\, die nicht wegsehen oder -gehen. Für die Antifaschist*innen\, Anarchist*innen und linken Aktivist*innen\, die Queers und Queens. \nGemeinsam mit Queer Pride Dresden feiern wir 5 Jahre Educat mit “Drag am Stecken – Gala für Antifaschismus”. \n\nWann: 14. Juni\, ab 18 Uhr bis spät in die Nacht\nWo: AZ Conni\, Dresden\nWas: Drag-Show\, Live-Musik\, DJ*s\, Spiele\, Drinks und leckeres Essen\nKosten: 5-10€ nach Selbsteinschätzung an der Abendkasse; die Überschüsse gehen 50/50 an Educat und Queer Pride Dresden\n\nAus dem Programm\n\nLeckeres\, veganes Essen\nAußenbereich mit Musik\nCocktailbar\nKaraoke-Floor\nModeration: Kuku Schrapnell\nDrag-Show unter anderem mit Heike mit Mint und Kuku Schrapnell\nFilm und Diskussion zur Situation von Queers in Belarus – LGBTQ+ initiative ‘New Regions’ from Mogilev\, Belarus\nMusik von (die Liste wächst noch)\n\nDer Nebenwiderspruch\, Queer-Rap – “es geht um Maria Magdalenas queeres Liebesleben\, Wut auf linke Macker\, rachsüchtige Fische\, Alf und Christian Lindner”\nAlice Dee\, Rap – angefragt\nDJ* L-Sa\nDJ* Gorgeous EGO\n\n\n\nWir bemühen uns um ruhige Rückzugsräume und eine aufmerksame und caring Atmosphäre. Helft uns dabei\, dass sich alle wohl fühlen können. “Be Careful With Each Other – So We Can Be Dangerous Together”. Wir denken an alle\, die nicht dabei sein können <3 \nOrt\nAZ Conni\nRudolf-Leonhard-Straße 39\n01097 Dresden \nWeitere Informationen
URL:https://www.tolerantes-sachsen.de/veranstaltung/drag-am-stecken-gala-fuer-antifaschismus-5-jahre-educat-dresden/
CATEGORIES:Festival | Feier | Jubiläum
END:VEVENT
BEGIN:VEVENT
DTSTART;TZID=Europe/Berlin:20240615T100000
DTEND;TZID=Europe/Berlin:20240615T100000
DTSTAMP:20260425T235114
CREATED:20240328T134942Z
LAST-MODIFIED:20240328T135019Z
UID:24551-1718445600-1718445600@www.tolerantes-sachsen.de
SUMMARY:Fahrradtour: Jüdisches Leben in Kunst und Kultur | Pirna
DESCRIPTION:Wir begeben uns gemeinsam mit dem Fahrrad auf Spurensuche zu jüdischer Geschichte in Kunst und Kultur. \nDazu treffen wir uns um 10 Uhr an der Kulturkiste in Pirna. Die Tour wird knapp 15 km lang sein und es sind nicht mehr als 200 Höhenmeter zu überwinden. In mehreren Zwischenstationen erfahren wir mehr zu Pirnas jüdischer Geschichte in Kunst und Kultur. \nDamit wir einen Überblick über die Anzahl der Reader haben\, bitten wir euch um Anmeldung unter kontakt@akubiz.de \nDiese Maßnahme wird mitfinanziert durch Steuermittel auf der Grundlage des vom Sächsischen Landtag beschlossenen Haushaltes. \nMehr Informationen hier
URL:https://www.tolerantes-sachsen.de/veranstaltung/fahrradtour-juedisches-leben-in-kunst-und-kultur-pirna/
CATEGORIES:Bildungsreise | Bildungstag
END:VEVENT
BEGIN:VEVENT
DTSTART;TZID=Europe/Berlin:20240615T140000
DTEND;TZID=Europe/Berlin:20240615T180000
DTSTAMP:20260425T235114
CREATED:20240612T080919Z
LAST-MODIFIED:20240612T080919Z
UID:25707-1718460000-1718474400@www.tolerantes-sachsen.de
SUMMARY:Tag der Offenen Gesellschaft: Man muss ja nicht immer reden. | Mittelherwigsdorf
DESCRIPTION:Offene Kneipe – offenes Dorf – offene Gesellschaft!\nWir kommen ja nicht drum herum …\n… unser Leben als Gesellschaft miteinander und für alle zu gestalten\, gerade hier im ländlichen Raum in unseren Dörfern. Wie fühlt sich unsere Dorfgesellschaft nach den Wahlen an? Sind wir guter Dinge\, was die gemeinsame Gestaltung des guten Lebens in der Oberlausitz betrifft? Oder machen wir uns Sorgen\, und worüber? \nAber man muss ja nicht immer reden\,\n… und so manche(r) ist im Wahljahr vielleicht auch etwas müde vom Diskutieren. Offene Gesellschaft – das heißt vor allem auch: gute Gesellschaft. Und die kann man sehr gut in unserer Kneipe oder im Garten genießen\, bei Kaffee & Kuchen\, Bier & Brause. \nAm Ende geht es darum\, wie wir mit unserer so unterschiedlichen Art zu leben & zu denken trotzdem gut miteinander auskommen können. Wie wir den Respekt\, die Toleranz und Freiheit\, die sich jeder von uns für sich selber wünscht\, genauso unseren Nachbarn und Mitbürgern zugestehen können – gerade auch\, wenn sie ganz anders ticken als wir selbst. In einer Kneipe kann man das SEHR GUT üben. Mit oder ohne Reden.  \nKommt vorbei!\nP.S.: An diesem Wochenende findet ein Jodel-Workshop in der Kulturfabrik statt und mit etwas Glück bekommen wir ein Jodel-Ständchen zum Kaffee! \nOrt\nKULTURFABRIK MEDA e.V.\nHainewalder Str. 35\n02763 Mittelherwigsdorf \nWeitere Informationen
URL:https://www.tolerantes-sachsen.de/veranstaltung/tag-der-offenen-gesellschaft-man-muss-ja-nicht-immer-reden-mittelherwigsdorf/
CATEGORIES:Podium | Gespräch
END:VEVENT
BEGIN:VEVENT
DTSTART;TZID=Europe/Berlin:20240619T170000
DTEND;TZID=Europe/Berlin:20240619T190000
DTSTAMP:20260425T235114
CREATED:20240527T085242Z
LAST-MODIFIED:20240619T091629Z
UID:25392-1718816400-1718823600@www.tolerantes-sachsen.de
SUMMARY:Kick-Off zum E-Learning-Kurs Antimuslimischer Rassismus – ein Thema für die Kinder- und Jugendarbeit | digital
DESCRIPTION:Diversitätsbewusst und rassismussensibel in der Kinder- und Jugendarbeit\nIm vollgepackten pädagogischen Alltag ist es oftmals nicht einfach\, Zeit für Weiterbildung und Qualifizierung zu finden. Gleichzeitig nehmen die gesellschaftlichen Herausforderungen zu\, auf welche auch die Kinder-und Jugendarbeit reagieren sollte. Wir haben einen interaktiven E-Learning-Kurs entwickelt\, mit dem Sie sich kostenfrei\, orts- und zeitunabhängig in vier Modulen den Themen Diskriminierung\, Rassismus und antimuslimischer Rassismus widmen können. Mit dem Kurs stellen wir eine Vielzahl an Handlungsimpulsen und Materialien für die pädagogische Praxis bereit. \n\n\nKick-Off Veranstaltung\nUm Ihnen den Kurs vorzustellen\, laden wir Sie herzlich zu unserer digitalen Kick-Off-Veranstaltung am 19.06.2024 von 17 Uhr bis 19 Uhr ein. Wir haben Referent:innen aus dem Feld der Kinder- und Jugendarbeit zu Gast und sprechen darüber\, welche Möglichkeiten es gibt\, den Kurs in der Praxis einzusetzen. \nWenn Sie teilnehmen wollen\, senden Sie bis zum 14.06. eine Email an i.herling@zeok.de \n\n\nDer Kurs ist ab dem 22.05.2024 zu finden auf www.antimuslimischer-rassismus.de\nFlyer zum E-Learning Kurs als PDF  \nEntwickelt wurde der E-Learning Kurs im Rahmen des bundesweiten Kompetenznetzwerks zur Prävention von Islam- und Muslimfeindlichkeit\, von ZEOK e.V.\, der aej e.V. sowie ihren Kooperationspartnern – die Muslimische Jugend in Deutschland e.V. sowie die Koptisch-Orthodoxe Jugend in Deutschland e.V.. \nUnser besonderer Dank gilt der Agentur FLMH für die Produktion sowie Soufeina „Tuffix“ für die Illustrationen. \nWeitere Informationen
URL:https://www.tolerantes-sachsen.de/veranstaltung/kick-off-zum-e-learning-kurs-antimuslimischer-rassismus-ein-thema-fuer-die-kinder-und-jugendarbeit-digital/
LOCATION:digital
CATEGORIES:Vortrag
END:VEVENT
BEGIN:VEVENT
DTSTART;TZID=Europe/Berlin:20240625T140000
DTEND;TZID=Europe/Berlin:20240625T190000
DTSTAMP:20260425T235114
CREATED:20240621T102046Z
LAST-MODIFIED:20240621T102046Z
UID:25937-1719324000-1719342000@www.tolerantes-sachsen.de
SUMMARY:Kreativ- und Social Media Werkstatt zu den Aktionswochen gegen antimuslimischen Rassismus | Leipzig
DESCRIPTION:Sei dabei und gestaltet mit uns kreative Inhalte für die Social-Media-Kampagne. Wir bieten die Möglichkeit\, Collagen zu erstellen\, Fotos zu machen\, T-Shirts zu bemalen und viele weitere kreative Ideen umzusetzen und/oder dich bzw. dein Statement gegen antimuslimischen Rassismus in Szene zu setzen.\nZudem wird es Raum für Wissensvermittlung\, Austausch und Gespräche geben.\n\nLust dabei zu sein? Dann melde dich per Mail an lara.fattoumi@zeok.de an\, da die Plätze begrenzt sind. Für das leibliche Wohl ist natürlich gesorgt!\n\nWer sich an der CLAIM Kampagne beteiligen möchte\, kann das auch ganz unabhängig von uns machen. Infos zum Mitmachen gibt es auf der Website der Allianz gegen Hass. \nOrt\nZEOK e.V.\, Kurt-Eisner-Straße 68\, Leipzig \nWeitere Informationen
URL:https://www.tolerantes-sachsen.de/veranstaltung/kreativ-und-social-media-werkstatt-zu-den-aktionswochen-gegen-antimuslimischen-rassismus-leipzig/
LOCATION:Stadt Leipzig
CATEGORIES:Seminar | Workshop
END:VEVENT
END:VCALENDAR