BEGIN:VCALENDAR
VERSION:2.0
PRODID:-//Netzwerk Tolerantes Sachsen - ECPv6.15.18//NONSGML v1.0//EN
CALSCALE:GREGORIAN
METHOD:PUBLISH
X-ORIGINAL-URL:https://www.tolerantes-sachsen.de
X-WR-CALDESC:Veranstaltungen für Netzwerk Tolerantes Sachsen
REFRESH-INTERVAL;VALUE=DURATION:PT1H
X-Robots-Tag:noindex
X-PUBLISHED-TTL:PT1H
BEGIN:VTIMEZONE
TZID:Europe/Berlin
BEGIN:DAYLIGHT
TZOFFSETFROM:+0100
TZOFFSETTO:+0200
TZNAME:CEST
DTSTART:20230326T010000
END:DAYLIGHT
BEGIN:STANDARD
TZOFFSETFROM:+0200
TZOFFSETTO:+0100
TZNAME:CET
DTSTART:20231029T010000
END:STANDARD
BEGIN:DAYLIGHT
TZOFFSETFROM:+0100
TZOFFSETTO:+0200
TZNAME:CEST
DTSTART:20240331T010000
END:DAYLIGHT
BEGIN:STANDARD
TZOFFSETFROM:+0200
TZOFFSETTO:+0100
TZNAME:CET
DTSTART:20241027T010000
END:STANDARD
BEGIN:DAYLIGHT
TZOFFSETFROM:+0100
TZOFFSETTO:+0200
TZNAME:CEST
DTSTART:20250330T010000
END:DAYLIGHT
BEGIN:STANDARD
TZOFFSETFROM:+0200
TZOFFSETTO:+0100
TZNAME:CET
DTSTART:20251026T010000
END:STANDARD
END:VTIMEZONE
BEGIN:VEVENT
DTSTART;VALUE=DATE:20240809
DTEND;VALUE=DATE:20240811
DTSTAMP:20260425T210526
CREATED:20240619T104106Z
LAST-MODIFIED:20240619T104106Z
UID:25862-1723161600-1723334399@www.tolerantes-sachsen.de
SUMMARY:Fokus Festival | Görlitz
DESCRIPTION:Zwei Tage lang präsentiert sich das Fokus Festival mit einem abwechslungsreichen und bunten Programm zwischen Musik\, Kunst\, Mitmach-Aktionen rund um Urban Art\, und vielem mehr … \nIn diesem Jahr steht das Festival ganz unter dem Motto: „GRENZENLOS.DIVERS.INKLUSIV“. \nRund 100 beteiligte Vereine\, Initiativen\, Künstler:innen und Einzelpersonen auf 3 Bühnen und zahlreichen Areas verteilt über das gesamte RABRYKA Gelände. Ewig viele Stunden\, die ein Team aus ca. 15 Personen über 6 Monate zusammensitzt\, organisiert\, recherchiert\, plant\, den Aufbau und den Abriss feiert! All das\, um Menschen zu zeigen\, dass Görlitz eine abgefahren\, kreative und junge Stadt sein kann. \nDas ist das FOKUS Festival in Görlitz! \nWeitere Informationen
URL:https://www.tolerantes-sachsen.de/veranstaltung/fokus-festival-goerlitz/
LOCATION:Landkreis Görlitz
CATEGORIES:Festival | Feier | Jubiläum
END:VEVENT
BEGIN:VEVENT
DTSTART;VALUE=DATE:20240809
DTEND;VALUE=DATE:20240811
DTSTAMP:20260425T210526
CREATED:20240722T094433Z
LAST-MODIFIED:20240722T094433Z
UID:26465-1723161600-1723334399@www.tolerantes-sachsen.de
SUMMARY:Festival: Refugees unite! | Dresden
DESCRIPTION:Wir sind Flüchtlinge aus aller Welt\, die nach Deutschland gekommen sind\, weil es in unseren Ländern nicht mehr ging\, sei es wegen Kriegen\, Armut\, Ausbeutung\, Unterdrückung aller Art oder der Klimakatastrophe.\nWir sprechen verschiedene Sprachen\, haben aber viele gemeinsame Probleme. Wir haben Ähnliches erlebt – vor\, während oder nach der Flucht.\nWir sind international\, weil unsere Probleme international sind. Diese teilen wir auch mit vielen Menschen\,teilen wir auch mit vielen Menschen\, die hier geboren sind.\nWir gehören zusammen\, weil unsere Probleme und viele unserer Wünsche miteinander verbunden sind. \nDennoch erleben wir eine wachsende Feindseligkeit\, eine wachsende Hetze\, die uns unserer Rechte und unserer Stimme beraubt.\nSatt über Frieden\, gerechte Verteilung und den Stopp der epidemischen Entmenschlichung wollen sie über uns reden\, als wäre unsere Flucht nicht die Folge\, sondern die Ursache!\nDamit sind wir nicht einverstanden und wir haben einiges zu sagen!\nOb miteinander oder mit den Menschen\, mit denen wir den Traum einer sicheren\, gerechten und friedlichen Welt teilen – wir wollen reden!\nKomm auch Du zu Refugees unite!\, um dich uns anzuschließen\, unsere Forderungen zu unterstützen und gemeinsam Spaß zu haben!\nZusammen sind wir stärker!\nFür Gerechtigkeit\, Frieden und Befreiung! \nP.S. Bringt eure Familien mit! \nWeitere Informationen & Infos zum Programm
URL:https://www.tolerantes-sachsen.de/veranstaltung/festival-refugees-unite-dresden/
LOCATION:Stadt Dresden
END:VEVENT
BEGIN:VEVENT
DTSTART;TZID=Europe/Berlin:20240813T170000
DTEND;TZID=Europe/Berlin:20240813T200000
DTSTAMP:20260425T210526
CREATED:20240806T092240Z
LAST-MODIFIED:20240806T092240Z
UID:26714-1723568400-1723579200@www.tolerantes-sachsen.de
SUMMARY:Zusammen stark engagiert – Argumentationsworkshop | Meißen
DESCRIPTION:Liebe (ehrenamtlich) Engagierte und Interessierte\, \nviele von uns kennen es: Eine rechte Äußerung fällt\, und man ist oft erst einmal perplex und weiß nicht\, wie man reagieren kann. Gerade Menschen\, die selbst Migrationsbezüge haben und / oder sich aktiv für eine pluralistische Gesellschaft einsetzen\, sind besonders häufig rechten Anfeindungen ausgesetzt. Wie können wir damit umgehen? \nIm Workshop tauschen wir uns aus und entwickeln gemeinsam Handlungsstrategien für den Umgang mit rechten Äußerungen. Interaktive Übungen und Methoden unterstützen uns\, die eigene Handlungs- und Argumentationssicherheit zu stärken. Das Ziel ist es\, dass sich alle Teilnehmenden im Umgang mit solchen Herausforderungen sicherer fühlen und effektive Strategien zur Hand haben\, um Rassismus und menschenfeindlichen Äußerungen entgegenzutreten. \nDer Workshop richtet sich an (ehrenamtlich) Engagierte und Interessierte. \nAlle sind herzlich eingeladen\, teilzunehmen und gemeinsam an einem respektvollen und toleranten Miteinander im Landkreis Meißen zu arbeiten. \nEine Kooperation zwischen Meißner Stimmen\, Buntes Meißen – Bündnis für Zivilcourage e.V. und dem Projekt „Spot on! Engagement sehen. Strukturen stärken“ des Kulturbüros Dresden e.V. \nAmanda Luna ist Bildungsreferentin in der politischen Bildung und Gesundheitsberaterin und hat mit Schulen\, Universitäten\, Vereinen\, Initiativen und Kommunen auf vielfältigste Weise zusammengearbeitet. In über sechs Jahren konnte sie in diversen Projekten\, Netzwerken und Beratungen auf lokaler\, regionaler und (inter)nationaler Ebene in Deutschland\, den Niederlanden\, Peru\, Mexiko und Brasilien ein enormes Maß an Erfahrung sammeln. Hier hat sie erfolgreiche Konzepte für ein transformatives\, nachhaltiges und sozial integratives Bildungssystem in die Praxis umgesetzt. Sie arbeitet mit partizipativen\, integrativen und machtkritischen Ansätzen sowie einer dekolonialen Perspektive. \nHier könnt ihr mehr über Amanda Luna erfahren: https://amandaluna.net/ \nAnmeldung bis zum 9. August 2024 an: \nNora Zeising (sie/ihr) – Projekt „SpotOn! Engagement sehen. Strukturen stärken“\nnora.zeising@kulturbuero-dresden.de\nKulturbüro Dresden\nSchweizer Str. 32\, 01069 Dresden\nTelefon Büro: 0351 407 662 53 Telefon mobil: 0176 95275796 \nwww.kulturbuero-dresden.de\nhttps://www.instagram.com/kulturbuerodd \nWeitere Informationen\n 
URL:https://www.tolerantes-sachsen.de/veranstaltung/zusammen-stark-engagiert-argumentationsworkshop-meissen/
LOCATION:Landkreis Meißen
CATEGORIES:Seminar | Workshop
END:VEVENT
BEGIN:VEVENT
DTSTART;VALUE=DATE:20240823
DTEND;VALUE=DATE:20240826
DTSTAMP:20260425T210526
CREATED:20240808T113711Z
LAST-MODIFIED:20240808T113711Z
UID:26838-1724371200-1724630399@www.tolerantes-sachsen.de
SUMMARY:Herz in der Hand Festival | Zittau
DESCRIPTION:Das Herz ist der Sitz des Mutes\, der Entschlossenheit und der Tatkraft. Die Hand steht für Handeln und aktiv sein.\nDas Festival „Herz in der Hand“ zeigt\, wie reich die Region Oberlausitz an Kreativität\, Kultur\, Courage und Engagement ist. Es zeigt\, dass Verschwörung\, Diskriminierung\, Hass und Hetze zwar laut\, aber doch nur Zeichen von Armut sind.\nZwei Wochen wird es durch Organisationen und Engagierte aus der Region eine Vielzahl verschiedenster Veranstaltungen zu den Themen Gesellschaft\, Demokratie\, Kunst\, Politik oder Kultur geben. Höhepunkt wird ein 3-tägiges Open Air auf dem Zittauer Marktplatz mit einem hochinteressanten Rahmenprogramm sein.\n\nHallo Welt – schaut zu uns\, schaut genau hin. Viele Aktive hier in Sachsen gestalten seit Jahrzehnten die Gesellschaft. Es gibt hier Menschen mit Kultur\, Leute mit Anstand\, Engagierte auf vielen Gebieten\, Politiker mit Verstand\, Verteidiger der Demokratie\, Liebhaber von Kunst und Genuss. Es schmerzt uns\, wenn ihr uns auf 30% AfD-Wähler oder Nazis aller Couleur und ihre Umtriebe reduziert.\n\nWir zeigen euch einen kleinen Ausschnitt unserer Aktivitäten\, wollen eure Aufmerksamkeit. Wir tun das\, was wir immer tun – wir nehmen das Herz in die Hand und wehren uns gegen Einfalt und Dummheit mit Kreativität\, Phantasie und Offenheit. Wir geraten mit unseren Aktivitäten immer stärker unter Druck\, wir brauchen immer mehr Courage\, Mut und Solidarität und doch bleiben wir dran und aktiv! Wir wollen\, dass ihr uns seht\, von uns erzählt\, uns unterstützt\, wo es euch möglich ist.\n\nHallo Oberlausitz – wir laden euch ein eine Menge Angebote zu nutzen oder gern auch aktiv mitzugestalten. In Ausstellungen\, Diskussionen\, Lesungen und Kunst werden Kultur\, Politik\, Leben und Gesellschaft zentrale Themen sein. Zwei Wochen lang wollen wir deutlich machen\, wie engagierte Menschen viele Bereiche unserer Gesellschaft bereichern. Kommt zum Tanzen und Musik hören\, informiert euch und saugt Interessantes auf\, schaut euch Schönes und Aufklärendes an.\n\nWir sind mehr – mit vielen Aktivitäten\, an vielen Orten\, mit vielen Menschen – Vielfalt eben. Seid euch bewusst was wir haben\, was wir sicher auch gemeinsam verbessern können. Was aber auch in Gefahr ist. Versprecht uns\, dass ihr wählen geht! Wir machen uns nämlich große Sorgen. Bei der Landtagswahl geht es um richtig viel. Wir müssen unsere Demokratie\, unsere Freiheit\, unsere Kultur und unsere Menschlichkeit gegen Rechtsextremisten verteidigen. Daher kommt vorbei\, nutzt die Angebote\, schaut euch an\, was eine demokratische\, weltoffene Gesellschaft ausmachen kann und stellt euch deutlich gegen Einfalt\, Lüge\, Hass und Menschenverachtung.\n\nWir alle sind Demokratie! Wir alle können unser Herz in die Hand nehmen! Macht mit!\n\nACTS OPEN-AIR 23.-25. AUGUST\nKAPELA TIMINGERIU // TYGROO // DAUERWELLE WASSERSTOFF // LENIWIEC // UMFYR // // HEINZ RATZ //GISPERT ZU KNYPHAUSEN // BRITANNIA THEATRE // JASCHA NEMTSOV // LARES PLANTAS // ALLA // MARKUS MASCHER // REIMTEUFEL // ALLA // NOBSILITO // JAYMON // uvm.\n\nKURZFILMKINO FUNKELFIX // DIE ZIRKUSPAUSE // POSTAMT FÜR DEMOKRATIE // JKON LINOLDRUCK // FLIPPO – DAS KINDERMAGAZIN // ZUMBA // KUNSTTURM // ARABISCHES KAFFEEZELT // TEXTILDRUCK KLJB // PLAKATWORKSHOP // FANTASIEFÄNGER // HENNA // ALLAS HEART BUTTONS // uvm.\n\nSONNTAG (Bündnis Demokratische Oberlausitz)BUNTER BRUNCH mit Musik // DEMOKRATIE-DEMO // SCHÖNER LAND // OPEN SPACE // u.v.m.\n\nRAHMENPROGRAMM 16.-31. AUGUST\nAUSSTELLUNGEN // KINO // VORTRÄGE // PODIUMSDISKUSSION // WORKSHOP // PARTY // u.v.m.\n\nDas gesamte Programm findet ihr in Kürze unter:www.herzinderhand.com\n\nMitmachen:\nhttps://www.ehrensache.jetzt/…/herz-der-hand-festival…\noder direkt an: bob@augenauf.net\n\nUnterstützung:https://www.betterplace.org/…/140635-herz-in-der-hand…
URL:https://www.tolerantes-sachsen.de/veranstaltung/herz-in-der-hand-festival-zittau/
LOCATION:Landkreis Görlitz
CATEGORIES:Festival | Feier | Jubiläum
END:VEVENT
BEGIN:VEVENT
DTSTART;TZID=Europe/Berlin:20240825T173000
DTEND;TZID=Europe/Berlin:20240825T183000
DTSTAMP:20260425T210526
CREATED:20240809T093057Z
LAST-MODIFIED:20240809T093057Z
UID:26864-1724607000-1724610600@www.tolerantes-sachsen.de
SUMMARY:Zusammen Zukunft gestalten: Ehrenamtsbörse Migration & Vielfalt im Landkreis Meißen | digital
DESCRIPTION:Ihr wollt euch im Landkreis Meißen ehrenamtlich engagieren\, wisst aber noch nicht\, wo genau? \nIhr seid selbst Teil einer Initiative oder eines Vereins und sucht nach neuen Aktiven? \nDann seid ihr genau richtig zur Ehrenamtsbörse Migration und Vielfalt! \n\nHier habt ihr die Möglichkeit\, Vereine und Initiativen\, die sich für die Interessen von geflüchteten und migrierten Menschen einsetzen\, kennenzulernen. Ihr könnt einen Einblick in deren Arbeit bekommen und erfahren\, welche Möglichkeiten es gibt\, sich hier ehrenamtlich zu engagieren. Zudem könnt ihr mit den Vertreter*innen ins direkte Gespräch kommen und eure Fragen los werden. \nDie Veranstaltung findet online via zoom statt. Solltet ihr technische Beratung brauchen\, um teilzunehmen zu können\, könnt ihr uns gern vorab kontaktieren und wir unterstützen euch. \nWir freuen uns auf eure Teilnahme! \n👉Anmeldung für Initativen\, die Ehrenamtliche suchen: bis 12.8. \n👉Anmeldung für interessierte Ehrenamtliche: bis 13.9. \nAnmeldung an: nora.zeising@kulturbuero-dresden.de | 0176 95275796 \nEine Veranstaltung des Kulturbüro Dresden e.V. im Rahmen des Projekts „Spot on! Qualifizierung und Professionalisierung migrantischer Strukturen in den Landkreisen Meißen\, Mittelsachsen und Sächsische Schweiz/Osterzgebirge“ \nWeitere Informationen
URL:https://www.tolerantes-sachsen.de/veranstaltung/zusammen-zukunft-gestalten-ehrenamtsboerse-migration-vielfalt-im-landkreis-meissen-digital/
LOCATION:digital
CATEGORIES:Vernetzung
END:VEVENT
BEGIN:VEVENT
DTSTART;VALUE=DATE:20240830
DTEND;VALUE=DATE:20240902
DTSTAMP:20260425T210526
CREATED:20240415T090820Z
LAST-MODIFIED:20240826T140726Z
UID:24787-1724976000-1725235199@www.tolerantes-sachsen.de
SUMMARY:ÜBERLAND Festival | Görlitz
DESCRIPTION:Das Überland ist unser überregionales Zusammenkommen aller Landaktivist*innen. Ein Fest für alle Menschen\, die das Landleben neugestalten – zum Feiern\, Austauschen\, Werken\, Ausprobieren und Vernetzen. \nDie Anmeldung ist geöffnet und wir freuen uns auf eure Angebote zur Mitwirkung! \n\n\nMit jeder Menge Diskussionen\, Workshops\, Vernetzungstreffen\, inspirierenden Projekten\, Ausstellungen und natürlich bei toller Musik und bestem Essen werden wir die Aktiven der ländlichen Räume feiern. Dieses Jahr beginnen wir am Freitag schon etwas früher – und bieten euch Workshops\, die etwas zeitintensiver sein dürfen. Am Freitag Abend nehmen wir feierlich die Neulandgewinner der neuen Runde ins Programm auf.\nUnd wie jedes Jahr laden wir euch ein\, miteinander ins Gespräch zu kommen und den Erfahrungsaustausch selbst zu gestalten. Reicht bis zum 31. Mai eure Ideen und Angebote für das Programm ein! \nFreitag\, 30.8.2024\n12 Uhr     Festivalstart mit Offenen Werkstätten zu Kultur und Handwerk\n19 Uhr     Feierliche Aufnahme der Neulandgewinner Förderrunde 7\nanschl.    Abendprogramm mit Musik und Kultur \nSamstag\, 31.8.2024\n8 bis 10 Uhr     Netzwerkfrühstück auf dem Festivalgelände\n10 bis 18 Uhr   ÜBERLAND zu den Festival Themen\n19 Uhr              Abendprogramm mit Musik und Kultur \nSonntag\, 1.9.2024\n8 bis 12 Uhr     Netzwerkfrühstück auf dem Festivalgelände \n\n\nThemen \nMITEINANDER oder NEBENEINANDER?\nWo kulturelle Vielfalt sich begegnet und welche (Frei-)Räume sie braucht \n\n\n\n\n\n\n\n\n\n\n\nEine vielfältige Engagementkultur entsteht nicht von selbst. Menschen mit unterschiedlichen biographischen und kulturellen Hintergründen haben oft eigene Themen und Bedarfe\, für deren Bearbeitung sie Räume und Ressourcen benötigen. Daneben findet sich das eingespielte Engagement der Alteingesessenen\, in dem sich Zugezogene oftmals nicht wiederfinden. Wir wollen uns daher mit den Erfahrungen des gegenseitigen Abtastens und der Suche nach guten Lösungen für ein vielfältiges Miteinander auf dem Land beschäftigen: In welchen Momenten entsteht Begegnung? Wie werden gemeinsame Formen und Inhalte ausgehandelt und gefunden? Wann entsteht Reibung? Und wie kann aus Reibung Wärme werden? \nGEMEINSCHAFTLICH BESITZEN\nEigentum für eine sozial-ökologische Transformation \n\n\nAngesichts der gängigen Praxis\, unsere Umwelt in Wert zu setzen und soziale Ungleichheit zu vertiefen\, widmen sich Akteur*innen neuen Umgangsformen mit und Aneignungen von Eigentum. Wir wollen genauer hinschauen und ausprobieren\, wie Besitzen in einer profitorientierten Gesellschaft gemeinschaftlich geht\, wie wir Grenzen der Gemeinschaft und der Natur wahren können und welche Herausforderungen mit gemeinschaftlichem Besitz einhergehen. \nWIR HABEN DIE WAHL!\nMutige und ermutigende Perspektiven und Ansätze der vielen\, die wir sind \n\n\nPraktische Demokratiearbeit in ländlichen Räumen findet in einem breiten Spektrum zwischen lokalem Engagement\, Aktivismus gegen Rechtsextremismus und der Mitarbeit in kommunalpolitischen Gremien statt. Die Demonstrationen gegen Rechtsextremismus setzen 2024 ein wichtiges Zeichen und haben auch in ländlichen Regionen viele Menschen sensibilisiert und aktiviert. Wir laden ein zum Austausch über Praktiken\, Strategien und Mittel\, mit denen eine lebendige Demokratie\, Vielfalt und Toleranz vor Ort auf dem Land gestärkt werden können. Denn gerade in den Dörfern und Kleinstätten braucht es das beständige Engagement und den Mut einzelner\, um eine demokratische Kultur der Offenheit und des Respekts zu fördern. Geplante Kooperation: Demokratie AG Ostsachsen \n\n\n\n\nWollt ihr auch mitwirken? \n\n\n\n\nDas Festival lebt von Menschen\, die es mitgestalten! Deshalb bieten wir viel Raum für Mitwirkung und Sichtbarkeit – das Gelände ist groß! Wenn ihr Lust und Ideen habt\, dann schreibt uns und erläutert kurz: \n\n\n\n\n1) wer ihr seid\,\n2) was ihr beitragen wollt\,\n3) welche Anforderungen an Platz\, Technik oder zeitliche Eintaktung ihr habt. \n\n\n\n\nWir freuen uns auf eure Ideen! \nIdeen einreichen\nWeitere Informationen\nAnmeldung\nOrt\nKühlhaus Görlitz\nAm Bahnhof Weinhübel 2\n02827 Görlitz\nkontakt@kuehlhaus-goerlitz.de
URL:https://www.tolerantes-sachsen.de/veranstaltung/ueberland-festival-goerlitz/
LOCATION:Landkreis Görlitz
CATEGORIES:Festival | Feier | Jubiläum
END:VEVENT
END:VCALENDAR