BEGIN:VCALENDAR
VERSION:2.0
PRODID:-//Netzwerk Tolerantes Sachsen - ECPv6.15.18//NONSGML v1.0//EN
CALSCALE:GREGORIAN
METHOD:PUBLISH
X-WR-CALNAME:Netzwerk Tolerantes Sachsen
X-ORIGINAL-URL:https://www.tolerantes-sachsen.de
X-WR-CALDESC:Veranstaltungen für Netzwerk Tolerantes Sachsen
REFRESH-INTERVAL;VALUE=DURATION:PT1H
X-Robots-Tag:noindex
X-PUBLISHED-TTL:PT1H
BEGIN:VTIMEZONE
TZID:Europe/Berlin
BEGIN:DAYLIGHT
TZOFFSETFROM:+0100
TZOFFSETTO:+0200
TZNAME:CEST
DTSTART:20230326T010000
END:DAYLIGHT
BEGIN:STANDARD
TZOFFSETFROM:+0200
TZOFFSETTO:+0100
TZNAME:CET
DTSTART:20231029T010000
END:STANDARD
BEGIN:DAYLIGHT
TZOFFSETFROM:+0100
TZOFFSETTO:+0200
TZNAME:CEST
DTSTART:20240331T010000
END:DAYLIGHT
BEGIN:STANDARD
TZOFFSETFROM:+0200
TZOFFSETTO:+0100
TZNAME:CET
DTSTART:20241027T010000
END:STANDARD
BEGIN:DAYLIGHT
TZOFFSETFROM:+0100
TZOFFSETTO:+0200
TZNAME:CEST
DTSTART:20250330T010000
END:DAYLIGHT
BEGIN:STANDARD
TZOFFSETFROM:+0200
TZOFFSETTO:+0100
TZNAME:CET
DTSTART:20251026T010000
END:STANDARD
END:VTIMEZONE
BEGIN:VEVENT
DTSTART;VALUE=DATE:20240830
DTEND;VALUE=DATE:20240902
DTSTAMP:20260425T183211
CREATED:20240415T090820Z
LAST-MODIFIED:20240826T140726Z
UID:24787-1724976000-1725235199@www.tolerantes-sachsen.de
SUMMARY:ÜBERLAND Festival | Görlitz
DESCRIPTION:Das Überland ist unser überregionales Zusammenkommen aller Landaktivist*innen. Ein Fest für alle Menschen\, die das Landleben neugestalten – zum Feiern\, Austauschen\, Werken\, Ausprobieren und Vernetzen. \nDie Anmeldung ist geöffnet und wir freuen uns auf eure Angebote zur Mitwirkung! \n\n\nMit jeder Menge Diskussionen\, Workshops\, Vernetzungstreffen\, inspirierenden Projekten\, Ausstellungen und natürlich bei toller Musik und bestem Essen werden wir die Aktiven der ländlichen Räume feiern. Dieses Jahr beginnen wir am Freitag schon etwas früher – und bieten euch Workshops\, die etwas zeitintensiver sein dürfen. Am Freitag Abend nehmen wir feierlich die Neulandgewinner der neuen Runde ins Programm auf.\nUnd wie jedes Jahr laden wir euch ein\, miteinander ins Gespräch zu kommen und den Erfahrungsaustausch selbst zu gestalten. Reicht bis zum 31. Mai eure Ideen und Angebote für das Programm ein! \nFreitag\, 30.8.2024\n12 Uhr     Festivalstart mit Offenen Werkstätten zu Kultur und Handwerk\n19 Uhr     Feierliche Aufnahme der Neulandgewinner Förderrunde 7\nanschl.    Abendprogramm mit Musik und Kultur \nSamstag\, 31.8.2024\n8 bis 10 Uhr     Netzwerkfrühstück auf dem Festivalgelände\n10 bis 18 Uhr   ÜBERLAND zu den Festival Themen\n19 Uhr              Abendprogramm mit Musik und Kultur \nSonntag\, 1.9.2024\n8 bis 12 Uhr     Netzwerkfrühstück auf dem Festivalgelände \n\n\nThemen \nMITEINANDER oder NEBENEINANDER?\nWo kulturelle Vielfalt sich begegnet und welche (Frei-)Räume sie braucht \n\n\n\n\n\n\n\n\n\n\n\nEine vielfältige Engagementkultur entsteht nicht von selbst. Menschen mit unterschiedlichen biographischen und kulturellen Hintergründen haben oft eigene Themen und Bedarfe\, für deren Bearbeitung sie Räume und Ressourcen benötigen. Daneben findet sich das eingespielte Engagement der Alteingesessenen\, in dem sich Zugezogene oftmals nicht wiederfinden. Wir wollen uns daher mit den Erfahrungen des gegenseitigen Abtastens und der Suche nach guten Lösungen für ein vielfältiges Miteinander auf dem Land beschäftigen: In welchen Momenten entsteht Begegnung? Wie werden gemeinsame Formen und Inhalte ausgehandelt und gefunden? Wann entsteht Reibung? Und wie kann aus Reibung Wärme werden? \nGEMEINSCHAFTLICH BESITZEN\nEigentum für eine sozial-ökologische Transformation \n\n\nAngesichts der gängigen Praxis\, unsere Umwelt in Wert zu setzen und soziale Ungleichheit zu vertiefen\, widmen sich Akteur*innen neuen Umgangsformen mit und Aneignungen von Eigentum. Wir wollen genauer hinschauen und ausprobieren\, wie Besitzen in einer profitorientierten Gesellschaft gemeinschaftlich geht\, wie wir Grenzen der Gemeinschaft und der Natur wahren können und welche Herausforderungen mit gemeinschaftlichem Besitz einhergehen. \nWIR HABEN DIE WAHL!\nMutige und ermutigende Perspektiven und Ansätze der vielen\, die wir sind \n\n\nPraktische Demokratiearbeit in ländlichen Räumen findet in einem breiten Spektrum zwischen lokalem Engagement\, Aktivismus gegen Rechtsextremismus und der Mitarbeit in kommunalpolitischen Gremien statt. Die Demonstrationen gegen Rechtsextremismus setzen 2024 ein wichtiges Zeichen und haben auch in ländlichen Regionen viele Menschen sensibilisiert und aktiviert. Wir laden ein zum Austausch über Praktiken\, Strategien und Mittel\, mit denen eine lebendige Demokratie\, Vielfalt und Toleranz vor Ort auf dem Land gestärkt werden können. Denn gerade in den Dörfern und Kleinstätten braucht es das beständige Engagement und den Mut einzelner\, um eine demokratische Kultur der Offenheit und des Respekts zu fördern. Geplante Kooperation: Demokratie AG Ostsachsen \n\n\n\n\nWollt ihr auch mitwirken? \n\n\n\n\nDas Festival lebt von Menschen\, die es mitgestalten! Deshalb bieten wir viel Raum für Mitwirkung und Sichtbarkeit – das Gelände ist groß! Wenn ihr Lust und Ideen habt\, dann schreibt uns und erläutert kurz: \n\n\n\n\n1) wer ihr seid\,\n2) was ihr beitragen wollt\,\n3) welche Anforderungen an Platz\, Technik oder zeitliche Eintaktung ihr habt. \n\n\n\n\nWir freuen uns auf eure Ideen! \nIdeen einreichen\nWeitere Informationen\nAnmeldung\nOrt\nKühlhaus Görlitz\nAm Bahnhof Weinhübel 2\n02827 Görlitz\nkontakt@kuehlhaus-goerlitz.de
URL:https://www.tolerantes-sachsen.de/veranstaltung/ueberland-festival-goerlitz/
LOCATION:Landkreis Görlitz
CATEGORIES:Festival | Feier | Jubiläum
END:VEVENT
BEGIN:VEVENT
DTSTART;TZID=Europe/Berlin:20240907T093000
DTEND;TZID=Europe/Berlin:20240907T173000
DTSTAMP:20260425T183211
CREATED:20240902T114028Z
LAST-MODIFIED:20240902T114028Z
UID:27214-1725701400-1725730200@www.tolerantes-sachsen.de
SUMMARY:ZEOK lädt zum Spaziergang ein! | Leipzig
DESCRIPTION:Einige Etappen der ZEOK Geschichte\nIm Rahmen der Interkulturellen Wochen und anlässlich seines 20-jährigen Jubiläums hat ZEOK e.V. ein Programm zusammengestellt\, das Aspekte und Aktivitäten des Vereins widerspiegelt. Für alle\, die mehr über ZEOK wissen und persönlich kennenlernen wollen! \nDatum: 07.09.2024\, mit mehreren Stationen / Angeboten\nAnmeldung: bitte für jede Station des Spaziergangs via Email an Mais Alhamwi mais.alhamwi@zeok.de \nStationen\n1. Von Schätzen und Geschichten\n9:30 – 10:30 Uhr: Grassi-Museum\, Johannisplatz 5-11\, 04103 Leipzig\nEin Blick auf den Anfang des ZEOK e.V. und die geschichtsträchtige Schmucksammlung von Dr. Umit Bir. Diese sollte in den 2000ern eine neue Heimat im Leipziger Grassi-Museum für Völkerkunde finden. Allerdings war es auch Dr. Bir’s Auftrag\, die vielen damit verbundenen Geschichten am Leben zu erhalten. \n2. Besuch der Pagode der vietnamesisch-buddhistischen Gemeinde\n11:30 – 13:30 Uhr: Pagode\, Kamenzer Straße 1\, 04347 Leipzig\nDie Pagode der vietnamesisch-buddhistischen Gemeinde ist ein offener Ort der Begegnung\, des Glaubens\, der Zugehörigkeit zu einer Gemeinschaft. Im Gespräch mit Gemeindemitgliedern können Interessierte diesen verschiedenen Ebenen des Ortes nachspüren und sich beim gemeinsamen Mittagessen dazu austauschen. \n3. Workshop: Transkulturelle & rasissmussensible Bildungsangebote für Kinder\n14:30 – 17:30 Uhr: Dresdner59\, Dresdener Straße 59\, 04317 Leipzig\nWie können Schulen in postmigrantischer Gesellschaft für Zugehörigkeitsnarrative von Schüler:innen sorgen? Dieser Frage gehen die Peertrainerinnen Beyza Beroje und Neria Elias gemeinsam mit der ZEOK-Bildungsreferentin Katrin Pausch nach. Sie stellen Methoden transkultureller und diskriminierungssensibler Bildungsarbeit für Grundschulkinder vor und laden herzlich zum Austausch darüber ein. \nBitte melden Sie sich für jeden Programmpunkt\, an dem Sie teilnehmen möchten\, bei Mais Alhamwi an. \nUnd es wird weiter gefeiert: am 12.09. in der Alten Handelsbörse findet die ZEOK Jubiläumsfeier statt! Und vom 13. bis 15.09. feiern wir transtraditionelle Musik auf dem Roots and Sprouts Festival in der Kulturnhalle. \nWeitere Informationen
URL:https://www.tolerantes-sachsen.de/veranstaltung/zeok-laedt-zum-spaziergang-ein-leipzig/
LOCATION:Stadt Leipzig
CATEGORIES:Aktionstag,Seminar | Workshop
END:VEVENT
BEGIN:VEVENT
DTSTART;TZID=Europe/Berlin:20240907T140000
DTEND;TZID=Europe/Berlin:20240907T170000
DTSTAMP:20260425T183211
CREATED:20240827T100932Z
LAST-MODIFIED:20240827T100932Z
UID:27113-1725717600-1725728400@www.tolerantes-sachsen.de
SUMMARY:Du bist nicht allein | Meißen
DESCRIPTION:Am 07.09.2024 gibt es im Internationalen Garten Meißen eine Veranstaltung für Menschen mit Diskrimminierungs- und/oder Gewalterfahrungen. Es wird Raum und Zeit geben für Austausch und für ein gemeinsames Picknick wird der Lehmbackofen eingeheizt. \nBitte unterstützt uns bei der Bekanntmachung diese Veranstaltung. Ladet Betroffene ein zu uns zu kommen\, verteilt Flyer\, kommt selbst mit Betroffenen vorbei. \n07.09.2024 – 14 Uhr bis 17 Uhr\, Internationaler Garten Meißen \nVeranstalter: Buntes Meißen e.V. in Zusammenarbeit mit mit RAA Sachsen und dem Antidiskriminierungsbüro Sachsen. \nMehr Informationen
URL:https://www.tolerantes-sachsen.de/veranstaltung/du-bist-nicht-allein-meissen/
LOCATION:Landkreis Meißen
CATEGORIES:Aktionstag,Vernetzung
END:VEVENT
BEGIN:VEVENT
DTSTART;TZID=Europe/Berlin:20240909T150000
DTEND;TZID=Europe/Berlin:20240909T200000
DTSTAMP:20260425T183211
CREATED:20240826T130012Z
LAST-MODIFIED:20240826T140325Z
UID:27100-1725894000-1725912000@www.tolerantes-sachsen.de
SUMMARY:Sensibel gegen Antiziganismus | Amaro Filmos - Wir sind hier! | Dresden
DESCRIPTION:Workshop „Sensibel gegen Antiziganismus“\nIm Projektraum „Gemeinsam Mittendrin 60+“\, Hauptstr 42-44 in 01099 Dresden\, Beginn 09.09.2024\, 15.00 Uhr\, Ende 17.00 Uhr \nWarum wissen wir eigentlich so wenig über Sinti und Roma? In dem zweistündigen Workshop beleuchten wir die historische Kontinuität der Diskriminierung von Sinti und Roma\, gehen auf Ihre Fragen ein und möchten neue Perspektiven aufzeigen. Das Angebot ist offen für alle und soll einen Einstieg ins Thema bieten. \nKeine Anmeldung nötig. Mehr Informationen \nAnschließend: \nFilmvorführung mit Gespräch „Amaro Filmos – Wir sind hier!“\nIm Projektraum „Gemeinsam Mittendrin 60+“\, Hauptstr 42-44 in 01099 Dresden\, Beginn 09.09.2024\, 18.00 Uhr\, Ende 20.00 Uhr \nIn „Amaro Filmos“ (auf Romanes „Unser Film“) geben junge Roma* aus Berlin einen Einblick in ihr Leben und in ihre Gedankenwelt. Mit Humor und Selbstbewusstsein beantworten sie die Fragen: Wie sehen wir uns? Wie werden wir von anderen gesehen? Und was bewegt uns? Der partizipativ entwickelte Dokumentarfilm beleuchtet nicht nur die Träume\, Zukunftswünsche und Rollenbilder einer Generation\, sondern auch brennende gesellschaftliche Probleme: Rassismus\, Gentrifizierung und die damit einhergehende räumliche Verdrängung einer ganzen Community. \nKeine Anmeldung nötig. Eine Veranstaltung des riesa efau. Kultur Forum Dresden\, des Projekts WIR SIND HIER! von RomaTrial e.V.\, des Bündnis gegen Rassismus – für ein gerechtes und menschenwürdiges Sachsen und Begegnungs- und Beratungsstelle BÜLOWH / Diakonie Dresden. \nMehr Informationen
URL:https://www.tolerantes-sachsen.de/veranstaltung/sensibel-gegen-antiziganismus-amaro-filmos-wir-sind-hier-dresden/
LOCATION:Stadt Dresden
CATEGORIES:Film,Seminar | Workshop
END:VEVENT
BEGIN:VEVENT
DTSTART;VALUE=DATE:20240912
DTEND;VALUE=DATE:20240917
DTSTAMP:20260425T183211
CREATED:20240626T093105Z
LAST-MODIFIED:20240626T093105Z
UID:25999-1726099200-1726531199@www.tolerantes-sachsen.de
SUMMARY:Bildungsreise OST-WEST | Dortmund
DESCRIPTION:Wir wollen einander begegnen\, uns austauschen\, voneinander (ver)lernen\, Perspektiv- und Ballwechsel ermöglichen. Zwei Festivals\, eines im Osten des Landes – Der Rahmen ist Programm (DRiP) und das Projekt #Heimspiel des ASA-FF in Chemnitz\, eines im Westen – FAVORITEN in Dortmund. Beide sind Teil des bundesweiten Festivalverbundes FESTIVALFRIENDS und wollen einen Dialog zwischen „Ost und West“ auf verschiedenen Ebenen initiieren und ihre gemeinsame Kooperation vertiefen. In mehreren Veranstaltungsformaten soll dabei über die Verbindung von Kunst\, Diskurs und Fußball ein Begegnungsraum für Vielfalt\, Toleranz und Demokratie entstehen. \nWas wissen die beiden Städte Dortmund und Chemnitz bereits voneinander\, was verbindet und was trennt sie? Welche politischen Achsen verlaufen aktuell? Was können Kunst und Kultur für Perspektivwechsel und gegenseitige Teilhabe tun? Welche Leerstellen in der Aufarbeitung des Mauerfalls und der deutschen Teilung werden rechten Kräften überlassen? Welche Auswirkungen haben diese Entwicklung auf Kunst und Zivilgesellschaft bereits jetzt. Vor diesem Hintergrund scheint ein gemeinsamer bundesweiter Austausch und eine Vernetzung zwischen Ost und West für den Erhalt von Vielfalt und Toleranz in Kunst und Zivilgesellschaft essenziell. Ausgehend von der Schwerpunktsetzung der Ost-West | West-Ost Werkstatt wollen wir hierfür nicht übereinander\, sondern miteinander sprechen\, verschiedene Perspektiven kennenlernen und miteinander in Aktion\, genauer: auf den Rasen treten. \nBewerbung bis spätestens 31. Juli 2024 hier \nProgramm Bildungsreise Chemnitz-Dortmund (Stand Juni 2024)\nDonnerstag\, 12. September\nAnreise mit dem Zug\nBezug der Unterkunft (DJH)\nBesuch der Gedenkstätte für Mehmet Kubaşık\nAbends Treffen/Rundgang mit Fußballakteuren \nFreitag\, 13. September\nKleingruppenbesuche (Kultur\, Verwaltung\, Vereine\, Initiativen) \nSamstag\, 14. September\nPODIUM & WORKSHOPS: Politische Entwicklungen und Angriffe auf Kunst und Kultur\nPodiumsdiskussion und Workshops \nSonntag\, 15. September\nTURNIER & FEST: Fußball trifft Kunst & Diskurs\nFußballturnier mit Kunstinterventionen innerhalb des Festivals Favoriten\nAbschlussparty des Festivals Favoriten \nMontag\, 16. September\nRückreise mit dem Zug \nEin Digitales Vortreffen aller Mitreisenden findet am Montag 12. August um 18 Uhr statt.\n \nKosten:\nKostenfrei gestellt wird: Unterkunft in Mehrbettzimmer (2-4Bettzimmer) inklusive Frühstück\, Reise Chemnitz-Dortmund-Chemnitz\, Reiseplanung und Inhalte\, 1 Vernetzungsabendessen mit Partner*innen\, Referent*innenhonorare und Eintritte \nKosten für Mitreisende\, die selbst zu tragen sind: Verpflegung (Ausnahme Frühstück und 1 Abendessen) – kommt bitte auf uns zu\, wenn wir hier unterstützen können. \nWir freuen uns auf eure Bewerbungen! \nWeitere Informationen
URL:https://www.tolerantes-sachsen.de/veranstaltung/bildungsreise-ost-west-dortmund/
LOCATION:Stadt Chemnitz
CATEGORIES:Bildungsreise | Bildungstag
END:VEVENT
BEGIN:VEVENT
DTSTART;TZID=Europe/Berlin:20240912T163000
DTEND;TZID=Europe/Berlin:20240912T210000
DTSTAMP:20260425T183211
CREATED:20240506T094829Z
LAST-MODIFIED:20240618T083556Z
UID:25095-1726158600-1726174800@www.tolerantes-sachsen.de
SUMMARY:Jubiläumsfeier: 20 Jahre ZEOK | Leipzig
DESCRIPTION:SAVE THE DATE: 12.09.2024 in der Alten Handelsbörse\nWir feiern in diesem Jahr das 20jährige Bestehen von ZEOK e.V. und laden am 12. September 2024 herzlich zum Jubiläum in die Alte Handelsbörse in Leipzig ein! \nWerfen Sie gemeinsam mit uns einen Blick auf die spannende Vereins-Geschichte\, auf die erstaunlichen Projekte und Veranstaltungen\, die ZEOK in den letzten 20 Jahren realisiert und sich so in Leipzig sowie bundesweit einen Namen gemacht hat. \nAusgangspunkt für die Gründung des Vereins war die „Schmucksammlung Dr. Bir“\, die sich auf die Regionen Südosteuropas\, des Mittelmeerraums sowie Südwest- und Zentralasiens bezieht. Seitdem gab es einige Veränderungen. ZEOK ist gewachsen und befindet sich momentan in einem tiefergehenden Prozess der Selbstreflexion. Was uns weiterhin – ganz im Sinne des Stiftungsgebers Dr. Bir – eint\, ist unser Engagement für eine gerechte\, diskriminierungskritische und inklusive Gesellschaft. Mit unseren Projekten schaffen wir Räume für Begegnung\, Erfahrungs- und Wissensaustausch und ermöglichen das Entstehen neuer Verbindungen. \nHighlight der Jubiläumsfeier werden sicherlich die musikalischen Darbietungen der ZEOK Projekte ChorAlle\, Risha und der Gruppe Sonsonar für das Projekt Roots&Sprouts.\nFeiern Sie mit uns diesen besonderen Meilenstein! \nOrt\nAlte Handelsbörse\nNaschmarkt 1\n04109 Leipzig \nWeitere Informationen
URL:https://www.tolerantes-sachsen.de/veranstaltung/jubilaeumsfeier-20-jahre-zeok-leipzig/
CATEGORIES:Festival | Feier | Jubiläum
END:VEVENT
BEGIN:VEVENT
DTSTART;VALUE=DATE:20240913
DTEND;VALUE=DATE:20240916
DTSTAMP:20260425T183211
CREATED:20240902T114228Z
LAST-MODIFIED:20240902T120004Z
UID:27216-1726185600-1726444799@www.tolerantes-sachsen.de
SUMMARY:Roots & Sprouts Festival 2024 – „moving rituals“ | Leipzig
DESCRIPTION:Feiert mit uns drei Tage lang die verschiedensten Spielarten\naktueller transtraditioneller Musik! \nWann: 13.-15. September 2024\nWo: Kulturnhalle – Connewitzer Str. 6\, 04289 Leipzig \n\n\nDas Roots & Sprouts Festival für aktuelle transtraditionelle Musik findet im Jahr 2024 zum vierten Mal in und um die Leipziger Kulturnhalle statt. Das Festival versammelt lokale\, überregionale und internationale Künstler*innen\, die unterschiedliche Musiktraditionen aufgreifen und neu interpretieren…\n\n…So treffen etwa brasilianische Samba-Rhythmen auf elektronisch-experimentelle Klänge und Ethio-Jazz oder afrokaribische Sounds auf Leipziger Clubkultur. Damit wollen wir den künstlerischen Austausch von Leipziger Musiker*innen mit anderen deutschen und internationalen Musikszenen unterstützen und zeigen\, dass Musik vermeintlich feste kulturelle Grenzen sprengen kann. \nAn drei Tagen vom 13. bis 15. September könnt ihr ein facettenreiches Programm an Konzerten\, Workshops\, feinsten DJ – Sets\, Kinderprogramm und vielem mehr erleben. Das Festival startet am Freitag ab 19Uhr mit zwei Konzerten in der Kulturnhalle. Samstag und Sonntag finden bereits ab 15 Uhr Konzerte in der Halle sowie auf der Festivalwiese statt. \nDer Eintritt zu allen Konzerten und Programmpunkten ist kostenlos. \nWeitere Informationen & Programm
URL:https://www.tolerantes-sachsen.de/veranstaltung/roots-sprouts-festival-2024-moving-rituals-leipzig/
LOCATION:Stadt Leipzig
CATEGORIES:Festival | Feier | Jubiläum
END:VEVENT
BEGIN:VEVENT
DTSTART;TZID=Europe/Berlin:20240919T180000
DTEND;TZID=Europe/Berlin:20240919T200000
DTSTAMP:20260425T183211
CREATED:20240822T162321Z
LAST-MODIFIED:20240913T115455Z
UID:27057-1726768800-1726776000@www.tolerantes-sachsen.de
SUMMARY:Die PfD im Gespräch mit ... Nina-Maria Mixtacki\, Christoph Maier & Henry Lewkowitz zu Religion und Gesellschaft | Schkeuditz
DESCRIPTION:Wir laden Sie herzlich ein zu unserer nächsten Gesprächsreihe zum Thema „Religion und Gesellschaft“. Freuen Sie sich auf spannende Diskussionen mit unseren Gästen: \nNina-Maria Mixtacki: Expertin für interreligiösen Dialog und gesellschaftliche Integration \nChristoph Meier: Theologe und Dozent für Religionswissenschaften \nHenry Lewkowitz: Sozialwissenschaftler mit Schwerpunkt auf Religion und gesellschaftlichem Wandel \n  \nGemeinsam wollen wir über die Rolle von Religion in unserer Gesellschaft\, die Herausforderungen und Chancen des interreligiösen Dialogs sowie die Auswirkungen von Religion auf soziale und kulturelle Entwicklungen sprechen. Seien Sie dabei\, wenn wir im offenen Dialog unterschiedliche Perspektiven beleuchten und gemeinsam Wege suchen\, wie Religion und Gesellschaft harmonisch und konstruktiv zusammenwirken können und die Herausforderungen der aktuellem Zeit mit gestalten. \n\nUm Anmeldung wird gebeten. Mehr Informationen.
URL:https://www.tolerantes-sachsen.de/veranstaltung/die-pfd-im-gespraech-mit-nina/
LOCATION:Landkreis Nordsachsen
CATEGORIES:Podium | Gespräch
END:VEVENT
BEGIN:VEVENT
DTSTART;TZID=Europe/Berlin:20240921T150000
DTEND;TZID=Europe/Berlin:20240921T180000
DTSTAMP:20260425T183211
CREATED:20240918T095242Z
LAST-MODIFIED:20240918T095242Z
UID:27436-1726930800-1726941600@www.tolerantes-sachsen.de
SUMMARY:Fest der Begegnung | Bautzen
DESCRIPTION:Herzliche Einladung zum 5. Fest der Begegnung auf dem Kornmarkt und Eröffnung der Interkulturellen Woche am 21.09.2024\, 15:00Uhr. Auch in diesem Jahr nehmen wieder viele Gruppen unterschiedlichster Nationalitäten an diesem Fest teil und präsentieren Bräuche\, Tänze und Lieder sowie unterschiedlichste Kulinaritäten an. Außerdem wird es wieder einen Wissensquiz geben\, der sich auf die einzelnen Stände und teilnehmenden Gruppen bezieht. \nOrt\nAm Reichenturm\nBautzen \nWeitere Informationen
URL:https://www.tolerantes-sachsen.de/veranstaltung/fest-der-begegnung-bautzen/
LOCATION:Landkreis Bautzen
END:VEVENT
BEGIN:VEVENT
DTSTART;TZID=Europe/Berlin:20240923T163000
DTEND;TZID=Europe/Berlin:20240923T190000
DTSTAMP:20260425T183211
CREATED:20240917T115230Z
LAST-MODIFIED:20240917T115230Z
UID:27408-1727109000-1727118000@www.tolerantes-sachsen.de
SUMMARY:VIELFALT ALS DER NEUE NORMALZUSTAND. Impulse zu den Gelingensbedingungen einer diversen Gesellschaft | Dresden
DESCRIPTION:Gelebte Vielfalt und Transkulturalität sind im Grunde genommen längst zu einem Alltagsphänomen geworden. \nLeider treten jedoch häufig mehr die Verwerfungszonen und Herausforderungen in den Mittelpunkt der Aufmerksamkeit – insbesondere bei erhitzten Debattenlagen sich diametral entgegenstehender Lager – als die ebenso vorhandenen\, mannigfaltigen Beispiele mit positiven Herangehensweisen und gelingenden Antwortmöglichkeiten dazu\, wie man sich in diesem Spannungsfeld positionieren kann. \nIm Seminar werden aktuelle Auffassungen sondiert\, wie Zusammenhalt in einer Gesellschaft auch angesichts größter Unterschiedlichkeit nicht per se einen unüberbrückbaren Widerspruch darstellen muss\, und anhand von konkreten Entwürfen und Modellen wie auch denkbarer Szenarien ausgelotet. \nWIR GEHEN AUF IHRE FRAGEN EIN \n\nWas gehört dazu\, damit die massive\, ja stellenweise hasserfüllte Ablehnung gegenüber Diversität überwunden und Vielfalt als Selbstverständlichkeit gelebt werden kann?\nWie könnte ein „Normalitätsmodell“ aussehen\, das verschiedenste Perspektiven\, mehrere Wurzeln und Zugehörigkeiten in sich verbindet und was kann dafür getan werden\, um es zu realisieren und Schritt für Schritt gemeinsam zu befördern?\nInwiefern können hierzu beispielsweise länger bei uns lebende\, integrierte Zugewanderte mit ihrer Geschichte und ihren Erfahrungen im Spannungsfeld zwischen Identität und Zugehörigkeit\, Unterschiedlichkeit und Gleichberechtigung nachdenkenswerte Lösungsmöglichkeiten und neue Lebensmodelle (u. a. zu dem\, was „Deutschsein“ heute bedeuten kann) an die Hand geben?\n\nWENN SIE DIESES SEMINAR BESUCHT HABEN \n\nnehmen Sie anregende Impulse mit\, um als MultiplikatorIn in Ihrem professionellen Einsatzbereich und Lebensumfeld das Engagement für Vielfalt als Normalität noch wirksamer werden zu lassen\nhaben Sie wichtigen Wissensinput mit praxisnahen Einsichten erhalten und konnten auch über Reflexion und Austausch nützliche Bestärkung für Ihre Handlungskompetenzen im Diversity-Kontext erfahren\nkonnten Sie von Informationen auf aktuellstem Stand sowie hilfreichen Tipps und Hinweisen zum Themenbereich durch einen wissenschaftlich wie praktisch erfahrenen Experten profitieren\n\nFAKTEN \n\nTermin: Montag\, 23. September 2024\, 16:30–19:00 Uhr\nVA-Ort: KOLIBRI – Kinder- und Elternzentrum e. V. | Villa der Kulturen | Kraftwerk Mitte 2 | 01067 Dresden\ndie Platzanzahl ist begrenzt – Anmeldungen werden in der Reihenfolge ihres Eingangs berücksichtigt\ndas Seminar kann aufgrund der Förderung durch den Freistaat Sachsen kostenfrei angeboten werden\nauf Wunsch erstellen wir Ihnen eine Teilnahmebescheinigung\nbei Verhinderung bitten wir um eine rechtzeitige Information über info@academy-isc.de!\n\nAnmeldung & weitere Informationen
URL:https://www.tolerantes-sachsen.de/veranstaltung/vielfalt-als-der-neue-normalzustand-impulse-zu-den-gelingensbedingungen-einer-diversen-gesellschaft-dresden/
LOCATION:Stadt Dresden
CATEGORIES:Seminar | Workshop
END:VEVENT
BEGIN:VEVENT
DTSTART;TZID=Europe/Berlin:20240926T100000
DTEND;TZID=Europe/Berlin:20240926T140000
DTSTAMP:20260425T183211
CREATED:20240722T084025Z
LAST-MODIFIED:20240826T135818Z
UID:26457-1727344800-1727359200@www.tolerantes-sachsen.de
SUMMARY:Fachveranstaltung: Anstoß eines nachhaltigen Veränderungsprozesses zur Bearbeitung von Diskriminierung in Schulen | digital
DESCRIPTION:Wir laden zur dritten Veranstaltung „Anstoß eines nachhaltigen Veränderungsprozesses zur Bearbeitung von Diskriminierung in Schulen“ am 26. September 2024 10-14 Uhr online ein. \nWir haben im Rahmen des Kompetenznetzwerks Demokratiebildung im Jugendalter u.a. mit zwei Fachveranstaltungen online im Juni 2023 und in Hannover im Februar 2024 5 zentrale Forderungen an Bildungsministerien\, Hochschulen\, Vorbereitungsdienste und Schulbehörden adressiert. Um den damit verbundenen Prozess weiter voranzubringen\, möchten wir Verantwortungsträger_innen herzlich einladen\, um mit uns weiterzudenken und zu planen\, wie wir für alle Menschen schulische Bildungseinrichtungen zu sichereren demokratischen Orten werden lassen können. \n\n\nZiele der Veranstaltung\n\nBlick auf die Wichtigkeit einer zeitnahen Bearbeitung von Diskriminierung an Schule\nKennenlernen/Abgleich der Forderungen für einen erfolgreichen und ressourcenschonenden Veränderungsprozess\naktuelle Informationen zum Stand der Veränderungsprozesse\nVernetzung mit anderen Akteur_innen und Kennenlernen von best practice bzw. nützlichen Instrumenten\nRegionale Austauschrunden (u.a. Weiterarbeit an den regionalen Bestandsaufnahmen für die Bereiche Schule\, Hochschule und Vorbereitungsdienst/Referendariat und Verabredung konkreter nächste Schritte)\n\n\n\nGeplantes Programm\n\n\n\n\n\nDonnerstag\, 26.09.2024 | 10:00-14:00 Uhr | online\n\n\nZeit\nInhalt\n\n\nab 09:45 Uhr\nAnkommen im Online-Veranstaltungsraum\n\n\n10:00 Uhr\nOffizieller Start und Kennenlernen\n\n\n10:25 Uhr\nAktueller Stand der Bearbeitung von Diskriminierung und des Prozesses\n\n\n10:35 Uhr\nBeispiele für gelungene Praxis \n\n\n11:50 Uhr\nMittagspause\n\n\n12:30 Uhr\nAusblick weitere Strategie\n\n\n12:45 Uhr\nRegionale Austauschrunden\n\n\n13:45 Uhr\nZusammenfassung und Auswertung der Veranstaltung\n\n\n14:00 Uhr\nEnde der Veranstaltung\n\n\n\n\n\n\nZielgruppen für die Veranstaltung\nEingeladen sind Vertreter_innen/Verantwortliche folgender Organisationen: \n\nKultus- bzw. Bildungsministerien der Länder\nHochschulen\nVorbereitungsdienste\nSchulbehörden\nAntidiskriminierungsstellen\n\nWeitere Informationen
URL:https://www.tolerantes-sachsen.de/veranstaltung/fachveranstaltung-anstoss-eines-nachhaltigen-veraenderungsprozesses-zur-bearbeitung-von-diskriminierung-in-schulen-digital/
LOCATION:digital
CATEGORIES:Fachtag | Konferenz
END:VEVENT
END:VCALENDAR