BEGIN:VCALENDAR
VERSION:2.0
PRODID:-//Netzwerk Tolerantes Sachsen - ECPv6.15.18//NONSGML v1.0//EN
CALSCALE:GREGORIAN
METHOD:PUBLISH
X-ORIGINAL-URL:https://www.tolerantes-sachsen.de
X-WR-CALDESC:Veranstaltungen für Netzwerk Tolerantes Sachsen
REFRESH-INTERVAL;VALUE=DURATION:PT1H
X-Robots-Tag:noindex
X-PUBLISHED-TTL:PT1H
BEGIN:VTIMEZONE
TZID:Europe/Berlin
BEGIN:DAYLIGHT
TZOFFSETFROM:+0100
TZOFFSETTO:+0200
TZNAME:CEST
DTSTART:20250330T010000
END:DAYLIGHT
BEGIN:STANDARD
TZOFFSETFROM:+0200
TZOFFSETTO:+0100
TZNAME:CET
DTSTART:20251026T010000
END:STANDARD
BEGIN:DAYLIGHT
TZOFFSETFROM:+0100
TZOFFSETTO:+0200
TZNAME:CEST
DTSTART:20260329T010000
END:DAYLIGHT
BEGIN:STANDARD
TZOFFSETFROM:+0200
TZOFFSETTO:+0100
TZNAME:CET
DTSTART:20261025T010000
END:STANDARD
BEGIN:DAYLIGHT
TZOFFSETFROM:+0100
TZOFFSETTO:+0200
TZNAME:CEST
DTSTART:20270328T010000
END:DAYLIGHT
BEGIN:STANDARD
TZOFFSETFROM:+0200
TZOFFSETTO:+0100
TZNAME:CET
DTSTART:20271031T010000
END:STANDARD
END:VTIMEZONE
BEGIN:VEVENT
DTSTART;TZID=Europe/Berlin:20260226T180000
DTEND;TZID=Europe/Berlin:20260226T200000
DTSTAMP:20260424T022815
CREATED:20260203T110302Z
LAST-MODIFIED:20260203T110302Z
UID:32986-1772128800-1772136000@www.tolerantes-sachsen.de
SUMMARY:Fastenbrechen mit „Klänge der Hoffnung“ Jugendorchester | Leipzig
DESCRIPTION:Das „Klänge der Hoffnung“ Jugendorchester musiziert zum gemeinsamen interreligiösen Fastenbrechen im Ariowitsch-Haus Leipzig. Eine Veranstaltung von Forum Dialog e.V. Der Eintritt ist frei. Für die Teilnahme braucht es eine Anmeldung unter folgendem Link:\nFASTENBRECHEN IM ARIOWITSCH-HAUS (26.02.2026) \nOrt\nKultur- und Begegnungszentrum »Ariowitsch-Haus« e.V.\nHinrichsenstraße 14\n04105 Leipzig \nWeitere Informationen
URL:https://www.tolerantes-sachsen.de/veranstaltung/fastenbrechen-mit-klaenge-der-hoffnung-jugendorchester-leipzig/
LOCATION:Stadt Leipzig
CATEGORIES:Festival | Feier | Jubiläum,Konzert | Theater | Performance
END:VEVENT
BEGIN:VEVENT
DTSTART;VALUE=DATE:20260227
DTEND;VALUE=DATE:20260228
DTSTAMP:20260424T022815
CREATED:20251204T150013Z
LAST-MODIFIED:20251204T150013Z
UID:32458-1772150400-1772236799@www.tolerantes-sachsen.de
SUMMARY:Tagung: Politisch Handeln im autoritären Sog – widerständig & solidarisch | Halle (Saale)
DESCRIPTION:Ob Inklusion und Bleiberecht\, ob Gleichstellung und queere Orte\, ob Umwelt und Kultur: Überall in Sachsen-Anhalt und Sachsen engagieren sich Menschen für ein gutes Leben in einer gerechten und offenen Gesellschaft. \nVielerorts geben jedoch extreme Rechte den Ton an und drängen den Einsatz für Demokratie in den Hintergrund. Der politische Diskurs ist vergiftet. Bedrohung und Gewalt gegen Engagierte und Marginalisierte gehören zum Alltag. Demokratische Initiativen stehen unter Druck\, ihrer Arbeit wird mit Misstrauen und Ablehnung begegnet. In Sachsen-Anhalt drohen im Herbst 2026 ein Wahlsieg der extremen Rechten und ihre Beteiligung an einer Landesregierung. Das hätte verheerende Auswirkungen über das Bundesland hinaus. \nNoch aber ist nichts entschieden. Es gilt\, gemeinsam zu handeln und sich zu wappnen – gegen die Angriffe der extremen Rechten\, widerständig und solidarisch für eine gelebte Demokratie. \nAuf der Tagung wollen wir diskutieren\, was das konkret heißt: Was kann den autoritären Sog stoppen? Worauf müssen wir uns aber auch vorbereiten? Wie fördern wir die Resilienz der demokratischen Zivilgesellschaft? Welche Bündnisse gehen wir ein? Wie stärken wir die vielen Visionen für eine solidarische Zukunft? \nPROGRAMM UND ANMELDUNG ab Januar 2026 auf weiterdenken.de/politisch-handeln \nEine gemeinsame Tagung der Heinrich-Böll-Stiftung Sachsen-Anhalt und Weiterdenken – Heinrich-Böll-Stiftung Sachsen. Diese Tagung findet in Zusammenarbeit statt mit Miteinander – Netzwerk für Demokratie und Weltoffenheit in Sachsen-Anhalt e.V.\, Netzwerk Tolerantes Sachsen und Kulturbüro Sachsen e.V. und wird unterstützt von der Hochschullernwerkstatt der Martin-Luther-Universität. Sie richtet sich an hauptamtlich und ehrenamtlich engagierte Menschen in der Demokratiearbeit\, Wissenschaft und die interessierte Öffentlichkeit. \nWeitere Informationen
URL:https://www.tolerantes-sachsen.de/veranstaltung/tagung-politisch-handeln-im-autoritaeren-sog-widerstaendig-solidarisch-halle-saale/
CATEGORIES:Fachtag | Konferenz
END:VEVENT
BEGIN:VEVENT
DTSTART;VALUE=DATE:20260227
DTEND;VALUE=DATE:20260302
DTSTAMP:20260424T022815
CREATED:20251217T142708Z
LAST-MODIFIED:20251217T142708Z
UID:32622-1772150400-1772409599@www.tolerantes-sachsen.de
SUMMARY:Colored Glasses Schulung für neue Ehrenamtliche | Leipzig
DESCRIPTION:Werde Toleranzbotschafter*in für Schulklassen! \nMit Colored Glasses Workshops begeistern wir Kinder und Jugendliche der 5. bis 13. Klasse an Schulen und Jugendeinrichtungen in ganz Deutschland für Vielfalt und Toleranz. Wir machen uns stark gegen Diskriminierung und Vorurteile durch spannende Simulationen und Diskussionen auf Augenhöhe! \nDie Schulung ist dein Start ins Ehrenamt: Wir zeigen dir\, wie du einen Workshop planst und durchführst. Du bekommst alle Materialien\, um mehr zum Thema zu lernen. Erfahrene Ehrenamtliche geben dir Tipps und Tricks\, damit du auch ohne Vorerfahrung einen echten Unterschied machen kannst. \n  \nAls Colored Glasses-Ehrenamtliche*r…\n… lernst du\, Workshops zu planen und vor Gruppen zu moderieren. \n… wirst du Expert*in\, um Vorurteile & Diskriminierung zu erklären und zu vermeiden. \n… bringst du deine Erfahrungen aus Alltag\, Schule\, Studium\, Auslandsaufenthalten und mehr ein. \n… kannst du dich weiterbilden und mehr Verantwortung übernehmen. \n… bist du Teil eines internationalen Netzwerks von engagierten Menschen. \n  \nDie Anmeldung zur Schulung ist ab sofort hier möglich: Anmeldung Colored Glasses Schulung vom 27. Februar – 1. März 2026 in Leipzig  – Formular ausfüllen. \nColored Glasses Schulungen sind für neue Ehrenamtliche grundsätzlich kostenlos. Du bekommst Übernachtungen und Verpflegung in der Jugendherberge umsonst und wir erstatten dir die Fahrtkosten. Dies wird vor allem durch Spendengelder finanziert\, von Menschen\, die unser Engagement für Vielfalt und Toleranz unterstützen möchten. Bitte sei deshalb verantwortungsvoll und melde dich nur an\, wenn du wirklich planst\, ehrenamtlich aktiv zu werden. Solltest du doch nicht an der Schulung teilnehmen können oder wollen\, denk bitte dran\, dich kurz bei uns abzumelden. \n2026 Flyer CG CG Schulung Leipzig \nWeitere Informationen & Anmeldung
URL:https://www.tolerantes-sachsen.de/veranstaltung/colored-glasses-schulung-fuer-neue-ehrenamtliche-leipzig/
LOCATION:Stadt Leipzig
CATEGORIES:Weiterbildung
END:VEVENT
END:VCALENDAR