BEGIN:VCALENDAR
VERSION:2.0
PRODID:-//Netzwerk Tolerantes Sachsen - ECPv6.15.18//NONSGML v1.0//EN
CALSCALE:GREGORIAN
METHOD:PUBLISH
X-WR-CALNAME:Netzwerk Tolerantes Sachsen
X-ORIGINAL-URL:https://www.tolerantes-sachsen.de
X-WR-CALDESC:Veranstaltungen für Netzwerk Tolerantes Sachsen
REFRESH-INTERVAL;VALUE=DURATION:PT1H
X-Robots-Tag:noindex
X-PUBLISHED-TTL:PT1H
BEGIN:VTIMEZONE
TZID:Europe/Berlin
BEGIN:DAYLIGHT
TZOFFSETFROM:+0100
TZOFFSETTO:+0200
TZNAME:CEST
DTSTART:20250330T010000
END:DAYLIGHT
BEGIN:STANDARD
TZOFFSETFROM:+0200
TZOFFSETTO:+0100
TZNAME:CET
DTSTART:20251026T010000
END:STANDARD
BEGIN:DAYLIGHT
TZOFFSETFROM:+0100
TZOFFSETTO:+0200
TZNAME:CEST
DTSTART:20260329T010000
END:DAYLIGHT
BEGIN:STANDARD
TZOFFSETFROM:+0200
TZOFFSETTO:+0100
TZNAME:CET
DTSTART:20261025T010000
END:STANDARD
BEGIN:DAYLIGHT
TZOFFSETFROM:+0100
TZOFFSETTO:+0200
TZNAME:CEST
DTSTART:20270328T010000
END:DAYLIGHT
BEGIN:STANDARD
TZOFFSETFROM:+0200
TZOFFSETTO:+0100
TZNAME:CET
DTSTART:20271031T010000
END:STANDARD
END:VTIMEZONE
BEGIN:VEVENT
DTSTART;VALUE=DATE:20260227
DTEND;VALUE=DATE:20260302
DTSTAMP:20260424T013725
CREATED:20251217T142708Z
LAST-MODIFIED:20251217T142708Z
UID:32622-1772150400-1772409599@www.tolerantes-sachsen.de
SUMMARY:Colored Glasses Schulung für neue Ehrenamtliche | Leipzig
DESCRIPTION:Werde Toleranzbotschafter*in für Schulklassen! \nMit Colored Glasses Workshops begeistern wir Kinder und Jugendliche der 5. bis 13. Klasse an Schulen und Jugendeinrichtungen in ganz Deutschland für Vielfalt und Toleranz. Wir machen uns stark gegen Diskriminierung und Vorurteile durch spannende Simulationen und Diskussionen auf Augenhöhe! \nDie Schulung ist dein Start ins Ehrenamt: Wir zeigen dir\, wie du einen Workshop planst und durchführst. Du bekommst alle Materialien\, um mehr zum Thema zu lernen. Erfahrene Ehrenamtliche geben dir Tipps und Tricks\, damit du auch ohne Vorerfahrung einen echten Unterschied machen kannst. \n  \nAls Colored Glasses-Ehrenamtliche*r…\n… lernst du\, Workshops zu planen und vor Gruppen zu moderieren. \n… wirst du Expert*in\, um Vorurteile & Diskriminierung zu erklären und zu vermeiden. \n… bringst du deine Erfahrungen aus Alltag\, Schule\, Studium\, Auslandsaufenthalten und mehr ein. \n… kannst du dich weiterbilden und mehr Verantwortung übernehmen. \n… bist du Teil eines internationalen Netzwerks von engagierten Menschen. \n  \nDie Anmeldung zur Schulung ist ab sofort hier möglich: Anmeldung Colored Glasses Schulung vom 27. Februar – 1. März 2026 in Leipzig  – Formular ausfüllen. \nColored Glasses Schulungen sind für neue Ehrenamtliche grundsätzlich kostenlos. Du bekommst Übernachtungen und Verpflegung in der Jugendherberge umsonst und wir erstatten dir die Fahrtkosten. Dies wird vor allem durch Spendengelder finanziert\, von Menschen\, die unser Engagement für Vielfalt und Toleranz unterstützen möchten. Bitte sei deshalb verantwortungsvoll und melde dich nur an\, wenn du wirklich planst\, ehrenamtlich aktiv zu werden. Solltest du doch nicht an der Schulung teilnehmen können oder wollen\, denk bitte dran\, dich kurz bei uns abzumelden. \n2026 Flyer CG CG Schulung Leipzig \nWeitere Informationen & Anmeldung
URL:https://www.tolerantes-sachsen.de/veranstaltung/colored-glasses-schulung-fuer-neue-ehrenamtliche-leipzig/
LOCATION:Stadt Leipzig
CATEGORIES:Weiterbildung
END:VEVENT
BEGIN:VEVENT
DTSTART;TZID=Europe/Berlin:20260302T180000
DTEND;TZID=Europe/Berlin:20260302T233000
DTSTAMP:20260424T013725
CREATED:20260216T104041Z
LAST-MODIFIED:20260216T104041Z
UID:33118-1772474400-1772494200@www.tolerantes-sachsen.de
SUMMARY:Dagesh-Studio on the Road · #Purim Edition | Dresden
DESCRIPTION:Podiumsgespräch | Live Performance | Purim Party \n2. März 2026 | Dresden\n \nKuration: Daniel Laufer \nPurim – das jüdische Fest der Selbstbehauptung und Befreiung – feiert die transformative Kraft von Maskerade und Enthüllung. Ausgehend von dieser Tradition untersucht der Abend das Wechselspiel zwischen Verbergen und Offenbaren\, zwischen Selbstinszenierung und Selbstverleugnung. Purim wird hier zum Prisma\, um das Wechselspiel von Maskerade\, Spiegelung und widersprüchlichen Realitäten in der Gegenwart zu befragen. \nDas Format verbindet Werkschau\, Podiumsgespräch und Live-Performance mit einer anschließenden Purim-Party in der Synagoge. Dagesh-Künstler*innen präsentieren Arbeiten aus Literatur\, Malerei\, Fotografie\, Film und Performance\, die zentrale Motive von Purim aufgreifen: Wie werden Masken zu Schutz oder zur Selbstoffenbarung? Wann ermöglicht Verkleidung Befreiung\, wann wird sie zur Verstellung?\nDie künstlerischen Positionen verbinden dabei künstlerische Praxis\, literarische Perspektiven\, performative und filmische Bildpolitiken. Sie öffnen einen Reflexionsraum für grundlegende Fragen: Wann verstecken wir uns hinter Rollen\, und wann setzen wir sie bewusst ein? Wie prägen gesellschaftliche Erwartungen unsere Identität? Wo liegt die Grenze zwischen Anpassung und Selbstaufgabe – und wann wird das Ablegen der Maske zur Notwendigkeit?\nPurim wird so zum Ausgangspunkt einer universellen Auseinandersetzung mit Identität als dynamischem Prozess zwischen Fremdbild und Selbstbestimmung. Der Abend richtet sich an alle\, die sich für zeitgenössische Kunst\, Identitätsfragen und den Umgang mit gesellschaftlichen Rollen interessieren. \n\nPROGRAMM\nÖffentliche Veranstaltung \n„Purim-Prisma zwischen Schein und Sein. Transformation und Enthüllung als künstlerische Praxis”\n18:00 – 21:00 Uhr\nPodiumsgespräch & Live Performance\nmit Anna Shapiro\, Lana Lux\, Benyamin Reich\, Yehuda Kornfeld und weiteren Künstler*innen \nPurim-Party\n21:00 – 24:00 Uhr\nin Kooperation mit Nevatim und der Jüdischen Kultusgemeinde Dresden e.V.\,\nmit dem Berliner DJ-Duo BalaganSisters \n„Purim-Prisma zwischen Schein und Sein. Transformation und Enthüllung als künstlerische Praxis” ist Teil der bundesweiten Reihe Dagesh-Studio on the Road\, die zeitgenössische jüdische Positionen in der Gegenwartskunst sichtbar macht. \nAnmeldung hier. \nWeitere Informationen
URL:https://www.tolerantes-sachsen.de/veranstaltung/dagesh-studio-on-the-road-%c2%b7-purim-edition-dresden/
LOCATION:Stadt Dresden
CATEGORIES:Festival | Feier | Jubiläum,Podium | Gespräch
END:VEVENT
BEGIN:VEVENT
DTSTART;TZID=Europe/Berlin:20260311T193000
DTEND;TZID=Europe/Berlin:20260311T213000
DTSTAMP:20260424T013725
CREATED:20260203T110435Z
LAST-MODIFIED:20260217T144959Z
UID:32989-1773257400-1773264600@www.tolerantes-sachsen.de
SUMMARY:Foto- und Gesprächsabend 10 Jahre "Klänge der Hoffnung" | Leipzig
DESCRIPTION:Am Mittwoch\, den 11.03.2026 um 19.30 Uhr laden wir ins Café Koko (Gottschedstraße 10\, Leipzig) ein. Wir wollen gemeinsam auf 10 Jahre „Klänge der Hoffnung“ und 5 Jahre „Klänge der Hoffnung“ Orchester zurückblicken – mit Fotos aus unserer Geschichte und ein paar Gästen. Eintritt frei. Da die Platzanzahl begrenzt ist\, bitten wir um Anmeldung per E-Mail an: orchester@transkulturelles-musikforum.de. \nWeitere Informationen
URL:https://www.tolerantes-sachsen.de/veranstaltung/foto-und-gespraechsabend-10-jahreklaenge-der-hoffnung-leipzig/
LOCATION:Stadt Leipzig
CATEGORIES:Festival | Feier | Jubiläum
END:VEVENT
BEGIN:VEVENT
DTSTART;TZID=Europe/Berlin:20260319T093000
DTEND;TZID=Europe/Berlin:20260319T153000
DTSTAMP:20260424T013725
CREATED:20260216T104530Z
LAST-MODIFIED:20260216T104530Z
UID:33121-1773912600-1773934200@www.tolerantes-sachsen.de
SUMMARY:Workshop Kunst- und Kulturveranstaltungen antisemitismussensibel gestalten | Dresden
DESCRIPTION:Anmeldefrist: 13.03.2026 | \nAntisemitismus ist nicht nur in politischen Debatten\, sondern auch im Kunst- und Kulturbereich häufig präsent. \n\n\nKulturveranstaltungen können Orte des Austauschs\, der Solidarität und Kritik sein\, aber auch Räume\, in denen antisemitische Bilder\, Erzählungen oder Ausschlüsse sichtbar werden – bewusst oder unbewusst. Aus Unsicherheit wird das Thema oft vermieden\, anstatt sich damit auseinanderzusetzen. \nDer Workshop vermittelt Grundlagen zu Antisemitismus im Kunst- und Kulturbereich. Er stärkt antisemitismuskritisches Denken und gibt eine erste Orientierung dafür\, wie Veranstaltungen antisemitismuskritisch geplant\, kommuniziert und gestaltet werden.\nAußerdem nehmen wir die Perspektiven jüdischer Künstler*innen sowie die Vielfalt jüdischen Lebens in den Blick – ohne diese auf Antisemitismus zu reduzieren.\nDurch partizipative Methoden\, praxisnahe Beispiele und die Arbeit an konkreten Handlungsstrategien ist der Workshop so praxisnah gestaltet\, wie möglich. \nZiele des Workshops \n\nSensibilisierung für Antisemitismus im Kunst- und Kulturbereich\nStärkung antisemitismuskritischen Denkens\nMehr Handlungssicherheit bei Kulturveranstaltungen\nSichtbarmachung jüdischer Perspektiven und Vielfalt\nDer Workshop richtet sich an Multiplikator*innen aus der (Sozio-)Kultur & Kulturvermittlung sowie aus der Bildungs- und Jugendarbeit und aus migrantischen Strukturen.\n\nDie Referentin: Kristina Omelchenko ist Literatur- und Erziehungswissenschaftlerin und freiberuflich in der politischen Bildungsarbeit tätig. Sie ist Mitglied im Dagesh-Künstler*innen-Netzwerk und dort Bildungsreferentin für Kunstworkshops. \nDie Teilnahme ist kostenlos. \nWann und Wo\nDonnerstag\, 19. März 2026 // 9:30 – 15:30 Uhr (inkl. Mittagspause) // 01067 Dresden (Ort nach Anmeldung) \nRahmen: \nDie Veranstaltung findet in deutscher Lautsprache statt.\nDer Veranstaltungsort ist mit Rollstuhl leider nicht zugänglich. Für weitere Informationen wendet euch gerne per Mail an „ReflAct“. \nIm Vorfeld wird es eine Vorab-Umfrage geben\, in der die Teilnehmenden Wünsche bzgl. der Inhalte und etwaiger Barrieren angeben können. \nFür Snacks und ein kleines veganes Mittagsessen ist gesorgt. Bitte teilt uns bei der Anmeldung eure Unverträglichkeiten mit. \nAlle Teilnehmenden sind für die Einhaltung eines diskriminierungsarmen Raums und Umgangs verantwortlich. Bei diskriminierendem Vorfällen behält es sich das Orgateam vor\, Personen vom Workshop auszuschließen. \nBitte meldet euch bis zum 13. März unter folgendem Link an – die Plätze sind begrenzt: hier. \nWeitere Informationen
URL:https://www.tolerantes-sachsen.de/veranstaltung/workshop-kunst-und-kulturveranstaltungen-antisemitismussensibel-gestalten-dresden/
LOCATION:Stadt Dresden
CATEGORIES:Seminar | Workshop
END:VEVENT
BEGIN:VEVENT
DTSTART;TZID=Europe/Berlin:20260321T160000
DTEND;TZID=Europe/Berlin:20260321T220000
DTSTAMP:20260424T013725
CREATED:20260108T103840Z
LAST-MODIFIED:20260217T144829Z
UID:32744-1774108800-1774130400@www.tolerantes-sachsen.de
SUMMARY:Meißen tanzt gegen Rassismus | Meißen
DESCRIPTION:Am 21.03.2025 kommen wir erneut zusammen\, um Haltung zu zeigen\, Solidarität zu leben und gemeinsam zu feiern. \nFreut euch auf Livemusik\, Workshops\, Infostände\, einen Skatecontest mit Preisen und vieles mehr! \nBesonders freuen wir uns über die Unterstützung von Jakob Springfeld\, Aktivist und Autor aus Zwickau\, der an diesem Abend mit dabei ist. \nLive auf der Bühne: \nFeurigSeinPeter – Bluten – Lohrge – Tancred – Undankbar \nUnterstützt werden wir außerdem von Polylux\, Kein Bock auf Nazis und dem Eckpunktkollektiv. \nKommt zahlreich vorbei – gemeinsam Flagge zeigen\, gemeinsam feiern\, gemeinsam gegen Rassismus! \nWann: 21.03.2026\nWo: Akti Meißen\nEinlass: 16:00 Uhr\nBeginn: 17:00 Uhr \nWeitere Informationen
URL:https://www.tolerantes-sachsen.de/veranstaltung/meissen-tanzt-gegen-rassismus-meissen/
LOCATION:Landkreis Meißen
CATEGORIES:Festival | Feier | Jubiläum
END:VEVENT
END:VCALENDAR