BEGIN:VCALENDAR
VERSION:2.0
PRODID:-//Netzwerk Tolerantes Sachsen - ECPv6.15.18//NONSGML v1.0//EN
CALSCALE:GREGORIAN
METHOD:PUBLISH
X-ORIGINAL-URL:https://www.tolerantes-sachsen.de
X-WR-CALDESC:Veranstaltungen für Netzwerk Tolerantes Sachsen
REFRESH-INTERVAL;VALUE=DURATION:PT1H
X-Robots-Tag:noindex
X-PUBLISHED-TTL:PT1H
BEGIN:VTIMEZONE
TZID:Europe/Berlin
BEGIN:DAYLIGHT
TZOFFSETFROM:+0100
TZOFFSETTO:+0200
TZNAME:CEST
DTSTART:20250330T010000
END:DAYLIGHT
BEGIN:STANDARD
TZOFFSETFROM:+0200
TZOFFSETTO:+0100
TZNAME:CET
DTSTART:20251026T010000
END:STANDARD
BEGIN:DAYLIGHT
TZOFFSETFROM:+0100
TZOFFSETTO:+0200
TZNAME:CEST
DTSTART:20260329T010000
END:DAYLIGHT
BEGIN:STANDARD
TZOFFSETFROM:+0200
TZOFFSETTO:+0100
TZNAME:CET
DTSTART:20261025T010000
END:STANDARD
BEGIN:DAYLIGHT
TZOFFSETFROM:+0100
TZOFFSETTO:+0200
TZNAME:CEST
DTSTART:20270328T010000
END:DAYLIGHT
BEGIN:STANDARD
TZOFFSETFROM:+0200
TZOFFSETTO:+0100
TZNAME:CET
DTSTART:20271031T010000
END:STANDARD
END:VTIMEZONE
BEGIN:VEVENT
DTSTART;TZID=Europe/Berlin:20260603T190000
DTEND;TZID=Europe/Berlin:20260603T213000
DTSTAMP:20260424T023457
CREATED:20260421T091458Z
LAST-MODIFIED:20260421T092716Z
UID:33939-1780513200-1780522200@www.tolerantes-sachsen.de
SUMMARY:Festkonzert: 10 Jahre "Klänge der Hoffnung" | Leipzig
DESCRIPTION:Wir freuen uns auf unser Konzert zum 10-jährigen Jubiläum im Gewandhaus\, das unter der Schirmherrschaft von Oberbürgermeister Burkhard Jung steht. \nMit dabei sind:\nKarolina Trybala (Gesang) „Klänge der Hoffnung“ Orchester\, Jugendorchester und Ensemble.\nBanda Comunale (Dresden)\, ChorAlle (Leipzig)\, Kinder– und Jugendchor der Kirchgemeinde im Leipziger Süden\, Leipziger Synagogalchor\,\nGesamtleitung: Ali Pirabi & Tilmann Löser \nEs erklingen transkulturelle Kompositionen mit Einflüssen aus arabischer\, persischer\, polnischer und jüdischer Musik. Die Werke spiegeln musikalische Vielfalt\, transkulturellen Dialog und das Zusammenwirken unterschiedlicher Traditionen in einem gemeinsamen klanglichen Raum wider. Die Veranstaltung findet im Rahmen von „Tacheles – Jahr der jüdischen Kultur in Sachsen 2026“ statt. \nOrt\nGewandhaus Leipzig / Großer Saal\nAugustusplatz 8\nLeipzig\, 04109 \nWeitere Informationen & Kartenkauf
URL:https://www.tolerantes-sachsen.de/veranstaltung/festkonzert-10-jahre-klaenge-der-hoffnung-leipzig/
LOCATION:Stadt Leipzig
CATEGORIES:Konzert | Theater | Performance
END:VEVENT
BEGIN:VEVENT
DTSTART;VALUE=DATE:20260620
DTEND;VALUE=DATE:20260621
DTSTAMP:20260424T023457
CREATED:20260422T113114Z
LAST-MODIFIED:20260422T113114Z
UID:33971-1781913600-1781999999@www.tolerantes-sachsen.de
SUMMARY:Colour the Mountains #3 | Zwönitz
DESCRIPTION:Die Moosheide in Zwönitz wird wieder von Agenda Alternativ heimgesucht. Und im Gepäck haben wir ein extrem gutes musikalisches Package\, bei dem euch die Löffeln glühen werden. \nUnterstützt uns doch gerne durch ein Ticket im Vorverkauf > \nUnd sagt es vor allem weiter. Teilt den Flyer überall\, wo es geht – vielen Dank! \nWeitere Informationen
URL:https://www.tolerantes-sachsen.de/veranstaltung/colour-the-mountains-3-zwoenitz/
LOCATION:Erzgebirgskreis
CATEGORIES:Festival | Feier | Jubiläum
END:VEVENT
END:VCALENDAR